Workbook

Sheet Акт
A1: АКТ № 106/3-2017
A2: приемки оказанных услуг и (или) выполненных работ по содержанию и текущему ремонту общего имущества в многоквартирном доме № 3 квартала 106.
A3: г. Ангарск | D3: "31" марта 2018 г.
A5: Наименование вида работы (услуги) | B5: Периодичность/ количественный показатель выполненной работы (оказанной услуги) | C5: Единица измерения работы (услуги) | D5: Стоимость /сметная стоимость выполненной работы (оказанной услуги) за единицу | E5: Цена выполненной работы (оказанной услуги), в рублях
A6: Аварийное обслуживание
A7: Аварийное обслуживание | B7: Ежедневно | C7: руб. | D7: =E7 -> 4236.8 | E7: 4236.8
A8: Благоустройство
A9: Валка, обрезка деревьев с вывозом | B9: По факту | C9: руб. | D9: =E9 -> 9925.75 | E9: 9925.75
A10: Выкашивание газонов | B10: 1700 | C10: м2 | D10: =E10/B10 -> 3.9500059 | E10: 6715.01
A11: Вывоз и утилизация ТКО, в т.ч. крупногабаритного мусора
A12: Услуги по вывозу и утилизации ТБО, в т.ч. крупногабаритного мусора | B12: Ежедневно | C12: руб. | D12: =E12 -> 65181.6 | E12: 65181.6
A13: Коммунальные ресурсы на содержание общ. имущества МКД
A14: ГВС на содержание общ. имущества | B14: По факту | C14: руб. | D14: =E14 -> 3496.52 | E14: 3496.52
A15: Отведение сточных вод на содержание общ. имущества | B15: По нормативу | C15: руб. | D15: =E15 -> 2224.8 | E15: 2224.8
A16: ХВС на содержание общ. имущества | B16: По нормативу | C16: руб. | D16: =E16 -> 1882.08 | E16: 1882.08
A17: Электрическая энергия на содержание общ. имущества | B17: По факту | C17: руб. | D17: =E17 -> 9685.05 | E17: 9685.05
A18: Обслуживание газового оборудования
A19: Диагностирование газового оборудования | B19: По факту | C19: руб. | D19: =E19 -> 62400 | E19: 62400
A20: Обслуживание и текущий ремонт электрооборудования жилых домов
A21: Обслуживание и текущий ремонт электрооборудования жилых домов | B21: По факту | C21: руб. | D21: =E21 -> 13227.39 | E21: 13227.39
A22: Обслуживание инженерного оборудования
A23: Временная заделка свищей и трещин на внутренних трубопроводах и стояках. | B23: 1 | C23: 1 место | D23: =E23/B23 -> 176.44 | E23: 176.44
A24: Запуск потока воды: отопление, ГВС | B24: 1 | C24: 1 узел | D24: =E24/B24 -> 77.47 | E24: 77.47
A25: Запуск системы отопления. | B25: 1 | C25: 1 здание | D25: =E25/B25 -> 796.94 | E25: 796.94
A26: Опрессовка ТУ диаметром: до 100 мм | B26: 0.09 | C26: 100 м | D26: =E26/B26 -> 4450.7778 | E26: 400.57
A27: Осмотр системы центрального отопления, устройств в чердачных и подвальных помещениях. | B27: 2.08 | C27: 1000 м2 | D27: =E27/B27 -> 1582.1683 | E27: 3290.91
A28: Осмотр СТО | B28: 0.19 | C28: 100 квартир | D28: =E28/B28 -> 21427.632 | E28: 4071.25
A29: Осмотр СТО в чердачных и подвальных помещениях (весенний и осенний) | B29: 1.7 | C29: 1000 м2 | D29: =E29/B29 -> 1559.1 | E29: 2650.47
A30: Осмотр, РХВ замеры | B30: 0.01 | C30: 100 шт. | D30: =E30/B30 -> 24653 | E30: 246.53
A31: Отключение системы отопления (консервация) - прим. | B31: 1 | C31: 1 здание | D31: =E31/B31 -> 384.58 | E31: 384.58
A32: Очистка канализационной сети: внутренней | B32: 0.27 | C32: 100 м | D32: =E32/B32 -> 12762.407 | E32: 3445.85
A33: Перевод отопления с подачи на обратку или с обратки на подачу | B33: 5 | C33: узел | D33: =E33/B33 -> 151.42 | E33: 757.1
A34: Перекрытие потока воды: отопление, ГВС | B34: 1 | C34: 1 узел | D34: =E34/B34 -> 62.2 | E34: 62.2
... A39: Снятие и запись замера в наряде (ИТП,РХВ) | B39: 29 | C39: 1 ИТП | D39: =E39/B39 -> 226.88759 | E39: 6579.74
A40: Обслуживание конструктивных элементов
A41: Осмотр кровли, чердака | B41: 0.8 | C41: 1000 м2 | D41: =E41/B41 -> 1705.35 | E41: 1364.28
A42: Осмотр кровли, чердака, люков | B42: 0.17 | C42: 1000 м2 | D42: =E42/B42 -> 1556.2353 | E42: 264.56
A43: Осмотр кровли, чердака, подъездов, подвального помещения - весенний осмотр | B43: 1.532 | C43: 1000 м2 | D43: =E43/B43 -> 1557.1018 | E43: 2385.48
A44: Очистка воронки и колен от мусора (вышка) | B44: 1 | C44: шт | D44: =E44/B44 -> 711.86 | E44: 711.86
A45: Очистка желобов от мусора: вручную (при расчете 1 кг. мусора = 1 м 1 желоба) с вышки | B45: 6 | C45: м | D45: =E45/B45 -> 225.325 | E45: 1351.95
...

Sheet Бюджет
A1: Отчет по бюджету №106/3-2017
A3: Период: с 01.01.2017 по 31.12.2017 года.
A5: Строение / По типу работ | B5: Расходы | C5: Начисления | D5: Поступления
A6: Долг за выполненные работы на 01.01.2017 г. | B6: 279405.81
A7: Cодержание жилья | C7: 326885.76 | D7: 309659.76
A8: Аренда общего имущества МКД | C8: 2500 | D8: 3768.32
A9: Вывоз и утилизация ТКО | C9: 65181.6 | D9: 66754.98
A10: ГВС на содержание общ. имущества | C10: 7150.47 | D10: 4187.5
A11: Обслуживание ВДГО | C11: 4562.76 | D11: 4465.52
A12: Обслуживание ОДПУ | C12: 21509.88 | D12: 15929.79
A13: Отведение сточных вод на содержание общ. им-ва | C13: 2224.8
A14: ХВС на содержание общ. имущества | C14: 1882.08 | D14: 2551.34
A15: Электрическая энергия на содержание общ. имущества | C15: 14048.62 | D15: 4304.25
A16: Аварийное обслуживание | B16: =Акт!E7 -> 4236.8
A17: Благоустройство | B17: =SUM(Акт!E9:E10) -> 16640.76
A18: Вывоз и утилизация ТКО, в т.ч. крупногабаритного мусора | B18: =Акт!E12 -> 65181.6
A19: Коммунальные ресурсы на содержание общ. имущества МКД | B19: =SUM(Акт!E14:E17) -> 17288.45
A20: Обслуживание газового оборудования | B20: =Акт!E19 -> 62400
A21: Обслуживание и текущий ремонт электрооборудования жилых домов | B21: =Акт!E21 -> 13227.39
A22: Обслуживание инженерного оборудования | B22: =SUM(Акт!E23:E39) -> 49291.72
A23: Обслуживание конструктивных элементов | B23: =SUM(Акт!E41:E52) -> 26898.96
A24: Обслуживание ОДПУ | B24: =Акт!E54 -> 21600
A25: Текущий ремонт инженерного оборудования | B25: =Акт!E56 -> 776.1
A26: Текущий ремонт конструктивных элементов жилых зданий | B26: =SUM(Акт!E58:E65) -> 6970.81
A27: Транспортные расходы | B27: =SUM(Акт!E67:E68) -> 6687.23
A28: Уборка лестничных клеток | B28: =Акт!E70 -> 56707.99
A29: Уборка придомовой территории | B29: =Акт!E72 -> 102661.02
A30: Услуги по управлению МКД | B30: =Акт!E74 -> 44594.6
A31: Итого: | B31: =SUM(B7:B30) -> 495163.43 | C31: =SUM(C7:C30) -> 445945.97 | D31: =SUM(D7:D30) -> 411621.46
A32: Долг за выполненные работы (доходы за минусом расходов) на 01.01.2018 г. - 362 947,78 руб. | E32: =D31-B6-B31 -> -362947.78
A33: Задолженность по оплате за содержание и текущий ремонт на 01.01.2018 г. - 99 392,68 руб.
A35: Директор ООО "ЖЭУ №6" Плотников А.А. __________________
A36: Отчет составил: экономист Сундукова Ю.А. _______________
A37: Отчет получил: ________________________________________________________
A38: Дата __________________

Sheet 2018
A1: Отчет по бюджету № 106/3-2018
A3: Период: с 01.01.2018 по 31.12.2018 года.
A5: ОБЩИЕ СВЕДЕНИЯ ОБ ОБЪЕКТЕ
A6: Этажность | B6: 4 | C6: Общая жилая площадь, м2 | D6: 2715.9 | E6: Площадь кровли, м2 | F6: 1230
A7: Количество подъездов | B7: 3 | C7: Площадь нежилых помещений, м2 | D7: 0 | E7: Площадь чердаков, м2 | F7: 820
A8: Количество квартир | B8: 48 | C8: Площадь л/ клеток, тамбуров, лифтов, м/камер, м2 | D8: 282.9 | E8: Площадь подвалов, м2 | F8: 712.8
A11: Наименование | F11: Значение
A12: Списание долга за выполненые работы на 01.01.2015 | F12: 234614.35
A13: Переходящие остатки денежных средств за выполненые работы (на начало периода; + резерв, - долг) | F13: =-362947.78+F12 -> -128333.43
A14: Задолженность по оплате за содержание и текущий ремонт общего имущества МКД (на начало периода) | F14: 87124.66
A15: Начислено за работы (услуги) по содержанию и текущему ремонту и аренду общего имущества МКД, в том числе: | F15: =SUM(F16:F18) -> 448391.47
A16: - за жилые помещения | F16: =432670.61+13470.86 -> 446141.47
A17: - за нежилые помещения
A18: - за рекламу и аренду общего имущества МКД | F18: 2250
A19: Получено денежных средств, в т. ч: | F19: =SUM(F20:F22) -> 460580.31
A20: - за жилые помещения | F20: 458517.81
A21: - за нежилые помещения
A22: - за рекламу и аренду общего имущества МКД | F22: 2062.5
A23: Всего денежных средств с учетом остатков | F23: =F13+F19 -> 332246.88
A24: Выполненные работы (оказанные услуги) по содержанию общего имущества и текущему ремонту в отчетном периоде | F24: ='Акт (2)'!E87 -> 469903.63
A25: Переходящие остатки денежных средств за выполненые работы (на конец периода; + резерв, - долг) | F25: =F23-F24 -> -137656.75
A26: Задолженность по оплате за содержание и текущий ремонт общего имущества МКД (на конец периода) | F26: =F14+F15-F19 -> 74935.82
A28: Директор ООО "ТРЭК" Плотников А.А. __________________
A29: Отчет составил: экономист Осипова М.С. _______________
A30: Отчет получил: ________________________________________________________
A31: Дата __________________

Sheet Акт (2)
A1: АКТ № 106/3-2018
A2: приемки оказанных услуг и (или) выполненных работ по содержанию и текущему ремонту общего имущества в многоквартирном доме № 3 квартала 106.
A3: г. Ангарск | D3: "31" марта 2019 г.
A5: Наименование вида работы (услуги) | B5: Периодичность/ количественный показатель выполненной работы (оказанной услуги) | C5: Единица измерения работы (услуги) | D5: Стоимость /сметная стоимость выполненной работы (оказанной услуги) за единицу | E5: Цена выполненной работы (оказанной услуги), в рублях
A6: Аварийное обслуживание
A7: Аварийное обслуживание | B7: Ежедневно | C7: руб. | D7: =E7 -> 4236.8 | E7: 4236.8
A8: Благоустройство
A9: Завоз песка, ПГС, щебня, земли | B9: По факту | C9: руб. | D9: =E9 -> 500 | E9: 500
A10: Окраска известковыми составами: по кирпичу и бетону (бордюр. столбики, столбы) | B10: 0.279 | C10: 100 м2 | D10: =E10/B10 -> 4721.9713 | E10: 1317.43
A11: Очистка вручную поверхности фасадов от перхлорвиниловых и масляных красок: с люлей | B11: 0.2 | C11: 100 м2 | D11: =E11/B11 -> 27970.55 | E11: 5594.11
A12: Вывоз и утилизация ТКО, в т.ч. крупногабаритного мусора
A13: Вывоз и утилизация ТКО, в т.ч. крупногабаритный мусор | B13: Ежедневно | C13: руб. | D13: =E13 -> 65181.6 | E13: 65181.6
A14: Коммунальные ресурсы на содержание общ. имущества МКД
A15: Коммунальные ресурсы на содержание общего имущества МКД | B15: По факту | C15: руб. | D15: =E15 -> 23898.75 | E15: 23898.75
A16: Обслуживание газового оборудования
A17: Техобслуживание газового оборудования | B17: По смете | C17: 1 стояк | D17: =E17 -> 10657.76 | E17: 10657.76
A18: Обслуживание и текущий ремонт электрооборудования жилых домов
A19: Обслуживание и текущий ремонт электрооборудования жилых домов | B19: По договору | C19: руб. | D19: =E19 -> 8286.35 | E19: =1609.56+6676.79 -> 8286.35
A20: Обслуживание инженерного оборудования
A21: Запуск потока воды: отопление, ГВС | B21: 1 | C21: 1 узел | D21: =E21/B21 -> 83.75 | E21: 83.75
A22: Запуск системы отопления. | B22: 1 | C22: 1 здание | D22: =E22/B22 -> 839.52 | E22: 839.52
A23: Ликвидация воздушных пробок в системе отопления, в стояке | B23: 1 | C23: 1 стояк | D23: =E23/B23 -> 472.47 | E23: 472.47
A24: Опрессовка ТУ диаметром: до 100 мм | B24: 0.09 | C24: 100 м | D24: =E24/B24 -> 6088.8889 | E24: 548
A25: Осмотр выпусков канализации (засоры, подпоры) прим. | B25: 1 | C25: 1 здание | D25: =E25/B25 -> 254.67 | E25: 254.67
A26: Осмотр подвальных помещений (засоры, подпоры) прим. | B26: 0.54 | C26: 1000 м2 | D26: =E26/B26 -> 1726.1296 | E26: 932.11
A27: Осмотр СТО | B27: 0.09 | C27: 100 квартир | D27: =E27/B27 -> 25485.444 | E27: 2293.69
A28: Осмотр СТО в чердачных и подвальных помещениях (весенний и осенний) | B28: 6.359 | C28: 1000 м2 | D28: =E28/B28 -> 1693.5367 | E28: 10769.2
A29: Осмотр, замеры, опломбировка ПУ Т/У с представителем | B29: 0.01 | C29: 100 шт. | D29: =E29/B29 -> 25071 | E29: 250.71
A30: Отключение системы отопления (консервация) - прим. | B30: 1 | C30: 1 здание | D30: =E30/B30 -> 503.4 | E30: 503.4
A31: Очистка канализационной сети: внутренней | B31: 0.22 | C31: 100 м | D31: =E31/B31 -> 14608.273 | E31: 3213.82
A32: Перевод отопления с подачи на обратку или с обратки на подачу | B32: 3 | C32: узел | D32: =E32/B32 -> 208.17 | E32: 624.51
... A37: Снятие и запись замера в наряде (ИТП,РХВ) | B37: 26 | C37: 1 ИТП | D37: =E37/B37 -> 254.18654 | E37: 6608.85
A38: Обслуживание конструктивных элементов
A39: Закрытие подъездного окна | B39: 2.4 | C39: 10 шт. | D39: =E39/B39 -> 1928.2625 | E39: 4627.83
A40: Закрытие слуховых окон и люков выхода на кровлю | B40: 0.2 | C40: 10 шт. | D40: =E40/B40 -> 1920.45 | E40: 384.09
A41: Осмотр квартир | B41: 0.01 | C41: 100 квартир | D41: =E41/B41 -> 22803 | E41: 228.03
A42: Осмотр кровли, чердака, люков | B42: 0.17 | C42: 1000 м2 | D42: =E42/B42 -> 1760.7647 | E42: 299.33
A43: Осмотр кровли, чердака, подъездов, подвального помещения -подготовка к зиме | B43: 1.814 | C43: 1000 м2 | D43: =E43/B43 -> 1651.2459 | E43: 2995.36
A44: Очистка кровли от снега, сбивание сосулей | B44: 90.5 | C44: 1 м 2 основания | D44: =E44/B44 -> 75.967403 | E44: 6875.05
A45: Очистка желобов от мусора: вручную (при расчете 1 кг. мусора = 3 м 1 желоба) - в. | B45: 125 | C45: м | D45: =E45/B45 -> 68.92792 | E45: 8615.99
...

Sheet 2019
A1: Отчет по бюджету № 106/3-2019
A3: Период: с 01.01.2019 по 31.12.2019 года.
A5: ОБЩИЕ СВЕДЕНИЯ ОБ ОБЪЕКТЕ
A6: Этажность | B6: 4 | C6: Общая жилая площадь, м2 | D6: 2709.6 | E6: Площадь кровли, м2 | F6: 1230
A7: Количество подъездов | B7: 3 | C7: Площадь нежилых помещений, м2 | D7: 0 | E7: Площадь чердаков, м2 | F7: 820
A8: Количество квартир | B8: 48 | C8: Площадь л/ клеток, тамбуров, лифтов, м/камер, м2 | D8: 282.9 | E8: Площадь подвалов, м2 | F8: 712.8
A11: Наименование | F11: Значение
A12: Переходящие остатки денежных средств за выполненые работы (на начало периода; + резерв, - долг) | F12: -137656.75
A13: Задолженность по оплате за содержание и текущий ремонт общего имущества МКД (на начало периода) | F13: 74935.82
A14: Начислено за работы (услуги) по содержанию и текущему ремонту и аренду общего имущества МКД, в том числе: | F14: =SUM(F15:F17) -> 461686.83
A15: - за жилые помещения | F15: =200+447021.31+11990.52 -> 459211.83
A16: - за нежилые помещения
A17: - за рекламу и аренду общего имущества МКД | F17: 2475
A18: Получено денежных средств, в т. ч: | F18: =SUM(F19:F21) -> 414778.02
A19: - за жилые помещения | F19: =200+412171.77 -> 412371.77
A20: - за нежилые помещения
A21: - за рекламу и аренду общего имущества МКД | F21: 2406.25
A22: Всего денежных средств с учетом остатков | F22: =F12+F18 -> 277121.27
A23: Выполненные работы (оказанные услуги) по содержанию общего имущества и текущему ремонту в отчетном периоде | F23: =Лист2!E83 -> 328178.66
A24: Переходящие остатки денежных средств за выполненые работы (на конец периода; + резерв, - долг) | F24: =F22-F23 -> -51057.396
A25: Задолженность по оплате за содержание и текущий ремонт общего имущества МКД (на конец периода) | F25: =F13+F14-F18 -> 121844.63
A27: Директор ООО "ТРЭК" Плотников А.А. __________________
A28: Отчет составил: экономист Осипова М.С. _______________
A29: Отчет получил: ________________________________________________________
A30: Дата __________________

Sheet Лист2
A2: .
B3: АКТ № 106/3
B4: приемки оказанных услуг и (или) выполненных работ по содержанию
B5: и текущему ремонту общего имущества в многоквартирном доме
A6: г. Ангарск | E6: 31 марта 2020 г.
A8: Собственники помещений в многоквартином доме, расположенном по адресу: ________________________ , именуемые в дальнейшем "Заказчик", в лице ___________________________________________________________________________________,
A9: являющегося собственником квартиры № _____, находящейся в данном многоквартирном доме, действующего на основании протокола общего собрания собственников, с одной стороны, и управляющая компания ООО "ТРЭК", именуемая в дальнейшем
A10: "Исполнитель", в лице директора Плотникова А.А., действующего на основании Устава, с другой стороны, совместно именуемые "Стороны", составили настоящий акт о нижеследующем:
A11: 1. Исполнителем предъявлены к приемке следующие оказанные на основании договора управления многоквартирным домом или договора оказания услуг по содержанию и (или) выполнению работ по ремонту общего имущества в многоквартирном
A12: доме, либо договора подряда по выполнению работ по ремонту общего имущества в многоквартирном доме (указать нужное) № _______ от "____" ___________________ ______ г. (далее - "Договор") услуги и (или) выполненные работы по содержанию
A13: и текущему ремонту общего имущества в многоквартирном доме № _____, расположенном по адресу: ______________________:
A15: Наименование вида работы (услуги) | B15: Периодичность / количественный показатель выполненной работы (оказанной услуги) | C15: Единица измерения работы (услуги) | D15: Стоимость / сметная стоимость выполненной работы (оказанной услуги) за единицу | E15: Цена выполненной работы (оказанной услуги), в рублях
A16: Аварийное обслуживание
A17: Аварийное обслуживание | B17: Ежедневно | C17: руб. | D17: 0.13 | E17: 4236.8
A18: Благоустройство и обеспечение санитарного состояния МКД и придомовой територии
A19: Разделка древесины твердых пород и лиственницы, полученной от валки леса, диаметром стволов: до 32см | B19: 0.01 | C19: 100 шт. | D19: =E19/B19 -> 28763 | E19: 287.63
A20: Уборка придомовой территории и лестничных клеток | B20: По тарифу | C20: м2 | D20: =E20 -> 137533.18 | E20: 137533.18
A21: Уборка чердаков и подвалов | B21: По тарифу | C21: м2 | D21: =E21 -> 7741.34 | E21: =5025.24+2716.1 -> 7741.34
A22: Услуги спец.техники по благоустройству (очистка наледи, снега) | B22: По факту | C22: руб. | D22: =E22 -> 801.74 | E22: 801.74
A23: Коммунальные ресурсы на содержание общ. имущества МКД
A24: Коммунальные ресурсы на содержание общего имущества МКД | B24: По факту | C24: руб. | D24: =E24 -> 24518.09 | E24: 24518.09
A25: Обслуживание газового оборудования
A26: Техобслуживание газового оборудования | B26: По договору | C26: 16 стояков | D26: =E26 -> 10200 | E26: 10200
A27: Обслуживание и текущий ремонт инженерного оборудования
A28: Заделка свища сваркой при длине стыка до 6 мм | B28: 1 | C28: шт | D28: =E28/B28 -> 651.34 | E28: 651.34
A29: Прокладка трубопроводов канализационных из полиэтиленовых труб высокой плотности: 110 мм | B29: 0.01 | C29: 100 м | D29: =E29/B29 -> 91902 | E29: 919.02
A30: Разборка трубопровода из чугунных канализационных труб. диаметром 100мм | B30: 0.01 | C30: 100 м | D30: =E30/B30 -> 38783 | E30: 387.83
A31: Регулировка температуры отопления в ИТП вентилями | B31: 1 | C31: шт | D31: =E31/B31 -> 303.61 | E31: 303.61
A32: Установка заглушек на трубопроводах д. 100мм | B32: 0.01 | C32: 100 шт. | D32: =E32/B32 -> 61254 | E32: 612.54
A33: Запуск потока воды: отопление, ГВС | B33: 1 | C33: 1 узел | D33: =E33/B33 -> 91.38 | E33: 91.38
A34: Ликвидация воздушных пробок в системе отопления, в стояке | B34: 1 | C34: 1 стояк | D34: =E34/B34 -> 501.56 | E34: 501.56
A35: Опрессовка ТУ диаметром: до 100 мм | B35: 1 | C35: 100 м | D35: =E35/B35 -> 812.33 | E35: 812.33
A36: Осмотр подъездов, подвального помещения чердачного помещения | B36: 0.1 | C36: 1000 м2 | D36: =E36/B36 -> 3642.3 | E36: 364.23
A37: Осмотр системы центрального отопления, устройств в чердачных и подвальных помещениях. | B37: 0.1 | C37: 1000 м2 | D37: =E37/B37 -> 1791.3 | E37: 179.13
A38: Осмотр СТО | B38: 0.09 | C38: 100 квартир | D38: =E38/B38 -> 27086.667 | E38: 2437.8
A39: Осмотр СТО в чердачных и подвальных помещениях (весенний и осенний) | B39: 3.629 | C39: 1000 м2 | D39: =E39/B39 -> 1805.2273 | E39: 6551.17
... A50: Снятие и запись замера в наряде (ИТП,РХВ) | B50: 31 | C50: 1 ИТП | D50: =E50/B50 -> 271.18839 | E50: 8406.84
A51: Обслуживание и текущий ремонт конструктивных элементов
A52: Демонтаж-монтаж стенда, вывески, доски объявления и т.д. | B52: 0.03 | C52: 100 шт. | D52: =E52/B52 -> 37080 | E52: 1112.4
A53: Изготовление филенок вручную: из строительной фанеры в один слой | B53: 0.8 | C53: м2 | D53: =E53/B53 -> 380.4375 | E53: 304.35
...

Sheet 2020
A1: Отчет по бюджету № 106/3-2020
A3: Период: с 01.01.2020 по 31.12.2020 года.
A5: ОБЩИЕ СВЕДЕНИЯ ОБ ОБЪЕКТЕ
A6: Этажность | B6: 4 | C6: Общая жилая площадь, м2 | D6: 2709.6 | E6: Площадь кровли, м2 | F6: 1230
A7: Количество подъездов | B7: 3 | C7: Площадь нежилых помещений, м2 | D7: 0 | E7: Площадь чердаков, м2 | F7: 820
A8: Количество квартир | B8: 48 | C8: Площадь л/ клеток, тамбуров, лифтов, м/камер, м2 | D8: 282.9 | E8: Площадь подвалов, м2 | F8: 712.8
A11: Наименование | F11: Значение
A12: Переходящие остатки денежных средств за выполненые работы (на начало периода; + резерв, - долг) | F12: -51057.396
A13: Задолженность по оплате за содержание и текущий ремонт общего имущества МКД (на начало периода) | F13: 121844.63
A14: Начислено за работы (услуги) по содержанию и текущему ремонту и аренду общего имущества МКД, в том числе: | F14: =SUM(F15:F17) -> 462331.45
A15: - за жилые помещения | F15: =472610.4-12978.95 -> 459631.45
A16: - за нежилые помещения
A17: - за рекламу и аренду общего имущества МКД | F17: 2700
A18: Получено денежных средств, в т. ч: | F18: =SUM(F19:F21) -> 441084.42
A19: - за жилые помещения | F19: 438834.42
A20: - за нежилые помещения
A21: - за рекламу и аренду общего имущества МКД | F21: 2250
A22: Всего денежных средств с учетом остатков | F22: =F12+F18 -> 390027.02
A23: Выполненные работы (оказанные услуги) по содержанию общего имущества и текущему ремонту в отчетном периоде | F23: =Лист1!E79 -> 412218.92
A24: Переходящие остатки денежных средств за выполненные работы (на конец периода; + резерв, - долг) | F24: =F22-F23 -> -22191.893
A25: Задолженность по оплате за содержание и текущий ремонт общего имущества МКД (на конец периода) | F25: =F13+F14-F18 -> 143091.66
A27: Директор ООО "ТРЭК" Плотников А.А. __________________
A28: Отчет составил: экономист Осипова М.С. _______________
A29: Отчет получил: ________________________________________________________
A30: Дата __________________

Sheet Лист1
A2: .
B3: АКТ № 106/3
A4: приемки оказанных услуг и (или) выполненных работ по содержанию
A5: и текущему ремонту общего имущества в многоквартирном доме
A6: г. Ангарск | E6: 31 марта 2021 г.
A8: Собственники помещений в многоквартином доме, расположенном по адресу: ________________________ , именуемые в дальнейшем "Заказчик", в лице ___________________________________________________________________________________,
A9: являющегося собственником квартиры № _____, находящейся в данном многоквартирном доме, действующего на основании протокола общего собрания собственников, с одной стороны, и управляющая компания ООО "ТРЭК", именуемая в дальнейшем
A10: "Исполнитель", в лице директора Плотникова А.А., действующего на основании Устава, с другой стороны, совместно именуемые "Стороны", составили настоящий акт о нижеследующем:
A11: 1. Исполнителем предъявлены к приемке следующие оказанные на основании договора управления многоквартирным домом или договора оказания услуг по содержанию и (или) выполнению работ по ремонту общего имущества в многоквартирном
A12: доме, либо договора подряда по выполнению работ по ремонту общего имущества в многоквартирном доме (указать нужное) № _______ от "____" ___________________ ______ г. (далее - "Договор") услуги и (или) выполненные работы по содержанию
A13: и текущему ремонту общего имущества в многоквартирном доме № _____, расположенном по адресу: ______________________:
A15: Наименование вида работы (услуги) | B15: Периодичность / количественный показатель выполненной работы (оказанной услуги) | C15: Единица измерения работы (услуги) | D15: Стоимость / сметная стоимость выполненной работы (оказанной услуги) за единицу | E15: Цена выполненной работы (оказанной услуги), в рублях
A16: Аварийное обслуживание
A17: Аварийное обслуживание | B17: Ежедневно | C17: руб. | D17: 0.13 | E17: 4226.98
A18: Благоустройство и обеспечение санитарного состояния МКД и придомовой територии
A19: Вывоз листвы и смета | B19: По факту | C19: м2 | D19: =E19 -> 965.06 | E19: 965.06
A20: Дезинфекция мест общего пользования МКД | B20: По факту | C20: м2 | D20: =E20 -> 13579.2 | E20: 13579.2
A21: Завоз песка, ПГС, щебня, земли | B21: По факту | D21: =E21 -> 2209.51 | E21: 2209.51
A22: Окраска известковыми составами: по кирпичу и бетону (бордюр. столбики, столбы) | B22: По факту | C22: 100 м2 | D22: =E22 -> 1551.19 | E22: 1551.19
A23: Окраска известковыми составами: по кирпичу и бетону (бордюр. столбики, столбы) за 2019 год | B23: По факту | C23: 100 м2 | D23: =E23 -> 1382.03 | E23: 1382.03
A24: Уборка придомовой территории и лестничных клеток | B24: По тарифу | C24: м2 | D24: =E24 -> 137539.3 | E24: 137539.3
A25: Уборка чердаков и подвалов | B25: По тарифу | C25: м2 | D25: =E25 -> 3794.5 | E25: 3794.5
A26: Дезинсекция и дератизация
A27: Дезинсекция и дератизация | B27: По договору | C27: руб. | D27: =E27 -> 1283.04 | E27: 1283.04
A28: Коммунальные ресурсы на содержание общ. имущества МКД
A29: Коммунальные ресурсы на содержание общего имущества МКД | B29: По факту | C29: руб. | D29: =E29 -> 53546.83 | E29: 53546.83
A30: Обслуживание газового оборудования
A31: Техобслуживание газового оборудования | B31: По договору | C31: 16 стояков | D31: =E31 -> 10200 | E31: 10200
A32: Обслуживание и текущий ремонт инженерного оборудования
A33: Консервация системы отопления | B33: 1 | C33: 100 м | D33: =E33 -> 724.61 | E33: 724.61
A34: Осмотр кровли,чердака,подъездов,подвала,фасада-после землетр-ия, в т.ч. рем-т выявленных повреждений | B34: По факту | C34: 1000 м2 | D34: =E34 -> 3640.05 | E34: 3640.05
A35: Проверка работ-ти запорной арматуры, устранение мелких неисправностей, проверка работы ПУ РХВ | B35: 0.01 | C35: 100 шт. | D35: =E35 -> 304.07 | E35: 304.07
A36: Смена отдельных участков трубопроводов диаметром: 20 мм | B36: 1 | C36: 1 участок | D36: =E36 -> 1220.49 | E36: 1220.49
A37: Смена отдельных участков трубопроводов ХВС и ГВС д: до 25 мм - переборка сборки | B37: 1 | C37: 1 участок | D37: =E37 -> 1452.34 | E37: 1452.34
A38: Запуск потока воды: отопление, ГВС, ХВС | B38: 4 | C38: 1 узел | D38: =E38 -> 404.7 | E38: 404.7
A39: Запуск системы отопления. | B39: 1 | C39: 1 здание | D39: =E39 -> 1012.36 | E39: 1012.36
A40: Осмотр подвальных помещений | B40: 0.17 | C40: 1000 м2 | D40: =E40 -> 308.33 | E40: 308.33
A41: Осмотр подвальных помещений (засоры, подпоры) прим. | B41: 0.27 | C41: 1000 м2 | D41: =E41 -> 542.09 | E41: 542.09
A42: Осмотр подвальных помещений и выпуска при подпоре | B42: 2 | C42: 1 осмотр | D42: =E42 -> 2228.96 | E42: 2228.96
A43: Осмотр подъездов, подвального помещения чердачного помещения | B43: 0.1 | C43: 1000 м2 | D43: =E43 -> 400.72 | E43: 400.72
...

Sheet 2021
A1: Отчет по бюджету № 106/3-2021
A3: Период: с 01.01.2021 по 31.12.2021 года.
A5: ОБЩИЕ СВЕДЕНИЯ ОБ ОБЪЕКТЕ
A6: Этажность | B6: 4 | C6: Общая жилая площадь, м2 | D6: 2709.6 | E6: Площадь кровли, м2 | F6: 1230
A7: Количество подъездов | B7: 3 | C7: Площадь нежилых помещений, м2 | D7: 0 | E7: Площадь чердаков, м2 | F7: 820
A8: Количество квартир | B8: 48 | C8: Площадь л/ клеток, тамбуров, лифтов, м/камер, м2 | D8: 282.9 | E8: Площадь подвалов, м2 | F8: 712.8
A11: Наименование | F11: Значение
A12: Переходящие остатки денежных средств за выполненые работы (на начало периода; + резерв, - долг) | F12: -22191.893
A13: Задолженность по оплате за содержание и текущий ремонт общего имущества МКД (на начало периода) | F13: 143091.66
A14: Начислено за работы (услуги) по содержанию и текущему ремонту и аренду общего имущества МКД, в том числе: | F14: =SUM(F15:F17) -> 492158.71
A15: - за жилые помещения | F15: 489458.71
A16: - за нежилые помещения
A17: - за рекламу и аренду общего имущества МКД | F17: 2700
A18: Получено денежных средств, в т. ч: | F18: =SUM(F19:F21) -> 539954.33
A19: - за жилые помещения | F19: 537254.33
A20: - за нежилые помещения
A21: - за рекламу и аренду общего имущества МКД | F21: 2700
A22: Всего денежных средств с учетом остатков | F22: =F12+F18 -> 517762.44
A23: Выполненные работы (оказанные услуги) по содержанию общего имущества и текущему ремонту в отчетном периоде | F23: =акт21!E87 -> 423679.6
A24: Переходящие остатки денежных средств за выполненные работы (на конец периода; + резерв, - долг) | F24: =F22-F23 -> 94082.84
A25: Задолженность по оплате за содержание и текущий ремонт общего имущества МКД (на конец периода) | F25: =F13+F14-F18 -> 95296.04
A27: Директор ООО "ТРЭК" Плотников А.А. __________________
A28: Отчет составил: экономист _______________
A29: Отчет получил: ________________________________________________________
A30: Дата __________________

Sheet акт21
A2: .
A3: АКТ № 106/3
A4: приемки оказанных услуг и (или) выполненных работ по содержанию
A5: и текущему ремонту общего имущества в многоквартирном доме
A6: г. Ангарск | E6: 31 марта 2022 г.
A8: Собственники помещений в многоквартином доме, расположенном по адресу: ________________________ , именуемые в дальнейшем "Заказчик", в лице ___________________________________________________________________________________,
A9: являющегося собственником квартиры № _____, находящейся в данном многоквартирном доме, действующего на основании протокола общего собрания собственников, с одной стороны, и управляющая компания ООО "ТРЭК", именуемая в дальнейшем
A10: "Исполнитель", в лице директора Плотникова А.А., действующего на основании Устава, с другой стороны, совместно именуемые "Стороны", составили настоящий акт о нижеследующем:
A11: 1. Исполнителем предъявлены к приемке следующие оказанные на основании договора управления многоквартирным домом или договора оказания услуг по содержанию и (или) выполнению работ по ремонту общего имущества в многоквартирном
A12: доме, либо договора подряда по выполнению работ по ремонту общего имущества в многоквартирном доме (указать нужное) № _______ от "____" ___________________ ______ г. (далее - "Договор") услуги и (или) выполненные работы по содержанию
A13: и текущему ремонту общего имущества в многоквартирном доме № _____, расположенном по адресу: ______________________:
A15: Наименование вида работы (услуги) | B15: Периодичность / количественный показатель выполненной работы (оказанной услуги) | C15: Единица измерения работы (услуги) | D15: Стоимость / сметная стоимость выполненной работы (оказанной услуги) за единицу | E15: Цена выполненной работы (оказанной услуги), в рублях
A16: Аварийное обслуживание
A17: Аварийное обслуживание | B17: Ежедневно | C17: руб. | D17: 0.14 | E17: 4552.13
A18: Благоустройство и обеспечение санитарного состояния МКД и придомовой територии
A19: Завоз песка, ПГС, щебня, земли | B19: По факту | C19: руб. | D19: =E19 -> 4369.41 | E19: =369.41+4000 -> 4369.41
A20: Ремонт песочницы | B20: 2 | C20: шт | D20: =E20/B20 -> 856.035 | E20: 1712.07
A21: Ремонт мусорного контейнера | B21: По факту | C21: шт | D21: =E21 -> 1454.71 | E21: 1454.71
A22: Окраска известковыми составами: по кирпичу и бетону (бордюр. столбики, столбы) | B22: По факту | C22: 100 м2 | D22: =E22 -> 1551.19 | E22: 1551.19
A23: Услуги по вывозу и утилизации листвы, веток, деревьев, скошенной травы , смета и др. | B23: По факту | C23: руб. | D23: =E23 -> 4991.4 | E23: =2326.12+2188+477.28 -> 4991.4
A24: Услуги спец.техники по благоустройству (очистка наледи, снега) | B24: По факту | C24: руб. | D24: =E24 -> 2347.77 | E24: =1833.91+513.86 -> 2347.77
A25: Уборка придомовой территории и лестничных клеток | B25: По тарифу | C25: м2 | D25: =E25 -> 137539.2 | E25: 137539.2
A26: Уборка чердаков и подвалов | B26: По тарифу | C26: м2 | D26: =E26 -> 3251.52 | E26: 3251.52
A27: Коммунальные ресурсы на содержание общ. имущества МКД
A28: Коммунальные ресурсы на содержание общего имущества МКД | B28: По факту | C28: руб. | D28: =E28 -> 84204.78 | E28: 84204.78
A29: Обслуживание и текущий ремонт инженерного оборудования
A30: Монтаж обратного клапана Аэратор | B30: 0.03 | C30: 100 шт. | D30: =E30/B30 -> 85326.667 | E30: 2559.8
A31: Регулировка РТВЖ | B31: 1 | C31: шт | D31: =E31/B31 -> 503.32 | E31: 503.32
A32: Регулировка температуры отопления в ИТП вентилями | B32: 2 | C32: шт | D32: =E32/B32 -> 381.675 | E32: 763.35
A33: Смена внутренних трубопроводов из стальных труб д. 20 мм | B33: 0.04 | C33: 100 м | D33: =E33/B33 -> 84751.75 | E33: 3390.07
A34: Смена отдельных участков трубопроводов канализации из полиет. труб высокой пл-ти: гориз. д 50 мм | B34: 3 | C34: 1 участок | D34: =E34/B34 -> 959.57667 | E34: 2878.73
A35: Запуск потока воды: отопление, ГВС, ХВС | B35: 4 | C35: 1 узел | D35: =E35/B35 -> 97.56 | E35: 390.24
A36: Запуск системы отопления. | B36: 1 | C36: 1 здание | D36: =E36/B36 -> 1005.22 | E36: 1005.22
A37: Ликвидация воздушных пробок в системе отопления, в стояке | B37: 1 | C37: 1 стояк | D37: =E37/B37 -> 736.44 | E37: 736.44
A38: Опрессовка ТУ диаметром: до 100 мм | B38: 1 | C38: 100 м | D38: =E38/B38 -> 961.8 | E38: 961.8
A39: Осмотр и устранение мелких неисправностей на РХВ | B39: 1 | C39: шт | D39: =E39/B39 -> 149.54 | E39: 149.54
A40: Осмотр подвальных помещений и выпуска при подпоре | B40: 1 | C40: 1 осмотр | D40: =E40/B40 -> 1107.33 | E40: 1107.33
A41: Осмотр подъездов, подвального помещения, чердачного помещения - по жалобе | B41: 0.1 | C41: 1000 м2 | D41: =E41/B41 -> 3974.9 | E41: 397.49
... A54: Снятие и запись замера в наряде (ИТП,РХВ) | B54: 33 | C54: 1 ИТП | D54: =E54/B54 -> 299.99273 | E54: 9899.76
A55: Обслуживание и текущий ремонт конструктивных элементов
...
