Workbook

Sheet Акт
A1: АКТ № 77/12-2017
A2: приемки оказанных услуг и (или) выполненных работ по содержанию и текущему ремонту общего имущества в многоквартирном доме № 12 квартала 77.
A3: г. Ангарск | D3: "31" марта 2018 г.
A5: Наименование вида работы (услуги) | B5: Периодичность/ количественный показатель выполненной работы (оказанной услуги) | C5: Единица измерения работы (услуги) | D5: Стоимость /сметная стоимость выполненной работы (оказанной услуги) за единицу | E5: Цена выполненной работы (оказанной услуги), в рублях
A6: Аварийное обслуживание
A7: Аварийное обслуживание | B7: Ежедневно | C7: руб. | D7: =E7 -> 4597.79 | E7: 4597.79
A8: Благоустройство
A9: Выкашивание газонов | B9: 400 | C9: м2 | D9: =E9/B9 -> 3.95 | E9: 1580
A10: Омоложение одиночных кустарников | B10: 0.06 | C10: 10 шт. | D10: =E10/B10 -> 32630 | E10: 1957.8
A11: Разделка древесины мягких пород, полученной от валки леса, диам. стволов:более 32 см | B11: 0.06 | C11: 100 шт. | D11: =E11/B11 -> 33331.5 | E11: 1999.89
A12: Формовочная обрезка деревьев высотой: более 5 м | B12: 8 | C12: 1 дерево | D12: =E12/B12 -> 2292.9325 | E12: 18343.46
A13: Вывоз и утилизация ТКО, в т.ч. крупногабаритного мусора
A14: Услуги по вывозу и утилизации ТБО, в т.ч. крупногабаритного мусора | B14: Ежедневно | C14: руб. | D14: =E14 -> 70735.2 | E14: 70735.2
A15: Коммунальные ресурсы на содержание общ. имущества МКД
A16: ГВС на содержание общ. имущества | B16: По факту | C16: руб. | D16: =E16 -> 3599.01 | E16: 3599.01
A17: Отведение сточных вод на содержание общ. имущества | B17: По нормативу | C17: руб. | D17: =E17 -> 1949.58 | E17: 1949.58
A18: ХВС на содержание общ. имущества | B18: По нормативу | C18: руб. | D18: =E18 -> 1647.23 | E18: 1647.23
A19: Электрическая энергия на содержание общ. имущества | B19: По факту | C19: руб. | D19: =E19 -> 3252.15 | E19: 3252.15
A20: Обслуживание и текущий ремонт электрооборудования жилых домов
A21: Обслуживание и текущий ремонт электрооборудования жилых домов | B21: По факту | C21: руб. | D21: =E21 -> 10066.36 | E21: 10066.36
A22: Обслуживание инженерного оборудования
A23: Временная заделка свищей и трещин на внутренних трубопроводах и стояках. | B23: 2 | C23: 1 место | D23: =E23/B23 -> 176.44 | E23: 352.88
A24: Демонтаж-монтаж смывного бачка типа "Компакт" | B24: 0.02 | C24: шт | D24: =E24/B24 -> 2994.5 | E24: 59.89
A25: Запуск потока воды: отопление, ГВС | B25: 2 | C25: 1 узел | D25: =E25/B25 -> 72.59 | E25: 145.18
A26: Запуск системы отопления. | B26: 1 | C26: 1 здание | D26: =E26/B26 -> 796.94 | E26: 796.94
A27: Ликвидация воздушных пробок в системе отопления, в стояке | B27: 7 | C27: 1 стояк | D27: =E27/B27 -> 438.25857 | E27: 3067.81
A28: Опрессовка ТУ диаметром: до 100 мм | B28: 0.09 | C28: 100 м | D28: =E28/B28 -> 3540.7778 | E28: 318.67
A29: Осмотр СТО | B29: 0.15 | C29: 100 квартир | D29: =E29/B29 -> 22125.533 | E29: 3318.83
A30: Осмотр СТО в чердачных и подвальных помещениях (весенний и осенний) | B30: 2.12 | C30: 1000 м2 | D30: =E30/B30 -> 1386.5142 | E30: 2939.41
A31: Осмотр, РХВ замеры | B31: 0.03 | C31: 100 шт. | D31: =E31/B31 -> 22486 | E31: 674.58
A32: Отключение системы отопления (консервация) - прим. | B32: 1 | C32: 1 здание | D32: =E32/B32 -> 384.58 | E32: 384.58
A33: Очистка канализационной сети: внутренней | B33: 0.06 | C33: 100 м | D33: =E33/B33 -> 13612.667 | E33: 816.76
A34: Перевод отопления с подачи на обратку или с обратки на подачу | B34: 5 | C34: узел | D34: =E34/B34 -> 151.42 | E34: 757.1
... A44: Устранение течи из гибких подводок присоединения санитарных приборов | B44: 1 | C44: 1 соединение | D44: =E44/B44 -> 96.72 | E44: 96.72
A45: Обслуживание конструктивных элементов
A46: Осмотр квартир | B46: 0.03 | C46: 100 квартир | D46: =E46/B46 -> 25196.333 | E46: 755.89
A47: Осмотр кровли, чердака, люков | B47: 0.17 | C47: 1000 м2 | D47: =E47/B47 -> 1825.4706 | E47: 310.33
A48: Осмотр кровли, чердака, подъездов, подвального помещения - весенний осмотр | B48: 1.566 | C48: 1000 м2 | D48: =E48/B48 -> 1641.5709 | E48: 2570.7
A49: Осмотр кровли, чердака, подъездов, подвального помещения -подготовка к зиме | B49: 1.209 | C49: 1000 м2 | D49: =E49/B49 -> 1568.9082 | E49: 1896.81
A50: Очистка желобов от мусора: вручную (при расчете 1 кг. мусора = 3 м 1 желоба) | B50: 50 | C50: м | D50: =E50/B50 -> 41.4834 | E50: 2074.17
...

Sheet Бюджет
A1: Отчет по бюджету №77/12-2017
A3: Период: с 01.01.2017 по 31.12.2017 года.
A5: Строение / По типу работ | B5: Расходы | C5: Начисления | D5: Поступления
A6: Резерв на 01.01.2017 г. | B6: 51587.82
A7: Cодержание жилья | C7: 330687.12 | D7: 345136.75
A8: Аренда общего имущества МКД | C8: 7500 | D8: 9268.32
A9: Вознаграждение председателю совета дома | C9: 17682 | D9: 8708.62
A10: Вывоз и утилизация ТКО | C10: 70735.2 | D10: 81592.37
A11: ГВС на содержание общ. имущества | C11: 6258.24 | D11: 3335.38
A12: Обслуживание ВДГО | C12: 13793.4 | D12: 15027.9
A13: Обслуживание ОДПУ | C13: 21574.2 | D13: 13075.42
A14: Отведение сточных вод на содержание общ. им-ва | C14: 1949.58
A15: ХВС на содержание общ. имущества | C15: 1647.23 | D15: 1955.11
A16: Электрическая энергия на содержание общ. имущества | C16: 12776.09 | D16: 3423.16
A17: Аварийное обслуживание | B17: =Акт!E7 -> 4597.79
A18: Благоустройство | B18: =SUM(Акт!E9:E12) -> 23881.15
A19: Вывоз и утилизация ТКО, в т.ч. крупногабаритного мусора | B19: =Акт!E14 -> 70735.2
A20: Коммунальные ресурсы на содержание общ. имущества МКД | B20: =SUM(Акт!E16:E19) -> 10447.97
A21: Обслуживание и текущий ремонт электрооборудования жилых домов | B21: =Акт!E21 -> 10066.36
A22: Обслуживание инженерного оборудования | B22: =SUM(Акт!E23:E44) -> 40498.27
A23: Обслуживание конструктивных элементов | B23: =SUM(Акт!E46:E55) -> 15570.61
A24: Обслуживание ОДПУ | B24: =Акт!E57 -> 21600
A25: Расходы на истребование задолженности по оплате жилых помещений | B25: =Акт!E59 -> 1270.43
A26: Текущий ремонт инженерного оборудования | B26: =SUM(Акт!E61:E66) -> 14287.43
A27: Текущий ремонт конструктивных элементов жилых зданий | B27: =SUM(Акт!E68:E74) -> 15360.23
A28: Транспортные расходы | B28: =SUM(Акт!E76:E77) -> 16750
A29: Уборка лестничных клеток | B29: =Акт!E79 -> 47746.26
A30: Уборка придомовой территории | B30: =Акт!E81 -> 82052.83
A31: Уборка чердаков и подвалов | B31: =SUM(Акт!E83:E84) -> 5551.97
A32: Услуги по управлению МКД | B32: =Акт!E86 -> 48460.3
A33: Итого: | B33: =SUM(B7:B32) -> 428876.8 | C33: =SUM(C7:C32) -> 484603.06 | D33: =SUM(D7:D32) -> 481523.03
A34: Резерв (доходы за минусом расходов) на 01.01.2018 г. - 95 766,79 руб. | E34: =B6+D33-B33 -> 104234.05
A35: Задолженность по оплате за содержание и текущий ремонт на 01.01.2018 г. - 113 493,75 руб.
A37: Директор ООО "ЖЭУ №6" Плотников А.А. __________________
A38: Отчет составил: экономист Сундукова Ю.А. _______________
A39: Отчет получил: ________________________________________________________
A40: Дата __________________

Sheet 2018
A1: Отчет по бюджету № 77/12-2018
A3: Период: с 01.01.2018 по 31.12.2018 года.
A5: ОБЩИЕ СВЕДЕНИЯ ОБ ОБЪЕКТЕ
A6: Этажность | B6: 5 | C6: Общая жилая площадь, м2 | D6: 2947.3 | E6: Площадь кровли, м2 | F6: 961.9
A7: Количество подъездов | B7: 3 | C7: Площадь нежилых помещений, м2 | D7: 0 | E7: Площадь чердаков, м2 | F7: 657.9
A8: Количество квартир | B8: 60 | C8: Площадь л/ клеток, тамбуров, лифтов, м/камер, м2 | D8: 247.6 | E8: Площадь подвалов, м2 | F8: 660.6
A11: Наименование | F11: Значение
A12: Корректировка бюджета за 2017 год | F12: 8467.26
A13: Переходящие остатки денежных средств за выполненые работы (на начало периода; + резерв, - долг) | F13: =95766.79+F12 -> 104234.05
A14: Задолженность по оплате за содержание и текущий ремонт общего имущества МКД (на начало периода) | F14: 84873.84
A15: Начислено за работы (услуги) по содержанию и текущему ремонту и аренду общего имущества МКД, в том числе: | F15: =SUM(F16:F18) -> 482582.05
A16: - за жилые помещения | F16: =465530.37+9401.68 -> 474932.05
A17: - за нежилые помещения
A18: - за рекламу и аренду общего имущества МКД | F18: 7650
A19: Получено денежных средств, в т. ч: | F19: =SUM(F20:F22) -> 471824.99
A20: - за жилые помещения | F20: 464362.49
A21: - за нежилые помещения
A22: - за рекламу и аренду общего имущества МКД | F22: 7462.5
A23: Всего денежных средств с учетом остатков | F23: =F13+F19 -> 576059.04
A24: Выполненные работы (оказанные услуги) по содержанию общего имущества и текущему ремонту в отчетном периоде | F24: ='Акт (2)'!E90 -> 437222.7
A25: Переходящие остатки денежных средств за выполненые работы (на конец периода; + резерв, - долг) | F25: =F23-F24 -> 138836.34
A26: Задолженность по оплате за содержание и текущий ремонт общего имущества МКД (на конец периода) | F26: =F14+F15-F19 -> 95630.9
A28: Директор ООО "ТРЭК" Плотников А.А. __________________
A29: Отчет составил: экономист Осипова М.С. _______________
A30: Отчет получил: ________________________________________________________
A31: Дата __________________

Sheet Акт (2)
A1: АКТ № 77/12-2018
A2: приемки оказанных услуг и (или) выполненных работ по содержанию и текущему ремонту общего имущества в многоквартирном доме № 12 квартала 77.
A3: г. Ангарск | D3: "31" марта 2019 г.
A5: Наименование вида работы (услуги) | B5: Периодичность/ количественный показатель выполненной работы (оказанной услуги) | C5: Единица измерения работы (услуги) | D5: Стоимость /сметная стоимость выполненной работы (оказанной услуги) за единицу | E5: Цена выполненной работы (оказанной услуги), в рублях
A6: Аварийное обслуживание
A7: Аварийное обслуживание | B7: Ежедневно | C7: руб. | D7: =E7 -> 4597.79 | E7: 4597.79
A8: Благоустройство
A9: Завоз песка, ПГС, щебня, земли | B9: По факту | C9: руб. | D9: =E9 -> 4000 | E9: 4000
A10: Окраска известковыми составами: по кирпичу и бетону (бордюр. столбики, столбы) | B10: 0.212 | C10: 100 м2 | D10: =E10/B10 -> 4717.1226 | E10: 1000.03
A11: Окраска скамейки без спинки | B11: 1 | C11: шт | D11: =E11/B11 -> 324.4 | E11: 324.4
A12: Ремонт качели-балансир | B12: 1 | C12: шт | D12: =E12/B12 -> 842.06 | E12: 842.06
A13: Ремонт качели-маятник с окраской отремонтированных мест | B13: 1 | C13: шт | D13: =E13/B13 -> 808.65 | E13: 808.65
A14: Ремонт песочницы | B14: 1 | C14: шт | D14: =E14/B14 -> 793.5 | E14: 793.5
A15: Ремонт скамейки без спинки | B15: 1 | C15: шт | D15: =E15/B15 -> 713.21 | E15: 713.21
A16: Вознаграждение председателю совета дома
A17: Вознаграждение председателю совета дома 2018 год | B17: По факту | C17: руб. | D17: =E17 -> 15853.62 | E17: 15853.62
A18: Вознаграждение председателю совета дома 2017 год | B18: По факту | C18: руб. | D18: =E18 -> 16152.36 | E18: 16152.36
A19: Вывоз и утилизация ТКО, в т.ч. крупногабаритного мусора
A20: Вывоз и утилизация ТКО, в т.ч. крупногабаритный мусор | B20: Ежедневно | C20: руб. | D20: =E20 -> 70735.2 | E20: 70735.2
A21: Коммунальные ресурсы на содержание общ. имущества МКД
A22: Коммунальные ресурсы на содержание общего имущества МКД | B22: По факту | C22: руб. | D22: =E22 -> 11878.96 | E22: 11878.96
A23: Обслуживание газового оборудования
A24: Техобслуживание газового оборудования | B24: По договору | C24: 1 стояк | D24: =E24 -> 11281.13 | E24: 11281.13
A25: Обслуживание и текущий ремонт электрооборудования жилых домов
A26: Обслуживание и текущий ремонт электрооборудования жилых домов | B26: По плану | C26: руб. | D26: =E26 -> 7617.4 | E26: =371.74+7245.66 -> 7617.4
A27: Обслуживание инженерного оборудования
A28: Временная заделка свищей и трещин на внутренних трубопроводах и стояках. | B28: 1 | C28: 1 место | D28: =E28/B28 -> 228.93 | E28: 228.93
A29: Запуск потока воды: отопление, ГВС | B29: 1 | C29: 1 узел | D29: =E29/B29 -> 83.75 | E29: 83.75
A30: Запуск системы отопления. | B30: 1 | C30: 1 здание | D30: =E30/B30 -> 839.52 | E30: 839.52
A31: Ликвидация воздушных пробок в системе отопления, в стояке | B31: 4 | C31: 1 стояк | D31: =E31/B31 -> 469.5375 | E31: 1878.15
A32: Опрессовка ТУ диаметром: до 100 мм | B32: 0.09 | C32: 100 м | D32: =E32/B32 -> 6088.8889 | E32: 548
A33: Осмотр выпусков канализации (засоры, подпоры) прим. | B33: 2 | C33: 1 здание | D33: =E33/B33 -> 253.255 | E33: 506.51
A34: Осмотр СТО | B34: 0.09 | C34: 100 квартир | D34: =E34/B34 -> 25391.444 | E34: 2285.23
A35: Осмотр СТО в чердачных и подвальных помещениях (весенний и осенний) | B35: 2.222 | C35: 1000 м2 | D35: =E35/B35 -> 1681.1296 | E35: 3735.47
A36: Осмотр, замеры, опломбировка ПУ Т/У с представителем | B36: 0.01 | C36: 100 шт. | D36: =E36/B36 -> 25071 | E36: 250.71
A37: Отключение системы отопления (консервация) - прим. | B37: 1 | C37: 1 здание | D37: =E37/B37 -> 503.4 | E37: 503.4
A38: Очистка канализационного стояка от наледи | B38: 1 | C38: 1 стояк | D38: =E38/B38 -> 203.12 | E38: 203.12
A39: Очистка канализационной сети: внутренней | B39: 0.06 | C39: 100 м | D39: =E39/B39 -> 14702.833 | E39: 882.17
... A51: Устранение течи из гибких подводок присоединения санитарных приборов | B51: 1 | C51: 1 соединение | D51: =E51/B51 -> 122.01 | E51: 122.01
A52: Обслуживание конструктивных элементов
...

Sheet 2019
A1: Отчет по бюджету № 77/12-2019
A3: Период: с 01.01.2019 по 31.12.2019 года.
A5: ОБЩИЕ СВЕДЕНИЯ ОБ ОБЪЕКТЕ
A6: Этажность | B6: 5 | C6: Общая жилая площадь, м2 | D6: 2947.3 | E6: Площадь кровли, м2 | F6: 961.9
A7: Количество подъездов | B7: 3 | C7: Площадь нежилых помещений, м2 | D7: 0 | E7: Площадь чердаков, м2 | F7: 657.9
A8: Количество квартир | B8: 60 | C8: Площадь л/ клеток, тамбуров, лифтов, м/камер, м2 | D8: 247.6 | E8: Площадь подвалов, м2 | F8: 660.6
A11: Наименование | F11: Значение
A12: Переходящие остатки денежных средств за выполненые работы (на начало периода; + резерв, - долг) | F12: 138836.34
A13: Задолженность по оплате за содержание и текущий ремонт общего имущества МКД (на начало периода) | F13: 95630.9
A14: Начислено за работы (услуги) по содержанию и текущему ремонту и аренду общего имущества МКД, в том числе: | F14: =SUM(F15:F17) -> 472377.15
A15: - за жилые помещения | F15: =466679.04+1000-3536.89 -> 464142.15
A16: - за нежилые помещения
A17: - за рекламу и аренду общего имущества МКД | F17: 8235
A18: Получено денежных средств, в т. ч: | F18: =SUM(F19:F22) -> 2950059.5
A19: - за жилые помещения | F19: =1000+453444.44 -> 454444.44
A20: - за нежилые помещения
A21: - за рекламу и аренду общего имущества МКД | F21: 8760.25
A22: - субсидия | F22: 2486854.8
A23: Всего денежных средств с учетом остатков | F23: =F12+F18 -> 3088895.8
A24: Выполненные работы (оказанные услуги) по содержанию общего имущества и текущему ремонту в отчетном периоде | F24: =акт2019!E94 -> 451913.15
A25: Благоустройство дворовой территории | F25: 2486854.8
A26: Налог на прибыль (1%) | F26: 24868.54
A27: Переходящие остатки денежных средств за выполненые работы (на конец периода; + резерв, - долг) | F27: =F23-F24-F25-F26 -> 125259.34
A28: Задолженность по оплате за содержание и текущий ремонт общего имущества МКД (на конец периода) | F28: =F13+F14-F18+F22 -> 104803.36
A30: Директор ООО "ТРЭК" Плотников А.А. __________________
A31: Отчет составил: экономист Осипова М.С. _______________
A32: Отчет получил: ________________________________________________________
A33: Дата __________________

Sheet акт2019
A2: .
B3: АКТ № 77/12
B4: приемки оказанных услуг и (или) выполненных работ по содержанию
B5: и текущему ремонту общего имущества в многоквартирном доме
A6: г. Ангарск | E6: 31 марта 2020 г.
A8: Собственники помещений в многоквартином доме, расположенном по адресу: ________________________ , именуемые в дальнейшем "Заказчик", в лице ___________________________________________________________________________________,
A9: являющегося собственником квартиры № _____, находящейся в данном многоквартирном доме, действующего на основании протокола общего собрания собственников, с одной стороны, и управляющая компания ООО "ТРЭК", именуемая в дальнейшем
A10: "Исполнитель", в лице директора Плотникова А.А., действующего на основании Устава, с другой стороны, совместно именуемые "Стороны", составили настоящий акт о нижеследующем:
A11: 1. Исполнителем предъявлены к приемке следующие оказанные на основании договора управления многоквартирным домом или договора оказания услуг по содержанию и (или) выполнению работ по ремонту общего имущества в многоквартирном
A12: доме, либо договора подряда по выполнению работ по ремонту общего имущества в многоквартирном доме (указать нужное) № _______ от "____" ___________________ ______ г. (далее - "Договор") услуги и (или) выполненные работы по содержанию
A13: и текущему ремонту общего имущества в многоквартирном доме № _____, расположенном по адресу: ______________________:
A15: Наименование вида работы (услуги) | B15: Периодичность / количественный показатель выполненной работы (оказанной услуги) | C15: Единица измерения работы (услуги) | D15: Стоимость / сметная стоимость выполненной работы (оказанной услуги) за единицу | E15: Цена выполненной работы (оказанной услуги), в рублях
A16: Аварийное обслуживание
A17: Аварийное обслуживание | B17: Ежедневно | C17: руб. | D17: =E17 -> 4597.79 | E17: 4597.79
A18: Благоустройство и обеспечение санитарного состояния МКД и придомовой територии
A19: Завоз песка, ПГС, щебня, земли | B19: По факту | C19: ч | D19: =E19 -> 3000 | E19: 3000
A20: Обрезка деревьев высотой: более 5 м без формовки | B20: 1 | C20: 1 дерево | D20: =E20/B20 -> 957.44 | E20: 957.44
A21: Обрезка деревьев высотой: до 5 м | B21: 1 | C21: 1 дерево | D21: =E21/B21 -> 449.39 | E21: 449.39
A22: Разделка древесины мягких пород, полученной от валки леса, диам. стволов: до 16 см | B22: 0.15 | C22: 100 шт. | D22: =E22/B22 -> 4602.4 | E22: 690.36
A23: Уборка придомовой территории и лестничных клеток | B23: По тарифу | C23: м2 | D23: =E23 -> 141070.54 | E23: 141070.54
A24: Уборка чердаков и подвалов | B24: По тарифу | C24: м2 | D24: =E24 -> 2063.25 | E24: 2063.25
A25: Услуги спец.техники по благоустройству (очистка наледи, снега) | B25: По факту | C25: руб. | D25: =E25 -> 773.13 | E25: 773.13
A26: Вознаграждение председателю совета дома
A27: Вознаграждение председателю совета дома | B27: По факту | C27: руб. | D27: =E27 -> 17152.34 | E27: 17152.34
A28: Изготовление ключей
A29: Изготовление ключей | B29: По факту | C29: шт | D29: =E29 -> 600 | E29: 600
A30: Коммунальные ресурсы на содержание общ. имущества МКД
A31: Коммунальные ресурсы на содержание общего имущества МКД | B31: По факту | C31: руб. | D31: =E31 -> 8916.21 | E31: 8916.21
A32: Обслуживание газового оборудования
A33: Диагностирование газового оборудования | B33: По договору | C33: руб. | D33: =E33 -> 27000 | E33: 27000
A34: Техобслуживание газового оборудования | B34: По договору | C34: 16 стояков | D34: =E34 -> 7650 | E34: 7650
A35: Обслуживание и текущий ремонт инженерного оборудования
A36: Изоляция трубопровода матами с совмещенным покрывным слоем | B36: 0.103 | C36: 1 м3 | D36: =E36/B36 -> 21626.893 | E36: 2227.57
A37: Регулировка температуры отопления в ИТП вентилями | B37: 1 | C37: шт | D37: =E37/B37 -> 303.61 | E37: 303.61
A38: Смена внутренних трубопроводов из стальных труб д. до 15мм | B38: 0.023 | C38: 100 м | D38: =E38/B38 -> 48853.043 | E38: 1123.62
A39: Установка вентилей и клапанов обратных муфтовых д. до 15 мм (для предохр. клапана) | B39: 1 | C39: шт | D39: =E39/B39 -> 600.71 | E39: 600.71
A40: Запуск потока воды: отопление, ГВС | B40: 1 | C40: 1 узел | D40: =E40/B40 -> 91.38 | E40: 91.38
A41: Осмотр подвальных помещений и выпуска при подпоре | B41: 1 | C41: 1 осмотр | D41: =E41/B41 -> 551.32 | E41: 551.32
A42: Осмотр подъездов, подвального помещения чердачного помещения | B42: 0.1 | C42: 1000 м2 | D42: =E42/B42 -> 3642.3 | E42: 364.23
A43: Осмотр системы центрального отопления, устройств в чердачных и подвальных помещениях. | B43: 0.1 | C43: 1000 м2 | D43: =E43/B43 -> 1791.3 | E43: 179.13
...

Sheet 2020
A1: Отчет по бюджету № 77/12-2020
A3: Период: с 01.01.2020 по 31.12.2020 года.
A5: ОБЩИЕ СВЕДЕНИЯ ОБ ОБЪЕКТЕ
A6: Этажность | B6: 5 | C6: Общая жилая площадь, м2 | D6: 2947.5 | E6: Площадь кровли, м2 | F6: 961.9
A7: Количество подъездов | B7: 3 | C7: Площадь нежилых помещений, м2 | D7: 0 | E7: Площадь чердаков, м2 | F7: 657.9
A8: Количество квартир | B8: 60 | C8: Площадь л/ клеток, тамбуров, лифтов, м/камер, м2 | D8: 247.6 | E8: Площадь подвалов, м2 | F8: 660.6
A11: Наименование | F11: Значение
A12: Переходящие остатки денежных средств за выполненые работы (на начало периода; + резерв, - долг) | F12: 125259.34
A13: Задолженность по оплате за содержание и текущий ремонт общего имущества МКД (на начало периода) | F13: 104803.36
A14: Начислено за работы (услуги) по содержанию и текущему ремонту и аренду общего имущества МКД, в том числе: | F14: =SUM(F15:F17) -> 473823.45
A15: - за жилые помещения | F15: =489490.38-24786.93+480 -> 465183.45
A16: - за нежилые помещения
A17: - за рекламу и аренду общего имущества МКД | F17: 8640
A18: Получено денежных средств, в т. ч: | F18: =SUM(F19:F22) -> 461734.7
A19: - за жилые помещения | F19: =453358.7+480 -> 453838.7
A20: - за нежилые помещения
A21: - за рекламу и аренду общего имущества МКД | F21: 7896
A22: - субсидия
A23: Всего денежных средств с учетом остатков | F23: =F12+F18 -> 586994.04
A24: Выполненные работы (оказанные услуги) по содержанию общего имущества и текущему ремонту в отчетном периоде | F24: =Лист1!E88 -> 402173.1
A25: Переходящие остатки денежных средств за выполненные работы (на конец периода; + резерв, - долг) | F25: =F23-F24 -> 184820.94
A26: Задолженность по оплате за содержание и текущий ремонт общего имущества МКД (на конец периода) | F26: =F13+F14-F18+F22 -> 116892.11
A28: Директор ООО "ТРЭК" Плотников А.А. __________________
A29: Отчет составил: экономист Осипова М.С. _______________
A30: Отчет получил: ________________________________________________________
A31: Дата __________________

Sheet Лист1
A2: .
B3: АКТ № 77/12
A4: приемки оказанных услуг и (или) выполненных работ по содержанию
A5: и текущему ремонту общего имущества в многоквартирном доме
A6: г. Ангарск | E6: 31 марта 2021 г.
A8: Собственники помещений в многоквартином доме, расположенном по адресу: ________________________ , именуемые в дальнейшем "Заказчик", в лице ___________________________________________________________________________________,
A9: являющегося собственником квартиры № _____, находящейся в данном многоквартирном доме, действующего на основании протокола общего собрания собственников, с одной стороны, и управляющая компания ООО "ТРЭК", именуемая в дальнейшем
A10: "Исполнитель", в лице директора Плотникова А.А., действующего на основании Устава, с другой стороны, совместно именуемые "Стороны", составили настоящий акт о нижеследующем:
A11: 1. Исполнителем предъявлены к приемке следующие оказанные на основании договора управления многоквартирным домом или договора оказания услуг по содержанию и (или) выполнению работ по ремонту общего имущества в многоквартирном
A12: доме, либо договора подряда по выполнению работ по ремонту общего имущества в многоквартирном доме (указать нужное) № _______ от "____" ___________________ ______ г. (далее - "Договор") услуги и (или) выполненные работы по содержанию
A13: и текущему ремонту общего имущества в многоквартирном доме № _____, расположенном по адресу: ______________________:
A15: Наименование вида работы (услуги) | B15: Периодичность / количественный показатель выполненной работы (оказанной услуги) | C15: Единица измерения работы (услуги) | D15: Стоимость / сметная стоимость выполненной работы (оказанной услуги) за единицу | E15: Цена выполненной работы (оказанной услуги), в рублях
A16: Аварийное обслуживание
A17: Аварийное обслуживание | B17: Ежедневно | C17: руб. | D17: 0.13 | E17: 4598.1
A18: Благоустройство и обеспечение санитарного состояния МКД и придомовой територии
A19: Вывоз листвы и смета | B19: По факту | C19: м2 | D19: =E19 -> 233.84 | E19: 233.84
A20: Дезинфекция мест общего пользования МКД | B20: По факту | C20: м2 | D20: =E20 -> 4456.8 | E20: 4456.8
A21: Окраска известковыми составами: по кирпичу и бетону (бордюр. столбики, столбы) | B21: По факту | C21: 100 м2 | D21: =E21 -> 1180.81 | E21: 1180.81
A22: Окраска известковыми составами: по кирпичу и бетону (бордюр. столбики, столбы) за 2019 год | B22: По факту | C22: 100 м2 | D22: =E22 -> 1052.02 | E22: 1052.02
A23: Ремонт мусорного контейнера | B23: 1 | C23: шт | D23: =E23 -> 847.26 | E23: 847.26
A24: Уборка придомовой территории и лестничных клеток | B24: По тарифу | C24: м2 | D24: =E24 -> 139357.8 | E24: 139357.8
A25: Уборка чердаков и подвалов | B25: По тарифу | C25: м2 | D25: =E25 -> 412.48 | E25: 412.48
A26: Вознаграждение председателю совета дома
A27: Вознаграждение председателю совета дома | B27: По факту | C27: руб. | D27: =E27 -> 16510.05 | E27: 16510.05
A28: Дезинсекция и дератизация
A29: Дезинсекция и дератизация | B29: По договору | C29: руб. | D29: =E29 -> 1189.08 | E29: 1189.08
A30: Коммунальные ресурсы на содержание общ. имущества МКД
A31: Коммунальные ресурсы на содержание общего имущества МКД | B31: По факту | C31: руб. | D31: =E31 -> 53955.07 | E31: 53955.07
A32: Обслуживание газового оборудования
A33: Техобслуживание газового оборудования | B33: По договору | C33: 16 стояков | D33: =E33 -> 8628 | E33: 8628
A34: Обслуживание и текущий ремонт инженерного оборудования
A35: Врезка в действующие внутренние сети трубопроводов отопления и водоснобжения д. 15мм | B35: 3 | C35: шт | D35: =E35/B35 -> 1018.4933 | E35: 3055.48
A36: Консервация системы отопления | B36: 1 | C36: 100 м | D36: =E36/B36 -> 724.61 | E36: 724.61
A37: Осмотр кровли,чердака,подъездов,подвала,фасада-после землетр-ия, в т.ч. рем-т выявленных повреждений | B37: По факту | C37: 1000 м2 | D37: =E37 -> 1815.02 | E37: 1815.02
A38: Проверка работ-ти запорной арматуры, устранение мелких неисправностей, проверка работы ПУ РХВ | B38: 0.01 | C38: 100 шт. | D38: =E38/B38 -> 30407 | E38: 304.07
A39: Смена внутренних трубопроводов из стальных труб д. 25 мм | B39: 0.025 | C39: 100 м | D39: =E39/B39 -> 72009.2 | E39: 1800.23
A40: Смена внутренних трубопроводов из стальных труб д. до 32 мм | B40: 0.06 | C40: 100 м | D40: =E40/B40 -> 87752 | E40: 5265.12
A41: Установка манометров | B41: 3 | C41: шт | D41: =E41/B41 -> 751.53 | E41: 2254.59
A42: Установка термометра | B42: 1 | C42: комплект | D42: =E42/B42 -> 307.63 | E42: 307.63
A43: Запуск потока воды: отопление, ГВС, ХВС | B43: 4 | C43: 1 узел | D43: =E43/B43 -> 100.69 | E43: 402.76
...

Sheet 2021
A1: Отчет по бюджету № 77/12-2021
A3: Период: с 01.01.2021 по 31.12.2021 года.
A5: ОБЩИЕ СВЕДЕНИЯ ОБ ОБЪЕКТЕ
A6: Этажность | B6: 5 | C6: Общая жилая площадь, м2 | D6: 2947.5 | E6: Площадь кровли, м2 | F6: 961.9
A7: Количество подъездов | B7: 3 | C7: Площадь нежилых помещений, м2 | D7: 0 | E7: Площадь чердаков, м2 | F7: 657.9
A8: Количество квартир | B8: 60 | C8: Площадь л/ клеток, тамбуров, лифтов, м/камер, м2 | D8: 247.6 | E8: Площадь подвалов, м2 | F8: 660.6
A11: Наименование | F11: Значение
A12: Переходящие остатки денежных средств за выполненые работы (на начало периода; + резерв, - долг) | F12: 184820.94
A13: Задолженность по оплате за содержание и текущий ремонт общего имущества МКД (на начало периода) | F13: 116892.11
A14: Начислено за работы (услуги) по содержанию и текущему ремонту и аренду общего имущества МКД, в том числе: | F14: =SUM(F15:F17) -> 501733.46
A15: - за жилые помещения | F15: 493093.46
A16: - за нежилые помещения
A17: - за рекламу и аренду общего имущества МКД | F17: 8640
A18: Получено денежных средств, в т. ч: | F18: =SUM(F19:F22) -> 515044.91
A19: - за жилые помещения | F19: 506179.91
A20: - за нежилые помещения
A21: - за рекламу и аренду общего имущества МКД | F21: 8865
A22: - субсидия
A23: Всего денежных средств с учетом остатков | F23: =F12+F18 -> 699865.85
A24: Выполненные работы (оказанные услуги) по содержанию общего имущества и текущему ремонту в отчетном периоде | F24: =акт21!E88 -> 645398.52
A25: Переходящие остатки денежных средств за выполненные работы (на конец периода; + резерв, - долг) | F25: =F23-F24+0.01 -> 54467.334
A26: Задолженность по оплате за содержание и текущий ремонт общего имущества МКД (на конец периода) | F26: =F13+F14-F18+F22 -> 103580.66
A28: Директор ООО "ТРЭК" Плотников А.А. __________________
A29: Отчет составил: экономист _______________
A30: Отчет получил: ________________________________________________________
A31: Дата __________________

Sheet акт21
A2: .
A3: АКТ № 77/12
A4: приемки оказанных услуг и (или) выполненных работ по содержанию
A5: и текущему ремонту общего имущества в многоквартирном доме
A6: г. Ангарск | E6: 30 марта 2022 г.
A8: Собственники помещений в многоквартином доме, расположенном по адресу: ________________________ , именуемые в дальнейшем "Заказчик", в лице ___________________________________________________________________________________,
A9: являющегося собственником квартиры № _____, находящейся в данном многоквартирном доме, действующего на основании протокола общего собрания собственников, с одной стороны, и управляющая компания ООО "ТРЭК", именуемая в дальнейшем
A10: "Исполнитель", в лице директора Плотникова А.А., действующего на основании Устава, с другой стороны, совместно именуемые "Стороны", составили настоящий акт о нижеследующем:
A11: 1. Исполнителем предъявлены к приемке следующие оказанные на основании договора управления многоквартирным домом или договора оказания услуг по содержанию и (или) выполнению работ по ремонту общего имущества в многоквартирном
A12: доме, либо договора подряда по выполнению работ по ремонту общего имущества в многоквартирном доме (указать нужное) № _______ от "____" ___________________ ______ г. (далее - "Договор") услуги и (или) выполненные работы по содержанию
A13: и текущему ремонту общего имущества в многоквартирном доме № _____, расположенном по адресу: ______________________:
A15: Наименование вида работы (услуги) | B15: Периодичность / количественный показатель выполненной работы (оказанной услуги) | C15: Единица измерения работы (услуги) | D15: Стоимость / сметная стоимость выполненной работы (оказанной услуги) за единицу | E15: Цена выполненной работы (оказанной услуги), в рублях
A16: Аварийное обслуживание
A17: Аварийное обслуживание | B17: Ежедневно | C17: руб. | D17: 0.14 | E17: 4951.8
A18: Благоустройство и обеспечение санитарного состояния МКД и придомовой територии
A19: Вырезка сухих ветвей деревьев лиственных пород диаметр: до 350 мм при кол-ве срезанных ветвей до 5 | B19: 1 | C19: 1 дерево | D19: =E19/B19 -> 774.89 | E19: 774.89
A20: Услуги по вывозу и утилизации листвы, веток, деревьев, скошенной травы , смета и др. | B20: По факту | C20: руб. | D20: =E20 -> 791.65 | E20: 791.65
A21: Уборка придомовой территории и лестничных клеток | B21: По тарифу | C21: м2 | D21: =E21 -> 141480 | E21: 141480
A22: Услуги спец.техники по благоустройству (очистка наледи, снега) | B22: По факту | C22: руб. | D22: =E22 -> 6663.09 | E22: =5250+1413.09 -> 6663.09
A23: Окраска известковыми составами: по кирпичу и бетону (бордюр. столбики, столбы) | B23: По факту | C23: 100 м2 | D23: =E23 -> 1180.81 | E23: 1180.81
A24: Услуги спец.техники по благоустройству (очистка наледи, снега) | B24: По факту | C24: руб. | D24: =E24 -> 4500 | E24: 4500
A25: Вознаграждение председателю совета дома
A26: Вознаграждение председателю совета дома | B26: По тарифу | C26: руб. | D26: =E26 -> 17358.64 | E26: 17358.64
A27: Изготовление ключей
A28: Изготовление ключей | B28: По факту | C28: шт | D28: =E28 -> 300 | E28: 300
A29: Коммунальные ресурсы на содержание общ. имущества МКД
A30: Коммунальные ресурсы на содержание общего имущества МКД | B30: По факту | C30: руб. | D30: =E30 -> 24725.9 | E30: 24725.9
A31: Обслуживание и текущий ремонт инженерного оборудования
A32: Подчеканка раструбов канализационных труб диаметром: 101-125 мм | B32: 1 | C32: шт | D32: =E32/B32 -> 472.43 | E32: 472.43
A33: Приварка накладки | B33: 1 | C33: шт | D33: =E33/B33 -> 922.95 | E33: 922.95
A34: Смена внутренних трубопроводов из стальных труб д. 20 мм | B34: 0.03 | C34: 100 м | D34: =E34/B34 -> 79573.333 | E34: 2387.2
A35: Смена внутренних трубопроводов из стальных труб д. до 15мм | B35: 0.015 | C35: 100 м | D35: =E35/B35 -> 54268.667 | E35: 814.03
A36: Смена внутренних трубопроводов из стальных труб д. до 25 мм | B36: 0.075 | C36: 100 м | D36: =E36/B36 -> 72282.667 | E36: 5421.2
A37: Запуск потока воды: отопление, ГВС, ХВС | B37: 6 | C37: 1 узел | D37: =E37/B37 -> 97.916667 | E37: 587.5
A38: Запуск системы отопления. | B38: 1 | C38: 1 здание | D38: =E38/B38 -> 1005.22 | E38: 1005.22
A39: Опрессовка ТУ диаметром: до 100 мм | B39: 1 | C39: 100 м | D39: =E39/B39 -> 961.8 | E39: 961.8
A40: Осмотр и устранение мелких неисправностей на РХВ | B40: 1 | C40: шт | D40: =E40/B40 -> 149.54 | E40: 149.54
A41: Осмотр подъездов, подвального помещения чердачного помещения | B41: 0.1 | C41: 1000 м2 | D41: =E41/B41 -> 4020.4 | E41: 402.04
A42: Осмотр СТО | B42: 0.09 | C42: 100 квартир | D42: =E42/B42 -> 30219.667 | E42: 2719.77
A43: Осмотр СТО в ИТП, РХВ | B43: 0.02 | C43: 100 шт. | D43: =E43/B43 -> 30080.5 | E43: 601.61
...
