Workbook

Sheet Акт
A1: АКТ № 77/9-2017
A2: приемки оказанных услуг и (или) выполненных работ по содержанию и текущему ремонту общего имущества в многоквартирном доме № 9 квартала 77.
A3: г. Ангарск | D3: "31" марта 2018 г.
A5: Наименование вида работы (услуги) | B5: Периодичность/ количественный показатель выполненной работы (оказанной услуги) | C5: Единица измерения работы (услуги) | D5: Стоимость /сметная стоимость выполненной работы (оказанной услуги) за единицу | E5: Цена выполненной работы (оказанной услуги), в рублях
A6: Аварийное обслуживание
A7: Аварийное обслуживание | B7: Ежедневно | C7: руб. | D7: =E7 -> 4375.49 | E7: 4375.49
A8: Благоустройство
A9: Валка, обрезка деревьев с вывозом | B9: По факту | C9: руб. | D9: =E9 -> 144352.17 | E9: 144352.17
A10: Вывоз листвы и смета | B10: По факту | C10: м2 | D10: =E10 -> 6000 | E10: 6000
A11: Выкашивание газонов | B11: 2800 | C11: м2 | D11: =E11/B11 -> 3.9500036 | E11: 11060.01
A12: Демонтаж отдельных частей металлического ограждения спортивных площадок: стойки | B12: 4 | C12: 1 стойка | D12: =E12/B12 -> 2970.8 | E12: 11883.2
A13: Разделка древесины мягких пород, полученной от валки леса, диам. стволов: до 20 см | B13: 0.03 | C13: 100 шт. | D13: =E13/B13 -> 8626.6667 | E13: 258.8
A14: Устройство скамейки без спинки с окраской | B14: 1 | C14: шт | D14: =E14/B14 -> 1864.8 | E14: 1864.8
A15: Вывоз и утилизация ТКО, в т.ч. крупногабаритного мусора
A16: Услуги по вывозу и утилизации ТБО, в т.ч. крупногабаритного мусора | B16: Ежедневно | C16: руб. | D16: =E16 -> 84817.15 | E16: 84817.15
A17: Изготовление плана благоустройства
A18: Изготовление плана благоустройства | B18: По факту | C18: руб. | D18: =E18 -> 5338.8 | E18: 5338.8
A19: Коммунальные ресурсы на содержание общ. имущества МКД
A20: ГВС на содержание общ. имущества | B20: По факту | C20: руб. | D20: =E20 -> 6123.69 | E20: 6123.69
A21: Отведение сточных вод на содержание общ. имущества | B21: По нормативу | C21: руб. | D21: =E21 -> 2086.02 | E21: 2086.02
A22: ХВС на содержание общ. имущества | B22: По нормативу | C22: руб. | D22: =E22 -> 1763.66 | E22: 1763.66
A23: Электрическая энергия на содержание общ. имущества | B23: По факту | C23: руб. | D23: =E23 -> 9818.19 | E23: 9818.19
A24: Обслуживание и текущий ремонт электрооборудования жилых домов
A25: Обслуживание и текущий ремонт электрооборудования жилых домов | B25: По факту | C25: руб. | D25: =E25 -> 11847.75 | E25: 11847.75
A26: Обслуживание инженерного оборудования
A27: Врезка термокармана | B27: 1 | C27: 1 врезка | D27: =E27/B27 -> 1024.24 | E27: 1024.24
A28: Запуск потока воды: отопление, ГВС | B28: 1 | C28: 1 узел | D28: =E28/B28 -> 67.72 | E28: 67.72
A29: Запуск системы отопления. | B29: 1 | C29: 1 здание | D29: =E29/B29 -> 796.94 | E29: 796.94
A30: Ликвидация воздушных пробок в системе отопления, в стояке | B30: 1 | C30: 1 стояк | D30: =E30/B30 -> 446.22 | E30: 446.22
A31: Опрессовка ТУ диаметром: до 100 мм | B31: 0.09 | C31: 100 м | D31: =E31/B31 -> 3540.7778 | E31: 318.67
A32: Осмотр подвальных помещений (засоры, подпоры) прим. | B32: 0.67 | C32: 1000 м2 | D32: =E32/B32 -> 1458.5821 | E32: 977.25
A33: Осмотр СТО | B33: 0.1 | C33: 100 квартир | D33: =E33/B33 -> 23340.5 | E33: 2334.05
A34: Осмотр СТО в чердачных и подвальных помещениях (весенний и осенний) | B34: 3.06 | C34: 1000 м2 | D34: =E34/B34 -> 1426.8464 | E34: 4366.15
A35: Осмотр, РХВ замеры | B35: 0.03 | C35: 100 шт. | D35: =E35/B35 -> 22383.333 | E35: 671.5
A36: Отключение системы отопления (консервация) - прим. | B36: 1 | C36: 1 здание | D36: =E36/B36 -> 384.58 | E36: 384.58
A37: Отогрев трубопровода Д-20 | B37: 3.5 | C37: м | D37: =E37/B37 -> 161.52286 | E37: 565.33
A38: Очистка канализационной сети: внутренней | B38: 0.43 | C38: 100 м | D38: =E38/B38 -> 13183.86 | E38: 5669.06
... A48: Снятие и запись замера в наряде (ИТП,РХВ) | B48: 31 | C48: 1 ИТП | D48: =E48/B48 -> 226.44226 | E48: 7019.71
A49: Обслуживание конструктивных элементов
A50: Заделка подвальных окон: фанерой | B50: 0.06 | C50: 10 м2 | D50: =E50/B50 -> 1786.1667 | E50: 107.17
...

Sheet Бюджет
A1: Отчет по бюджету №77/9-2017
A3: Период: с 01.01.2017 по 31.12.2017 года.
A5: Строение / По типу работ | B5: Расходы | C5: Начисления | D5: Поступления
A6: Резерв на 01.01.2017 г. | B6: 211498.71
A7: Cодержание жилья | C7: 230574 | D7: 242746.46
A8: Аренда общего имущества МКД | C8: 86500 | D8: 87768.32
A9: Вывоз и утилизация ТКО | C9: 62748 | D9: 69953.27
A10: ГВС на содержание общ. имущества | C10: 6700.56 | D10: 2893.01
A11: Обслуживание ОДПУ | C11: 22161 | D11: 16868.85
A12: Отведение сточных вод на содержание общ. им-ва | C12: 2086.02
A13: Техническое обслуживание нежилых помещений | C13: 123897.48 | D13: 126686.23
A14: ХВС на содержание общ. имущества | C14: 1763.66 | D14: 7713.93
A15: Электрическая энергия на содержание общ. имущества | C15: 12616.15 | D15: 3250.91
A16: Аварийное обслуживание | B16: =Акт!E7 -> 4375.49
A17: Благоустройство | B17: =SUM(Акт!E9:E14) -> 175418.98
A18: Вывоз и утилизация ТКО, в т.ч. крупногабаритного мусора | B18: =Акт!E16 -> 84817.15
A19: Изготовление плана благоустройства | B19: =Акт!E18 -> 5338.8
A20: Коммунальные ресурсы на содержание общ. имущества МКД | B20: =SUM(Акт!E20:E23) -> 19791.56
A21: Обслуживание и текущий ремонт электрооборудования жилых домов | B21: =SUM(Акт!E25) -> 11847.75
A22: Обслуживание инженерного оборудования | B22: =SUM(Акт!E27:E48) -> 47507.34
A23: Обслуживание конструктивных элементов | B23: =SUM(Акт!E50:E63) -> 25888.98
A24: Обслуживание ОДПУ | B24: =Акт!E65 -> 21600
A25: Расходы на истребование задолженности по оплате жилых помещений | B25: =Акт!E67 -> 1133.89
A26: Текущий ремонт инженерного оборудования | B26: =SUM(Акт!E69:E71) -> 5837.85
A27: Текущий ремонт конструктивных элементов жилых зданий | B27: =SUM(Акт!E73:E81) -> 9766.48
A28: Транспортные расходы | B28: =SUM(Акт!E83:E84) -> 45709.68
A29: Уборка лестничных клеток | B29: =Акт!E86 -> 56544.72
A30: Уборка придомовой территории | B30: =Акт!E88 -> 62266.56
A31: Услуги по управлению МКД | B31: =Акт!E90 -> 54904.687
A32: Итого: | B32: =SUM(B7:B31) -> 632749.92 | C32: =SUM(C7:C31) -> 549046.87 | D32: =SUM(D7:D31) -> 557880.98 | E32: =B6+D32-B32 -> 136629.77
A33: Резерв (доходы за минусом расходов) на 01.01.2018 г. - 156 895,66 руб.
A34: Задолженность по оплате за содержание и текущий ремонт на 01.01.2018 г. - 178 617,58 руб.
A36: Директор ООО "ЖЭУ №6" Плотников А.А. __________________
A37: Отчет составил: экономист Сундукова Ю.А. _______________
A38: Отчет получил: ________________________________________________________
A39: Дата __________________

Sheet 2018
A1: Отчет по бюджету № 77/9-2018
A3: Период: с 01.01.2018 по 31.12.2018 года.
A5: ОБЩИЕ СВЕДЕНИЯ ОБ ОБЪЕКТЕ
A6: Этажность | B6: 4 | C6: Общая жилая площадь, м2 | D6: 2075 | E6: Площадь кровли, м2 | F6: 1247.7
A7: Количество подъездов | B7: 3 | C7: Площадь нежилых помещений, м2 | D7: 729.8 | E7: Площадь чердаков, м2 | F7: 831.8
A8: Количество квартир | B8: 36 | C8: Площадь л/ клеток, тамбуров, лифтов, м/камер, м2 | D8: 265.1 | E8: Площадь подвалов, м2 | F8: 626
A11: Наименование | F11: Значение
A12: Корректировка бюджета за 2017 год | F12: -14865.92
A13: Переходящие остатки денежных средств за выполненые работы (на начало периода; + резерв, - долг) | F13: =156895.66+F12 -> 142029.74
A14: Задолженность по оплате за содержание и текущий ремонт общего имущества МКД (на начало периода) | F14: 87364.77
A15: Начислено за работы (услуги) по содержанию и текущему ремонту и аренду общего имущества МКД, в том числе: | F15: =SUM(F16:F18) -> 485625.7
A16: - за жилые помещения | F16: =317661.83+19650.37 -> 337312.2
A17: - за нежилые помещения | F17: 120053.5
A18: - за рекламу и аренду общего имущества МКД | F18: 28260
A19: Получено денежных средств, в т. ч: | F19: =SUM(F20:F22) -> 483182.53
A20: - за жилые помещения | F20: 347183.53
A21: - за нежилые помещения | F21: 119716.5
A22: - за рекламу и аренду общего имущества МКД | F22: 16282.5
A23: Всего денежных средств с учетом остатков | F23: =F13+F19 -> 625212.27
A24: Выполненные работы (оказанные услуги) по содержанию общего имущества и текущему ремонту в отчетном периоде | F24: ='[1]Акт (2)'!E81 -> 443539.62
A25: Переходящие остатки денежных средств за выполненые работы (на конец периода; + резерв, - долг) | F25: =F23-F24 -> 181672.65
A26: Задолженность по оплате за содержание и текущий ремонт общего имущества МКД (на конец периода) | F26: =F14+F15-F19 -> 89807.94
A28: Директор ООО "ТРЭК" Плотников А.А. __________________
A29: Отчет составил: экономист Осипова М.С. _______________
A30: Отчет получил: ________________________________________________________
A31: Дата __________________

Sheet Акт (2)
A1: АКТ № 77/9-2018
A2: приемки оказанных услуг и (или) выполненных работ по содержанию и текущему ремонту общего имущества в многоквартирном доме № 9 квартала 77.
A3: г. Ангарск | D3: "31" марта 2019 г.
A5: Наименование вида работы (услуги) | B5: Периодичность/ количественный показатель выполненной работы (оказанной услуги) | C5: Единица измерения работы (услуги) | D5: Стоимость /сметная стоимость выполненной работы (оказанной услуги) за единицу | E5: Цена выполненной работы (оказанной услуги), в рублях
A6: Аварийное обслуживание
A7: Аварийное обслуживание | B7: Ежедневно | C7: руб. | D7: =E7 -> 4375.49 | E7: 4375.49
A8: Благоустройство
A9: Окраска известковыми составами: по кирпичу и бетону (бордюр. столбики, столбы) | B9: 0.32 | C9: 100 м2 | D9: =E9/B9 -> 4713.9688 | E9: 1508.47
A10: Окраска МАФ по дереву | B10: 0.008 | C10: 100 м2 | D10: =E10/B10 -> 18228.75 | E10: 145.83
A11: Ремонт деревянной катальной горки (Прим) | B11: 0.033 | C11: 100 м досок | D11: =E11/B11 -> 18354.545 | E11: 605.7
A12: Устройство скамейки без спинки с окраской | B12: 1 | C12: шт | D12: =E12/B12 -> 2548.73 | E12: 2548.73
A13: Вывоз и утилизация ТКО, в т.ч. крупногабаритного мусора
A14: Вывоз и утилизация ТКО, в т.ч. крупногабаритный мусор | B14: Ежедневно | C14: руб. | D14: =E14 -> 84817.15 | E14: 84817.15
A15: Коммунальные ресурсы на содержание общ. имущества МКД
A16: Коммунальные ресурсы на содержание общего имущества МКД | B16: По факту | C16: руб. | D16: =E16 -> 22678.55 | E16: 22678.55
A17: Обслуживание и текущий ремонт электрооборудования жилых домов
A18: Обслуживание и текущий ремонт электрооборудования жилых домов | B18: По плану | C18: руб. | D18: =E18 -> 7564.31 | E18: =668.97+6895.34 -> 7564.31
A19: Обслуживание инженерного оборудования
A20: Запуск потока воды: отопление, ГВС | B20: 1 | C20: 1 узел | D20: =E20/B20 -> 83.75 | E20: 83.75
A21: Запуск системы отопления. | B21: 1 | C21: 1 здание | D21: =E21/B21 -> 839.52 | E21: 839.52
A22: Опрессовка ТУ диаметром: до 100 мм | B22: 0.09 | C22: 100 м | D22: =E22/B22 -> 6088.8889 | E22: 548
A23: Осмотр выпусков канализации (засоры, подпоры) прим. | B23: 5 | C23: 1 здание | D23: =E23/B23 -> 251.938 | E23: 1259.69
A24: Осмотр подвальных помещений и выпуска при подпоре | B24: 2 | C24: 1 осмотр | D24: =E24/B24 -> 537.435 | E24: 1074.87
A25: Осмотр СТО | B25: 0.07 | C25: 100 квартир | D25: =E25/B25 -> 25283.571 | E25: 1769.85
A26: Осмотр СТО в чердачных и подвальных помещениях (весенний и осенний) | B26: 3.179 | C26: 1000 м2 | D26: =E26/B26 -> 1682.1579 | E26: 5347.58
A27: Осмотр, замеры, опломбировка ПУ Т/У с представителем | B27: 0.01 | C27: 100 шт. | D27: =E27/B27 -> 25109 | E27: 251.09
A28: Осмотр, проверка работы приборов ИТП | B28: 0.04 | C28: 100 квартир | D28: =E28/B28 -> 24976 | E28: 999.04
A29: Отключение системы отопления (консервация) - прим. | B29: 1 | C29: 1 здание | D29: =E29/B29 -> 503.4 | E29: 503.4
A30: Очистка канализационной сети: внутренней | B30: 0.06 | C30: 100 м | D30: =E30/B30 -> 14688.333 | E30: 881.3
A31: Перевод отопления с подачи на обратку или с обратки на подачу | B31: 2 | C31: узел | D31: =E31/B31 -> 218.605 | E31: 437.21
... A37: Устранение засоров санитарных приборов | B37: 1 | C37: 1 прибор | D37: =E37/B37 -> 298.44 | E37: 298.44
A38: Обслуживание конструктивных элементов
A39: Закрытие слуховых окон и люков выхода на кровлю | B39: 0.2 | C39: 10 шт. | D39: =E39/B39 -> 1920.45 | E39: 384.09
A40: Замена желоба на козырке входной двери | B40: 0.003 | C40: 100 м2 | D40: =E40/B40 -> 113520 | E40: 340.56
A41: Осмотр кровли, чердака, подъездов, подвального помещения -подготовка к зиме | B41: 1.722 | C41: 1000 м2 | D41: =E41/B41 -> 1651.1847 | E41: 2843.34
A42: Очистка кровли от снега, сбивание сосулей | B42: 108.75 | C42: 1 м 2 основания | D42: =E42/B42 -> 81.508874 | E42: 8864.09
A43: Плановые проверки вентиляционных каналов и оголовков | C43: м2 | D43: =E43 -> 20027.59 | E43: 20027.59
A44: Смена стекол в деревянных переплетах при площади стекла до: 0,25 м | B44: 0.007 | C44: 100 м2 | D44: =E44/B44 -> 182437.14 | E44: 1277.06
A45: Укрепление воронки | B45: 0.01 | C45: 100 шт. | D45: =E45/B45 -> 158758 | E45: 1587.58
A46: Укрепление козырька над входной дверью в подъезд | B46: 0.025 | C46: т | D46: =E46/B46 -> 61046.8 | E46: 1526.17
...

Sheet 2019
A1: Отчет по бюджету № 77/9-2019
A3: Период: с 01.01.2019 по 31.12.2019 года.
A5: ОБЩИЕ СВЕДЕНИЯ ОБ ОБЪЕКТЕ
A6: Этажность | B6: 4 | C6: Общая жилая площадь, м2 | D6: 2075 | E6: Площадь кровли, м2 | F6: 1247.7
A7: Количество подъездов | B7: 3 | C7: Площадь нежилых помещений, м2 | D7: 729.8 | E7: Площадь чердаков, м2 | F7: 831.8
A8: Количество квартир | B8: 36 | C8: Площадь л/ клеток, тамбуров, лифтов, м/камер, м2 | D8: 265.1 | E8: Площадь подвалов, м2 | F8: 626
A11: Наименование | F11: Значение
A12: Переходящие остатки денежных средств за выполненые работы (на начало периода; + резерв, - долг) | F12: 181672.65
A13: Задолженность по оплате за содержание и текущий ремонт общего имущества МКД (на начало периода) | F13: 126501.74
A14: Начислено за работы (услуги) по содержанию и текущему ремонту и аренду общего имущества МКД, в том числе: | F14: =SUM(F15:F17) -> 530513.68
A15: - за жилые помещения | F15: =316603.26+800+8694.6 -> 326097.86
A16: - за нежилые помещения | F16: 116957.82
A17: - за рекламу и аренду общего имущества МКД | F17: =87795-337 -> 87458
A18: Получено денежных средств, в т. ч: | F18: =SUM(F19:F21) -> 526590.67
A19: - за жилые помещения | F19: =800+328270.6 -> 329070.6
A20: - за нежилые помещения | F20: 116957.82
A21: - за рекламу и аренду общего имущества МКД | F21: 80562.25
A22: Всего денежных средств с учетом остатков | F22: =F12+F18 -> 708263.32
A23: Выполненные работы (оказанные услуги) по содержанию общего имущества и текущему ремонту в отчетном периоде | F23: =Лист3!E85 -> 328492.41
A24: Переходящие остатки денежных средств за выполненые работы (на конец периода; + резерв, - долг) | F24: =F22-F23 -> 379770.91
A25: Задолженность по оплате за содержание и текущий ремонт общего имущества МКД (на конец периода) | F25: =F13+F14-F18 -> 130424.75
A27: Директор ООО "ТРЭК" Плотников А.А. __________________
A28: Отчет составил: экономист Осипова М.С. _______________
A29: Отчет получил: ________________________________________________________
A30: Дата __________________

Sheet Лист3
A2: .
B3: АКТ № 77/9
B4: приемки оказанных услуг и (или) выполненных работ по содержанию
B5: и текущему ремонту общего имущества в многоквартирном доме
A6: г. Ангарск | E6: 31 марта 2020 г.
A8: Собственники помещений в многоквартином доме, расположенном по адресу: ________________________ , именуемые в дальнейшем "Заказчик", в лице ____________________________________________________________________________________,
A9: являющегося собственником квартиры № _____, находящейся в данном многоквартирном доме, действующего на основании протокола общего собрания собственников, с одной стороны, и управляющая компания ООО "ТРЭК", именуемая в дальнейшем
A10: "Исполнитель", в лице директора Плотникова А.А., действующего на основании Устава, с другой стороны, совместно именуемые "Стороны", составили настоящий акт о нижеследующем:
A11: 1. Исполнителем предъявлены к приемке следующие оказанные на основании договора управления многоквартирным домом или договора оказания услуг по содержанию и (или) выполнению работ по ремонту общего имущества в многоквартирном
A12: доме, либо договора подряда по выполнению работ по ремонту общего имущества в многоквартирном доме (указать нужное) № _______ от "____" ___________________ ______ г. (далее - "Договор") услуги и (или) выполненные работы по содержанию
A13: и текущему ремонту общего имущества в многоквартирном доме № _____, расположенном по адресу: ______________________:
A15: Наименование вида работы (услуги) | B15: Периодичность / количественный показатель выполненной работы (оказанной услуги) | C15: Единица измерения работы (услуги) | D15: Стоимость / сметная стоимость выполненной работы (оказанной услуги) за единицу | E15: Цена выполненной работы (оказанной услуги), в рублях
A16: Аварийное обслуживание
A17: Аварийное обслуживание | B17: Ежедневно | C17: руб. | D17: =E17 -> 4375.49 | E17: 4375.49
A18: Благоустройство и обеспечение санитарного состояния МКД и придомовой територии
A19: Завоз песка, ПГС, щебня, земли | B19: По факту | C19: ч | D19: =E19 -> 750 | E19: 750
A20: Приварка шарнира, скобы, приварка швов на МАФ | B20: 2 | C20: шт | D20: =E20/B20 -> 912.805 | E20: 1825.61
A21: Уборка придомовой территории и лестничных клеток | B21: По тарифу | C21: м2 | D21: =E21 -> 132533.02 | E21: 132533.02
A22: Уборка чердаков и подвалов | B22: По тарифу | C22: м2 | D22: =E22 -> 2805 | E22: 2805
A23: Услуги спец.техники по благоустройству (очистка наледи, снега) | B23: По факту | C23: руб. | D23: =E23 -> 827.99 | E23: 827.99
A24: Коммунальные ресурсы на содержание общ. имущества МКД
A25: Коммунальные ресурсы на содержание общего имущества МКД | B25: По факту | C25: руб. | D25: =E25 -> 20441.68 | E25: 20441.68
A26: Обслуживание и текущий ремонт инженерного оборудования
A27: Демонтаж- монтаж сгонов на подцепке радиатора: 20мм (перемотка) | B27: 1 | C27: 1 участок | D27: =E27/B27 -> 940.42 | E27: 940.42
A28: Изоляция трубопровода матами с совмещенным покрывным слоем | B28: 0.033 | C28: 1 м3 | D28: =E28/B28 -> 21218.485 | E28: 700.21
A29: Приварка проушины | B29: 2 | C29: шт | D29: =E29/B29 -> 844.145 | E29: 1688.29
A30: Разборка тепловой изоляции. | B30: 0.05 | C30: 100 м2 | D30: =E30/B30 -> 8615 | E30: 430.75
A31: Регулировка температуры отопления в ИТП вентилями | B31: 1 | C31: шт | D31: =E31/B31 -> 303.61 | E31: 303.61
A32: Смена внутренних трубопроводов из стальных труб д. до 15мм | B32: 0.02 | C32: 100 м | D32: =E32/B32 -> 46228 | E32: 924.56
A33: Запуск потока воды: отопление, ГВС | B33: 1 | C33: 1 узел | D33: =E33/B33 -> 91.38 | E33: 91.38
A34: Запуск системы отопления. | B34: 1 | C34: 1 здание | D34: =E34/B34 -> 907.5 | E34: 907.5
A35: Ликвидация воздушных пробок в системе отопления, в стояке | B35: 1 | C35: 1 стояк | D35: =E35/B35 -> 499.95 | E35: 499.95
A36: Осмотр подвальных помещений и выпуска при подпоре | B36: 2 | C36: 1 осмотр | D36: =E36/B36 -> 500.365 | E36: 1000.73
A37: Осмотр системы центрального отопления, устройств в чердачных и подвальных помещениях. | B37: 0.1 | C37: 1000 м2 | D37: =E37/B37 -> 1791.3 | E37: 179.13
A38: Осмотр СТО | B38: 0.09 | C38: 100 квартир | D38: =E38/B38 -> 27306.556 | E38: 2457.59
... A46: Проверка на прогрев отопительных приборов с регулировкой. | B46: 0.01 | C46: 100 приборов | D46: =E46/B46 -> 6606 | E46: 66.06
A47: Промывка выпусков канализации (устранение засора) | B47: По договору | C47: руб. | D47: =E47 -> 4600 | E47: 4600
A48: Промывка трубопровода системы отопления | B48: 12871 | C48: м3 | D48: 1.2219431 | E48: 15727.63
A49: Ремонт смесителя без душа, без снятия с места, смена прокладок | B49: 1 | C49: 1 смеситель | D49: =E49/B49 -> 103.51 | E49: 103.51
A50: Сдача ИТП представителю энергоснабжающей организации | B50: 1 | C50: 1 ИТП | D50: =E50/B50 -> 1295.32 | E50: 1295.32
...

Sheet 2020
A1: Отчет по бюджету № 77/9-2020
A3: Период: с 01.01.2020 по 31.12.2020 года.
A5: ОБЩИЕ СВЕДЕНИЯ ОБ ОБЪЕКТЕ
A6: Этажность | B6: 4 | C6: Общая жилая площадь, м2 | D6: 2075 | E6: Площадь кровли, м2 | F6: 1247.7
A7: Количество подъездов | B7: 3 | C7: Площадь нежилых помещений, м2 | D7: 729.8 | E7: Площадь чердаков, м2 | F7: 831.8
A8: Количество квартир | B8: 36 | C8: Площадь л/ клеток, тамбуров, лифтов, м/камер, м2 | D8: 265.1 | E8: Площадь подвалов, м2 | F8: 626
A11: Наименование | F11: Значение
A12: Переходящие остатки денежных средств за выполненые работы (на начало периода; + резерв, - долг) | F12: 379770.91
A13: Задолженность по оплате за содержание и текущий ремонт общего имущества МКД (на начало периода) | F13: 130424.75
A14: Начислено за работы (услуги) по содержанию и текущему ремонту и аренду общего имущества МКД, в том числе: | F14: =SUM(F15:F17) -> 504330.11
A15: - за жилые помещения | F15: =333535.62-10167.5+2129.89 -> 325498.01
A16: - за нежилые помещения | F16: 117308.1
A17: - за рекламу и аренду общего имущества МКД | F17: 61524
A18: Получено денежных средств, в т. ч: | F18: =SUM(F19:F21) -> 538268.38
A19: - за жилые помещения | F19: =366594.39+2129.89 -> 368724.28
A20: - за нежилые помещения | F20: 117308.1
A21: - за рекламу и аренду общего имущества МКД | F21: 52236
A22: Всего денежных средств с учетом остатков | F22: =F12+F18 -> 918039.29
A23: Выполненные работы (оказанные услуги) по содержанию общего имущества и текущему ремонту в отчетном периоде | F23: =Лист1!E98 -> 466622.1
A24: Переходящие остатки денежных средств за выполненные работы (на конец периода; + резерв, - долг) | F24: =F22-F23 -> 451417.19
A25: Задолженность по оплате за содержание и текущий ремонт общего имущества МКД (на конец периода) | F25: =F13+F14-F18 -> 96486.48
A27: Директор ООО "ТРЭК" Плотников А.А. __________________
A28: Отчет составил: экономист Осипова М.С. _______________
A29: Отчет получил: ________________________________________________________
A30: Дата __________________

Sheet Лист1
A2: .
B3: АКТ № 77/9
A4: приемки оказанных услуг и (или) выполненных работ по содержанию
A5: и текущему ремонту общего имущества в многоквартирном доме
A6: г. Ангарск | E6: 31 марта 2021 г.
A8: Собственники помещений в многоквартином доме, расположенном по адресу: ________________________ , именуемые в дальнейшем "Заказчик", в лице ___________________________________________________________________________________,
A9: являющегося собственником квартиры № _____, находящейся в данном многоквартирном доме, действующего на основании протокола общего собрания собственников, с одной стороны, и управляющая компания ООО "ТРЭК", именуемая в дальнейшем
A10: "Исполнитель", в лице директора Плотникова А.А., действующего на основании Устава, с другой стороны, совместно именуемые "Стороны", составили настоящий акт о нижеследующем:
A11: 1. Исполнителем предъявлены к приемке следующие оказанные на основании договора управления многоквартирным домом или договора оказания услуг по содержанию и (или) выполнению работ по ремонту общего имущества в многоквартирном
A12: доме, либо договора подряда по выполнению работ по ремонту общего имущества в многоквартирном доме (указать нужное) № _______ от "____" ___________________ ______ г. (далее - "Договор") услуги и (или) выполненные работы по содержанию
A13: и текущему ремонту общего имущества в многоквартирном доме № _____, расположенном по адресу: ______________________:
A15: Наименование вида работы (услуги) | B15: Периодичность / количественный показатель выполненной работы (оказанной услуги) | C15: Единица измерения работы (услуги) | D15: Стоимость / сметная стоимость выполненной работы (оказанной услуги) за единицу | E15: Цена выполненной работы (оказанной услуги), в рублях
A16: Аварийное обслуживание
A17: Аварийное обслуживание | B17: Ежедневно | C17: руб. | D17: 0.13 | E17: 4375.49
A18: Благоустройство и обеспечение санитарного состояния МКД и придомовой територии
A19: Вывоз листвы и смета | B19: По факту | C19: м2 | D19: =E19 -> 222.52 | E19: 222.52
A20: Дезинфекция мест общего пользования МКД | B20: По факту | C20: м2 | D20: =E20 -> 28630.8 | E20: 28630.8
A21: Завоз песка, ПГС, щебня, земли | B21: По факту | D21: =E21 -> 999.22 | E21: 999.22
A22: Окраска горки-домика | B22: 0.12 | C22: 100 м2 | D22: =E22/B22 -> 19270.25 | E22: 2312.43
A23: Окраска известковыми составами: по кирпичу и бетону (бордюр. столбики, столбы) | B23: По факту | C23: 100 м2 | D23: =E23 -> 1782.35 | E23: 1782.35
A24: Окраска известковыми составами: по кирпичу и бетону (бордюр. столбики, столбы) за 2019 год | B24: По факту | C24: 100 м2 | D24: =E24 -> 1587.95 | E24: 1587.95
A25: Окраска лестницы | B25: 1 | C25: шт | D25: =E25/B25 -> 671.11 | E25: 671.11
A26: Окраска скамейки без спинки | B26: 1 | C26: шт | D26: =E26/B26 -> 333.04 | E26: 333.04
A27: Окраска скамейки со спинкой | B27: 1 | C27: шт | D27: =E27/B27 -> 565.91 | E27: 565.91
A28: Окраска турника | B28: 2 | C28: шт | D28: =E28/B28 -> 344.145 | E28: 688.29
A29: Окраска шведской стенки (большая) | B29: 0.03 | C29: 100 м2 | D29: =E29/B29 -> 30074 | E29: 902.22
A30: Установка урны | B30: 2 | C30: 1 стойка | D30: =E30/B30 -> 3461.75 | E30: 6923.5
A31: Устройство песочницы с окраской | B31: 1 | C31: шт | D31: =E31/B31 -> 4572.86 | E31: 4572.86
A32: Уборка придомовой территории и лестничных клеток | B32: По тарифу | C32: м2 | D32: =E32 -> 129918.34 | E32: 129918.34
A33: Уборка чердаков и подвалов | B33: По тарифу | C33: м2 | D33: =E33 -> 560.76 | E33: 560.76
A34: Коммунальные ресурсы на содержание общ. имущества МКД
A35: Коммунальные ресурсы на содержание общего имущества МКД | B35: По факту | C35: руб. | D35: =E35 -> 88172.93 | E35: 88172.93
A36: Обслуживание и текущий ремонт инженерного оборудования
A37: Изоляция трубопровода матами с совмещенным покрывным слоем | B37: 0.014 | C37: 1 м3 | D37: =E37/B37 -> 23110 | E37: 323.54
A38: Консервация системы отопления | B38: 1 | C38: 100 м | D38: =E38/B38 -> 724.61 | E38: 724.61
A39: Осмотр кровли,чердака,подъездов,подвала,фасада-после землетр-ия, в т.ч. рем-т выявленных повреждений | B39: По факту | C39: 1000 м2 | D39: =E39 -> 2860.07 | E39: 2860.07
A40: Проверка работ-ти запорной арматуры, устранение мелких неисправностей, проверка работы ПУ РХВ | B40: 0.01 | C40: 100 шт. | D40: =E40/B40 -> 30407 | E40: 304.07
A41: Прокладка трубопроводов канализационных из полиэтиленовых труб высокой плотности: 50 мм | B41: 0.035 | C41: 100 м | D41: =E41/B41 -> 71964.286 | E41: 2518.75
A42: Разборка трубопровода из чугунных канализационных труб. диаметром 50мм | B42: 0.035 | C42: 100 м | D42: =E42/B42 -> 34911.429 | E42: 1221.9
A43: Разборка трубопроводов: на сварке диаметром до 100 мм | B43: 0.03 | C43: 100 м | D43: =E43/B43 -> 33654.667 | E43: 1009.64
...

Sheet 2021
A1: Отчет по бюджету № 77/9-2021
A3: Период: с 01.01.2021 по 31.12.2021 года.
A5: ОБЩИЕ СВЕДЕНИЯ ОБ ОБЪЕКТЕ
A6: Этажность | B6: 4 | C6: Общая жилая площадь, м2 | D6: 2075 | E6: Площадь кровли, м2 | F6: 1247.7
A7: Количество подъездов | B7: 3 | C7: Площадь нежилых помещений, м2 | D7: 729.8 | E7: Площадь чердаков, м2 | F7: 831.8
A8: Количество квартир | B8: 36 | C8: Площадь л/ клеток, тамбуров, лифтов, м/камер, м2 | D8: 265.1 | E8: Площадь подвалов, м2 | F8: 626
A11: Наименование | F11: Значение
A12: Переходящие остатки денежных средств за выполненые работы (на начало периода; + резерв, - долг) | F12: 451417.19
A13: Задолженность по оплате за содержание и текущий ремонт общего имущества МКД (на начало периода) | F13: 96486.48
A14: Начислено за работы (услуги) по содержанию и текущему ремонту и аренду общего имущества МКД, в том числе: | F14: =SUM(F15:F17) -> 456930.42
A15: - за жилые помещения | F15: 333280.98
A16: - за нежилые помещения | F16: 117709.44
A17: - за рекламу и аренду общего имущества МКД | F17: 5940
A18: Получено денежных средств, в т. ч: | F18: =SUM(F19:F21) -> 394492.85
A19: - за жилые помещения | F19: 323764.25
A20: - за нежилые помещения | F20: 64788.6
A21: - за рекламу и аренду общего имущества МКД | F21: 5940
A22: Всего денежных средств с учетом остатков | F22: =F12+F18 -> 845910.04
A23: Выполненные работы (оказанные услуги) по содержанию общего имущества и текущему ремонту в отчетном периоде | F23: =акт21!E80 -> 415662.13
A24: Переходящие остатки денежных средств за выполненные работы (на конец периода; + резерв, - долг) | F24: =F22-F23 -> 430247.91
A25: Задолженность по оплате за содержание и текущий ремонт общего имущества МКД (на конец периода) | F25: =F13+F14-F18 -> 158924.05
A27: Директор ООО "ТРЭК" Плотников А.А. __________________
A28: Отчет составил: экономист _______________
A29: Отчет получил: ________________________________________________________
A30: Дата __________________

Sheet акт21
A2: .
A3: АКТ № 77/9
A4: приемки оказанных услуг и (или) выполненных работ по содержанию
A5: и текущему ремонту общего имущества в многоквартирном доме
A6: г. Ангарск | E6: 30 марта 2022 г.
A8: Собственники помещений в многоквартином доме, расположенном по адресу: ________________________ , именуемые в дальнейшем "Заказчик", в лице ___________________________________________________________________________________,
A9: являющегося собственником квартиры № _____, находящейся в данном многоквартирном доме, действующего на основании протокола общего собрания собственников, с одной стороны, и управляющая компания ООО "ТРЭК", именуемая в дальнейшем
A10: "Исполнитель", в лице директора Плотникова А.А., действующего на основании Устава, с другой стороны, совместно именуемые "Стороны", составили настоящий акт о нижеследующем:
A11: 1. Исполнителем предъявлены к приемке следующие оказанные на основании договора управления многоквартирным домом или договора оказания услуг по содержанию и (или) выполнению работ по ремонту общего имущества в многоквартирном
A12: доме, либо договора подряда по выполнению работ по ремонту общего имущества в многоквартирном доме (указать нужное) № _______ от "____" ___________________ ______ г. (далее - "Договор") услуги и (или) выполненные работы по содержанию
A13: и текущему ремонту общего имущества в многоквартирном доме № _____, расположенном по адресу: ______________________:
A15: Наименование вида работы (услуги) | B15: Периодичность / количественный показатель выполненной работы (оказанной услуги) | C15: Единица измерения работы (услуги) | D15: Стоимость / сметная стоимость выполненной работы (оказанной услуги) за единицу | E15: Цена выполненной работы (оказанной услуги), в рублях
A16: Аварийное обслуживание
A17: Аварийное обслуживание | B17: Ежедневно | C17: руб. | D17: 0.14 | E17: 3486
A18: Благоустройство и обеспечение санитарного состояния МКД и придомовой територии
A19: Валка деревьев в городских условиях: (липа, сосна, кедр, тополь) | B19: 1 | C19: 1 м3 | D19: =E19/B19 -> 2379.88 | E19: 2379.88
A20: Корчевка пней с вывозом | B20: По факту | C20: шт | D20: =E20 -> 16053.6 | E20: 16053.6
A21: Разделка древесины мягких пород, полученной от валки леса | B21: 0.03 | C21: 100 шт. | D21: =E21/B21 -> 3217 | E21: 96.51
A22: Ремонт МАФ - беседки, домика, горки, скамейки (укрепление. пробивка гвоздей и т.д.) | B22: 1 | C22: шт | D22: =E22/B22 -> 768.84 | E22: 768.84
A23: Ремонт скамейки без спинки | B23: 1 | C23: шт | D23: =E23/B23 -> 894 | E23: 894
A24: Услуги по вывозу и утилизации листвы, веток, деревьев, скошенной травы , смета и др. | B24: По факту | C24: руб. | D24: =E24 -> 753.33 | E24: 753.33
A25: Услуги спец.техники по благоустройству (очистка наледи, снега) | B25: По факту | C25: руб. | D25: =E25 -> 6663.09 | E25: =5250+1413.09 -> 6663.09
A26: Окраска известковыми составами: по кирпичу и бетону (бордюр. столбики, столбы) | B26: По факту | C26: 100 м2 | D26: =E26 -> 1782.35 | E26: 1782.35
A27: Уборка придомовой территории и лестничных клеток | B27: По тарифу | C27: м2 | D27: =E27 -> 129918.36 | E27: 129918.36
A28: Коммунальные ресурсы на содержание общ. имущества МКД
A29: Коммунальные ресурсы на содержание общего имущества МКД | B29: По факту | C29: руб. | E29: 73817.52
A30: Обслуживание и текущий ремонт инженерного оборудования
A31: Монтаж обратного клапана Аэратор | B31: 0.01 | C31: 100 шт. | D31: =E31/B31 -> 111416 | E31: 1114.16
A32: Прокладка трубопроводов канализационных из полиэтиленовых труб высокой плотности: 110 мм | B32: 0.03 | C32: 100 м | D32: =E32/B32 -> 69574.333 | E32: 2087.23
A33: Прокладка трубопроводов канализационных из полиэтиленовых труб высокой плотности: 50 мм | B33: 0.013 | C33: 100 м | D33: =E33/B33 -> 58760.769 | E33: 763.89
A34: Разборка трубопровода из чугунных канализационных труб. диаметром 100мм | B34: 0.03 | C34: 100 м | D34: =E34/B34 -> 40835.667 | E34: 1225.07
A35: Разборка трубопровода из чугунных канализационных труб. диаметром 50мм | B35: 0.013 | C35: 100 м | D35: =E35/B35 -> 34507.692 | E35: 448.6
A36: Смена отдельных участков трубопроводов диаметром: 20 мм | B36: 1 | C36: 1 участок | D36: =E36/B36 -> 1289.83 | E36: 1289.83
A37: Запуск потока воды: отопление, ГВС, ХВС | B37: 3 | C37: 1 узел | D37: =E37/B37 -> 98.51 | E37: 295.53
A38: Запуск системы отопления. | B38: 1 | C38: 1 здание | D38: =E38/B38 -> 1005.22 | E38: 1005.22
A39: Опрессовка ТУ диаметром: до 100 мм | B39: 1 | C39: 100 м | D39: =E39/B39 -> 961.8 | E39: 961.8
A40: Осмотр и устранение мелких неисправностей на РХВ | B40: 1 | C40: шт | D40: =E40/B40 -> 149.54 | E40: 149.54
A41: Осмотр СТО | B41: 0.04 | C41: 100 квартир | D41: =E41/B41 -> 30035.25 | E41: 1201.41
A42: Осмотр СТО в чердачных и подвальных помещениях (весенний и осенний) | B42: 1.72 | C42: 1000 м2 | D42: =E42/B42 -> 1811.7151 | E42: 3116.15
... A51: Снятие и запись замера в наряде (ИТП,РХВ) | B51: 33 | C51: 1 ИТП | D51: =E51/B51 -> 302.27182 | E51: 9974.97
...
