Workbook

Sheet Акт
A1: АКТ № 76/8-2017
A2: приемки оказанных услуг и (или) выполненных работ по содержанию и текущему ремонту общего имущества в многоквартирном доме № 8 квартала 76.
A3: г. Ангарск | D3: "31" марта 2018 г.
A5: Наименование вида работы (услуги) | B5: Периодичность/ количественный показатель выполненной работы (оказанной услуги) | C5: Единица измерения работы (услуги) | D5: Стоимость /сметная стоимость выполненной работы (оказанной услуги) за единицу | E5: Цена выполненной работы (оказанной услуги), в рублях
A6: Аварийное обслуживание
A7: Аварийное обслуживание | B7: Ежедневно | C7: руб. | D7: =E7 -> 5884.01 | E7: 5884.01
A8: Благоустройство
A9: Валка, обрезка деревьев с вывозом | B9: По факту | C9: руб. | D9: =E9 -> 63650.89 | E9: 63650.89
A10: Вывоз листвы и смета | B10: По факту | C10: м2 | D10: =E10 -> 6000 | E10: 6000
A11: Выкашивание газонов | B11: 100 | C11: м2 | D11: =E11/B11 -> 3.95 | E11: 395
A12: Вывоз и утилизация ТКО, в т.ч. крупногабаритного мусора
A13: Услуги по вывозу и утилизации ТБО, в т.ч. крупногабаритного мусора | B13: Ежедневно | C13: руб. | D13: =E13 -> 85091.81 | E13: 85091.81
A14: Изготовление плана благоустройства
A15: Изготовление плана благоустройства | B15: По факту | C15: м2 | D15: =E15 -> 5997.6 | E15: 5997.6
A16: Коммунальные ресурсы на содержание общ. имущества МКД
A17: ГВС на содержание общ. имущества | B17: По факту | C17: руб. | D17: =E17 -> 7993.02 | E17: 7993.02
A18: Отведение сточных вод на содержание общ. имущества | B18: По нормативу | C18: руб. | D18: =E18 -> 3297.64 | E18: 3297.64
A19: ХВС на содержание общ. имущества | B19: По нормативу | C19: руб. | D19: =E19 -> 2707.71 | E19: 2707.71
A20: Электрическая энергия на содержание общ. имущества | B20: По факту | C20: руб. | D20: =E20 -> 8343.26 | E20: 8343.26
A21: Обслуживание и текущий ремонт электрооборудования жилых домов
A22: Обслуживание и текущий ремонт электрооборудования жилых домов | B22: По факту | C22: руб. | D22: =E22 -> 10015.93 | E22: 10015.93
A23: Обслуживание инженерного оборудования
A24: Демонтаж-монтаж смывного бачка типа "Компакт" | B24: 1 | C24: шт | D24: =E24/B24 -> 342.83 | E24: 342.83
A25: Запуск потока воды: отопление, ГВС | B25: 2 | C25: 1 узел | D25: =E25/B25 -> 78.995 | E25: 157.99
A26: Запуск системы отопления. | B26: 1 | C26: 1 здание | D26: =E26/B26 -> 796.94 | E26: 796.94
A27: Ликвидация воздушных пробок в системе отопления, в стояке | B27: 3 | C27: 1 стояк | D27: =E27/B27 -> 446.32333 | E27: 1338.97
A28: Опрессовка ТУ диаметром: до 100 мм | B28: 0.09 | C28: 100 м | D28: =E28/B28 -> 4270.8889 | E28: 384.38
A29: Осмотр подвальных помещений (засоры, подпоры) прим. | B29: 0.54 | C29: 1000 м2 | D29: =E29/B29 -> 1562.1111 | E29: 843.54
A30: Осмотр системы центрального отопления, устройств в чердачных и подвальных помещениях. | B30: 3.34 | C30: 1000 м2 | D30: =E30/B30 -> 1572.2335 | E30: 5251.26
A31: Осмотр СТО | B31: 0.17 | C31: 100 квартир | D31: =E31/B31 -> 22751.588 | E31: 3867.77
A32: Осмотр СТО в чердачных и подвальных помещениях (весенний и осенний) | B32: 2.1 | C32: 1000 м2 | D32: =E32/B32 -> 1559.1 | E32: 3274.11
A33: Осмотр, РХВ замеры | B33: 0.02 | C33: 100 шт. | D33: =E33/B33 -> 21561 | E33: 431.22
A34: Отключение системы отопления (консервация) - прим. | B34: 1 | C34: 1 здание | D34: =E34/B34 -> 384.58 | E34: 384.58
A35: Очистка канализационной сети: внутренней | B35: 0.85 | C35: 100 м | D35: =E35/B35 -> 13249.647 | E35: 11262.2
... A46: Устранение течи из гибких подводок присоединения санитарных приборов | B46: 1 | C46: 1 соединение | D46: =E46/B46 -> 116.28 | E46: 116.28
A47: Обслуживание конструктивных элементов
A48: Закрытие подвальных окон и люков (прим) | B48: 0.1 | C48: 10 шт. | D48: =E48/B48 -> 1885.5 | E48: 188.55
A49: Осмотр квартир | B49: 0.02 | C49: 100 квартир | D49: =E49/B49 -> 23465 | E49: 469.3
A50: Осмотр кровли, чердака, подъездов, подвального помещения - весенний осмотр | B50: 2.194 | C50: 1000 м2 | D50: =E50/B50 -> 1705.3054 | E50: 3741.44
A51: Осмотр кровли, чердака, подъездов, подвального помещения -подготовка к зиме | B51: 1.5 | C51: 1000 м2 | D51: =E51/B51 -> 1741.4 | E51: 2612.1
...

Sheet Бюджет
A1: Отчет по бюджету № 76/8-2017
A3: Период: с 01.01.2017 по 31.12.2017 года.
A5: Строение / По типу работ | B5: Расходы | C5: Начисления | D5: Поступления
A6: Долг за выполненные работы на 01.01.2017 г. | B6: 42996.88
A7: Cодержание жилья | C7: 414431.04 | D7: 479078.8
A8: Аренда общего имущества МКД | C8: 34900 | D8: 3768.32
A9: Вознаграждение председателю совета дома | C9: 21147 | D9: 11649.13
A10: Вывоз и утилизация ТКО | C10: 79512.72 | D10: 94316.32
A11: Вывоз и утилизация ТКО для нежилых помещений
A12: ГВС на содержание общ. имущества | C12: 10290.3 | D12: 6269.69
A13: Обслуживание ВДГО | C13: 16494.72 | D13: 18678.39
A14: Обслуживание ОДПУ | C14: 24530.52 | D14: 15790.4
A15: Отведение сточных вод на содержание общ. им-ва | C15: 3297.64
A16: Техническое обслуживание нежилых помещений | C16: 42377.5 | D16: 42572.59
A17: ХВС на содержание общ. имущества | C17: 2707.71 | D17: 3340.3
A18: Электрическая энергия на содержание общ. имущества | C18: 15032.48 | D18: 3965.11
A19: Аварийное обслуживание | B19: =Акт!E7 -> 5884.01
A20: Благоустройство | B20: =SUM(Акт!E9:E11) -> 70045.89
A21: Вывоз и утилизация ТКО, в т.ч. крупногабаритного мусора | B21: =Акт!E13 -> 85091.81
A22: Изготовление плана благоустройства | B22: =Акт!E15 -> 5997.6
A23: Коммунальные ресурсы на содержание общ. имущества МКД | B23: =SUM(Акт!E17:E20) -> 22341.63
A24: Обслуживание и текущий ремонт электрооборудования жилых домов | B24: =Акт!E22 -> 10015.93
A25: Обслуживание инженерного оборудования | B25: =SUM(Акт!E24:E46) -> 65310.59
A26: Обслуживание конструктивных элементов | B26: =SUM(Акт!E48:E60) -> 29591.93
A27: Обслуживание ОДПУ | B27: =Акт!E62 -> 21600
A28: Расходы на истребование задолженности по оплате жилых помещений | B28: =Акт!E64 -> 2425.84
A29: Текущий ремонт инженерного оборудования | B29: =SUM(Акт!E66:E69) -> 6585.54
A30: Текущий ремонт конструктивных элементов жилых зданий | B30: =SUM(Акт!E71:E78) -> 5348.12
A31: Транспортные расходы | B31: =SUM(Акт!E80:E81) -> 24012.88
A32: Уборка лестничных клеток | B32: =Акт!E83 -> 98217.67
A33: Уборка придомовой территории | B33: =Акт!E85 -> 103649.06
A34: Уборка чердаков и подвалов | B34: =Акт!E87 -> 4380.87
A35: Услуги по управлению МКД | B35: =Акт!E89 -> 66472.163
A36: Итого: | B36: =SUM(B7:B35) -> 626971.53 | C36: =SUM(C7:C35) -> 664721.63 | D36: =SUM(D7:D35) -> 679429.05
A37: Резерв (доходы за минусом расходов) на 01.01.2018 г. - 2 514,69 руб. | E37: =D36-B6-B36 -> 9460.637
A38: Задолженность по оплате за содержание и текущий ремонт на 01.01.2018 г. - 403 875,83 руб.
A40: Директор ООО "ЖЭУ №6" Плотников А.А. __________________
A41: Отчет составил: экономист Сундукова Ю.А. _______________
A42: Отчет получил: ________________________________________________________
A43: Дата __________________

Sheet 2018
A1: Отчет по бюджету № 76/8-2018
A3: Период: с 01.01.2018 по 31.12.2018 года.
A5: ОБЩИЕ СВЕДЕНИЯ ОБ ОБЪЕКТЕ
A6: Этажность | B6: 4 | C6: Общая жилая площадь, м2 | D6: 3524.5 | E6: Площадь кровли, м2 | F6: 1728
A7: Количество подъездов | B7: 4 | C7: Площадь нежилых помещений, м2 | D7: 247.3 | E7: Площадь чердаков, м2 | F7: 1152
A8: Количество квартир | B8: 61 | C8: Площадь л/ клеток, тамбуров, лифтов, м/камер, м2 | D8: 420.5 | E8: Площадь подвалов, м2 | F8: 621.4
A11: Наименование | F11: Значение
A12: Корректировка бюджета за 2017 год | F12: 10231.49
A13: Переходящие остатки денежных средств за выполненые работы (на начало периода; + резерв, - долг) | F13: =2514.69+F12 -> 12746.18
A14: Задолженность по оплате за содержание и текущий ремонт общего имущества МКД (на начало периода) | F14: =180071.6+4126.22 -> 184197.82
A15: Начислено за работы (услуги) по содержанию и текущему ремонту и аренду общего имущества МКД, в том числе: | F15: =SUM(F16:F18) -> 670225.06
A16: - за жилые помещения | F16: =609600.27+13949.71 -> 623549.98
A17: - за нежилые помещения | F17: 44425.08
A18: - за рекламу и аренду общего имущества МКД | F18: 2250
A19: Получено денежных средств, в т. ч: | F19: =SUM(F20:F22) -> 674302.36
A20: - за жилые помещения | F20: 629449.88
A21: - за нежилые помещения | F21: 42789.98
A22: - за рекламу и аренду общего имущества МКД | F22: 2062.5
A23: Всего денежных средств с учетом остатков | F23: =F13+F19 -> 687048.54
A24: Выполненные работы (оказанные услуги) по содержанию общего имущества и текущему ремонту в отчетном периоде | F24: ='Акт (2)'!E114 -> 652360.62
A25: Переходящие остатки денежных средств за выполненые работы (на конец периода; + резерв, - долг) | F25: =F23-F24 -> 34687.919
A26: Задолженность по оплате за содержание и текущий ремонт общего имущества МКД (на конец периода) | F26: =F14+F15-F19 -> 180120.52
A28: Директор ООО "ТРЭК" Плотников А.А. __________________
A29: Отчет составил: экономист Осипова М.С. _______________
A30: Отчет получил: ________________________________________________________
A31: Дата __________________

Sheet Акт (2)
A1: АКТ № 76/8-2018
A2: приемки оказанных услуг и (или) выполненных работ по содержанию и текущему ремонту общего имущества в многоквартирном доме № 8 квартала 76.
A3: г. Ангарск | D3: "31" марта 2019 г.
A5: Наименование вида работы (услуги) | B5: Периодичность/ количественный показатель выполненной работы (оказанной услуги) | C5: Единица измерения работы (услуги) | D5: Стоимость /сметная стоимость выполненной работы (оказанной услуги) за единицу | E5: Цена выполненной работы (оказанной услуги), в рублях
A6: Аварийное обслуживание
A7: Аварийное обслуживание | B7: Ежедневно | C7: руб. | D7: =E7 -> 5884.01 | E7: 5884.01
A8: Благоустройство
A9: Валка деревьев в городских условиях: (липа, сосна, кедр, тополь) д. более 300мм | B9: 5.82 | C9: 1 м3 | D9: =E9/B9 -> 1947.555 | E9: 11334.77
A10: Вывозка порубочных остатков на расстояние 22 км (класс груза 3) | B10: 2.44 | C10: т | D10: =E10/B10 -> 804.54098 | E10: 1963.08
A11: Санитарная обработка деревьев | B11: По факту | C11: 1 дерево | D11: =E11 -> 350 | E11: 350
A12: Завоз песка, ПГС, щебня, земли | B12: По факту | C12: руб. | D12: =E12 -> 4500 | E12: 4500
A13: Окраска горки-домика | B13: 0.12 | C13: 100 м2 | D13: =E13/B13 -> 17787 | E13: 2134.44
A14: Окраска деревянного домика-песочницы | B14: 0.06 | C14: 100 м2 | D14: =E14/B14 -> 17728.5 | E14: 1063.71
A15: Окраска известковыми составами: по кирпичу и бетону (бордюр. столбики, столбы) | B15: 0.268 | C15: 100 м2 | D15: =E15/B15 -> 4722.5 | E15: 1265.63
A16: Окраска качели-балансир | B16: 2 | C16: шт | D16: =E16/B16 -> 605.295 | E16: 1210.59
A17: Окраска МАФ по дереву - штахетный забор | B17: 0.06 | C17: 100 м2 | D17: =E17/B17 -> 18535.833 | E17: 1112.15
A18: Окраска скамейки без спинки | B18: 1 | C18: шт | D18: =E18/B18 -> 303.82 | E18: 303.82
A19: Окраска урны | B19: 0.008 | C19: 100 м2 | D19: =E19/B19 -> 27716.25 | E19: 221.73
A20: Погрузка порубочных остатков | B20: 2.44 | C20: т | D20: =E20/B20 -> 553.79918 | E20: 1351.27
A21: Приварка шарнира, скобы, приварка швов на МАФ | B21: 1 | C21: шт | D21: =E21/B21 -> 905.3 | E21: 905.3
A22: Утилизация ТБО | B22: 2.44 | C22: т | D22: =E22/B22 -> 1394.873 | E22: 3403.49
A23: Вознаграждение председателю совета дома
A24: Вознаграждение председателю совета дома | C24: руб. | D24: =E24 -> 20135.1 | E24: 20135.1
A25: Вознаграждение председателю совета дома 2017 год | C25: руб. | D25: =E25 -> 20364.52 | E25: 20364.52
A26: Вывоз и утилизация ТКО, в т.ч. крупногабаритного мусора
A27: Вывоз и утилизация ТКО, в т.ч. крупногабаритный мусор | B27: Ежедневно | C27: руб. | D27: =E27 -> 90523.2 | E27: 90523.2
A28: Коммунальные ресурсы на содержание общ. имущества МКД
A29: Коммунальные ресурсы на содержание общего имущества МКД | B29: По факту | C29: руб. | D29: =E29 -> 24842.88 | E29: 24842.88
A30: Обслуживание газового оборудования
A31: Техобслуживание газового оборудования | B31: По договору | C31: 1 стояк | D31: =E31 -> 18264.82 | E31: 18264.82
A32: Обслуживание и текущий ремонт электрооборудования жилых домов
A33: Обслуживание и текущий ремонт электрооборудования жилых домов | B33: По плану | C33: руб. | D33: =E33 -> 10127.85 | E33: =855.23+9272.62 -> 10127.85
A34: Обслуживание инженерного оборудования
A35: Запуск потока воды: отопление, ГВС | B35: 1 | C35: 1 узел | D35: =E35/B35 -> 83.75 | E35: 83.75
A36: Запуск системы отопления. | B36: 1 | C36: 1 здание | D36: =E36/B36 -> 839.52 | E36: 839.52
A37: Опрессовка ТУ диаметром: до 100 мм | B37: 0.09 | C37: 100 м | D37: =E37/B37 -> 6088.8889 | E37: 548
A38: Осмотр выпусков канализации (засоры, подпоры) прим. | B38: 1 | C38: 1 здание | D38: =E38/B38 -> 254.67 | E38: 254.67
A39: Осмотр подъездов, подвального помещения - по жалобе | B39: 0.2 | C39: 1000 м2 | D39: =E39/B39 -> 3345 | E39: 669
A40: Осмотр системы центрального отопления, устройств в чердачных и подвальных помещениях. | B40: 1.32 | C40: 1000 м2 | D40: =E40/B40 -> 1684.4242 | E40: 2223.44
A41: Осмотр СТО | B41: 0.05 | C41: 100 квартир | D41: =E41/B41 -> 25034.6 | E41: 1251.73
...

Sheet 2019
A1: Отчет по бюджету № 76/8-2019
A3: Период: с 01.01.2019 по 31.12.2019 года.
A5: ОБЩИЕ СВЕДЕНИЯ ОБ ОБЪЕКТЕ
A6: Этажность | B6: 4 | C6: Общая жилая площадь, м2 | D6: 3524.5 | E6: Площадь кровли, м2 | F6: 1728
A7: Количество подъездов | B7: 4 | C7: Площадь нежилых помещений, м2 | D7: 247.3 | E7: Площадь чердаков, м2 | F7: 1152
A8: Количество квартир | B8: 61 | C8: Площадь л/ клеток, тамбуров, лифтов, м/камер, м2 | D8: 420.5 | E8: Площадь подвалов, м2 | F8: 621.4
A11: Наименование | F11: Значение
A12: Переходящие остатки денежных средств за выполненые работы (на начало периода; + резерв, - долг) | F12: 34687.919
A13: Задолженность по оплате за содержание и текущий ремонт общего имущества МКД (на начало периода) | F13: 180120.52
A14: Начислено за работы (услуги) по содержанию и текущему ремонту и аренду общего имущества МКД, в том числе: | F14: =SUM(F15:F17) -> 613426.84
A15: - за жилые помещения | F15: =1200+572028.9-2255.56 -> 570973.34
A16: - за нежилые помещения | F16: 39978.5
A17: - за рекламу и аренду общего имущества МКД | F17: 2475
A18: Получено денежных средств, в т. ч: | F18: =SUM(F19:F21) -> 643950.75
A19: - за жилые помещения | F19: =594610.67+1200 -> 595810.67
A20: - за нежилые помещения | F20: 45733.83
A21: - за рекламу и аренду общего имущества МКД | F21: 2406.25
A22: Всего денежных средств с учетом остатков | F22: =F12+F18 -> 678638.67
A23: Выполненные работы (оказанные услуги) по содержанию общего имущества и текущему ремонту в отчетном периоде | F23: =Лист3!E103 -> 529144.1
A24: Переходящие остатки денежных средств за выполненые работы (на конец периода; + резерв, - долг) | F24: =F22-F23 -> 149494.57
A25: Задолженность по оплате за содержание и текущий ремонт общего имущества МКД (на конец периода) | F25: =F13+F14-F18 -> 149596.61
A27: Директор ООО "ТРЭК" Плотников А.А. __________________
A28: Отчет составил: экономист Осипова М.С. _______________
A29: Отчет получил: ________________________________________________________
A30: Дата __________________

Sheet Лист3
A2: .
B3: АКТ № 76/8
B4: приемки оказанных услуг и (или) выполненных работ по содержанию
B5: и текущему ремонту общего имущества в многоквартирном доме
A6: г. Ангарск | E6: 31 марта 2020 г.
A8: Собственники помещений в многоквартином доме, расположенном по адресу: ________________________ , именуемые в дальнейшем "Заказчик", в лице ___________________________________________________________________________________,
A9: являющегося собственником квартиры № _____, находящейся в данном многоквартирном доме, действующего на основании протокола общего собрания собственников, с одной стороны, и управляющая компания ООО "ТРЭК", именуемая в дальнейшем
A10: "Исполнитель", в лице директора Плотникова А.А., действующего на основании Устава, с другой стороны, совместно именуемые "Стороны", составили настоящий акт о нижеследующем:
A11: 1. Исполнителем предъявлены к приемке следующие оказанные на основании договора управления многоквартирным домом или договора оказания услуг по содержанию и (или) выполнению работ по ремонту общего имущества в многоквартирном
A12: доме, либо договора подряда по выполнению работ по ремонту общего имущества в многоквартирном доме (указать нужное) № _______ от "____" ___________________ ______ г. (далее - "Договор") услуги и (или) выполненные работы по содержанию
A13: и текущему ремонту общего имущества в многоквартирном доме № _____, расположенном по адресу: ______________________:
A15: Наименование вида работы (услуги) | B15: Периодичность / количественный показатель выполненной работы (оказанной услуги) | C15: Единица измерения работы (услуги) | D15: Стоимость / сметная стоимость выполненной работы (оказанной услуги) за единицу | E15: Цена выполненной работы (оказанной услуги), в рублях
A16: Аварийное обслуживание
A17: Аварийное обслуживание | B17: Ежедневно | C17: руб. | D17: 0.13 | E17: 5884.01
A18: Благоустройство и обеспечение санитарного состояния МКД и придомовой територии
A19: Завоз песка, ПГС, щебня, земли | B19: По факту | D19: =E19 -> 2666.67 | E19: 2666.67
A20: Уборка придомовой территории и лестничных клеток | B20: По тарифу | C20: м2 | D20: =E20 -> 193604.42 | E20: 193604.42
A21: Уборка чердаков и подвалов | B21: По тарифу | C21: м2 | D21: =E21 -> 6644.07 | E21: =4380.87+2263.2 -> 6644.07
A22: Услуги спец.техники по благоустройству (очистка наледи, снега) | B22: По факту | C22: руб. | D22: =E22 -> 1062.95 | E22: 1062.95
A23: Вознаграждение председателю совета дома
A24: Вознаграждение председателю совета дома | B24: По факту | C24: руб. | D24: =E24 -> 23136.17 | E24: 23136.17
A25: Коммунальные ресурсы на содержание общ. имущества МКД
A26: Коммунальные ресурсы на содержание общего имущества МКД | B26: По факту | C26: руб. | D26: =E26 -> 21782.88 | E26: 21782.88
A27: Обслуживание газового оборудования
A28: Диагностирование газового оборудования | B28: По договоу | C28: руб. | D28: =E28 -> 28350 | E28: 28350
A29: Техобслуживание газового оборудования | B29: По договоу | C29: 16 стояков | D29: =E29 -> 13600 | E29: 13600
A30: Обслуживание и текущий ремонт инженерного оборудования
A31: Демонтаж- монтаж кранов: водоразборных и туалетных | B31: 0.01 | C31: 100 шт. | D31: =E31/B31 -> 15203 | E31: 152.03
A32: Регулировка температуры отопления в ИТП вентилями | B32: 1 | C32: шт | D32: =E32/B32 -> 303.61 | E32: 303.61
A33: Смена отдельных участков трубопроводов диаметром: 15 мм | B33: 1 | C33: 1 участок | D33: =E33/B33 -> 994.23 | E33: 994.23
A34: Смена отдельных участков трубопроводов диаметром: 20 мм | B34: 1 | C34: 1 участок | D34: =E34/B34 -> 1102.47 | E34: 1102.47
A35: Смена отдельных участков трубопроводов канализации из полиет. труб высокой пл-ти: гориз. д 50 мм | B35: 1 | C35: 1 участок | D35: =E35/B35 -> 1029.88 | E35: 1029.88
A36: Запуск потока воды: отопление, ГВС | B36: 2 | C36: 1 узел | D36: =E36/B36 -> 90.975 | E36: 181.95
A37: Опрессовка ТУ диаметром: до 100 мм | B37: 1 | C37: 100 м | D37: =E37/B37 -> 812.33 | E37: 812.33
A38: Осмотр подвальных помещений и выпуска при подпоре | B38: 3 | C38: 1 осмотр | D38: =E38/B38 -> 544.80333 | E38: 1634.41
A39: Осмотр подъездов, подвального помещения чердачного помещения | B39: 0.5 | C39: 1000 м2 | D39: =E39/B39 -> 3642.3 | E39: 1821.15
A40: Осмотр системы центрального отопления, устройств в чердачных и подвальных помещениях. | B40: 0.1 | C40: 1000 м2 | D40: =E40/B40 -> 1791.3 | E40: 179.13
A41: Осмотр СТО | B41: 0.15 | C41: 100 квартир | D41: =E41/B41 -> 27098.667 | E41: 4064.8
A42: Осмотр СТО в чердачных и подвальных помещениях (весенний и осенний) | B42: 4.383 | C42: 1000 м2 | D42: =E42/B42 -> 1805.2658 | E42: 7912.48
... A48: Подготовка элеваторного узла | B48: 1 | C48: шт | D48: =E48/B48 -> 7308.67 | E48: 7308.67
...

Sheet 2020
A1: Отчет по бюджету № 76/8-2020
A3: Период: с 01.01.2020 по 31.12.2020 года.
A5: ОБЩИЕ СВЕДЕНИЯ ОБ ОБЪЕКТЕ
A6: Этажность | B6: 4 | C6: Общая жилая площадь, м2 | D6: 3524.5 | E6: Площадь кровли, м2 | F6: 1728
A7: Количество подъездов | B7: 4 | C7: Площадь нежилых помещений, м2 | D7: 247.3 | E7: Площадь чердаков, м2 | F7: 1152
A8: Количество квартир | B8: 61 | C8: Площадь л/ клеток, тамбуров, лифтов, м/камер, м2 | D8: 420.5 | E8: Площадь подвалов, м2 | F8: 621.4
A11: Наименование | F11: Значение
A12: Переходящие остатки денежных средств за выполненые работы (на начало периода; + резерв, - долг) | F12: 149494.57
A13: Задолженность по оплате за содержание и текущий ремонт общего имущества МКД (на начало периода) | F13: 149596.61
A14: Начислено за работы (услуги) по содержанию и текущему ремонту и аренду общего имущества МКД, в том числе: | F14: =SUM(F15:F17) -> 610655.15
A15: - за жилые помещения | F15: =630122.32-24098.74+1937.56-38074.23-1665.37 -> 568221.54
A16: - за нежилые помещения | F16: 39733.61
A17: - за рекламу и аренду общего имущества МКД | F17: 2700
A18: Получено денежных средств, в т. ч: | F18: =SUM(F19:F21) -> 593441.46
A19: - за жилые помещения | F19: =589253.9+1937.56-27521.38 -> 563670.08
A20: - за нежилые помещения | F20: 27521.38
A21: - за рекламу и аренду общего имущества МКД | F21: 2250
A22: Всего денежных средств с учетом остатков | F22: =F12+F18 -> 742936.03
A23: Выполненные работы (оказанные услуги) по содержанию общего имущества и текущему ремонту в отчетном периоде | F23: =Лист1!E94 -> 576432.26
A24: Переходящие остатки денежных средств за выполненные работы (на конец периода; + резерв, - долг) | F24: =F22-F23 -> 166503.77
A25: Задолженность по оплате за содержание и текущий ремонт общего имущества МКД (на конец периода) | F25: =F13+F14-F18 -> 166810.3
A27: Директор ООО "ТРЭК" Плотников А.А. __________________
A28: Отчет составил: экономист Осипова М.С. _______________
A29: Отчет получил: ________________________________________________________
A30: Дата __________________

Sheet Лист1
A2: .
B3: АКТ № 76/8
A4: приемки оказанных услуг и (или) выполненных работ по содержанию
A5: и текущему ремонту общего имущества в многоквартирном доме
A6: г. Ангарск | E6: 31 марта 2021 г.
A8: Собственники помещений в многоквартином доме, расположенном по адресу: ________________________ , именуемые в дальнейшем "Заказчик", в лице ___________________________________________________________________________________,
A9: являющегося собственником квартиры № _____, находящейся в данном многоквартирном доме, действующего на основании протокола общего собрания собственников, с одной стороны, и управляющая компания ООО "ТРЭК", именуемая в дальнейшем
A10: "Исполнитель", в лице директора Плотникова А.А., действующего на основании Устава, с другой стороны, совместно именуемые "Стороны", составили настоящий акт о нижеследующем:
A11: 1. Исполнителем предъявлены к приемке следующие оказанные на основании договора управления многоквартирным домом или договора оказания услуг по содержанию и (или) выполнению работ по ремонту общего имущества в многоквартирном
A12: доме, либо договора подряда по выполнению работ по ремонту общего имущества в многоквартирном доме (указать нужное) № _______ от "____" ___________________ ______ г. (далее - "Договор") услуги и (или) выполненные работы по содержанию
A13: и текущему ремонту общего имущества в многоквартирном доме № _____, расположенном по адресу: ______________________:
A15: Наименование вида работы (услуги) | B15: Периодичность / количественный показатель выполненной работы (оказанной услуги) | C15: Единица измерения работы (услуги) | D15: Стоимость / сметная стоимость выполненной работы (оказанной услуги) за единицу | E15: Цена выполненной работы (оказанной услуги), в рублях
A16: Аварийное обслуживание
A17: Аварийное обслуживание | B17: Ежедневно | C17: руб. | D17: 0.13 | E17: 5884.01
A18: Благоустройство и обеспечение санитарного состояния МКД и придомовой територии
A19: Валка деревьев без корчевки пня м-лиственных, тв-лиственных пород (кроме тополя) д.ствола до 24 см | B19: 1 | C19: 1 дерево | D19: =E19 -> 3338.48 | E19: 3338.48
A20: Вывоз листвы и смета | B20: По факту | C20: м2 | D20: =E20 -> 184.7 | E20: 184.7
A21: Дезинфекция мест общего пользования МКД | B21: По факту | C21: м2 | D21: =E21 -> 32799 | E21: 32799
A22: Окраска известковыми составами: по кирпичу и бетону (бордюр. столбики, столбы) | B22: По факту | C22: 100 м2 | D22: =E22 -> 1193.05 | E22: 1193.05
A23: Окраска известковыми составами: по кирпичу и бетону (бордюр. столбики, столбы) за 2019 год | B23: По факту | C23: 100 м2 | D23: =E23 -> 1062.95 | E23: 1062.95
A24: Окраска МАФ (песочницы, скамейки, качели, турники и т.д.) | B24: По факту | C24: шт | D24: =E24 -> 19135.39 | E24: 19135.39
A25: Ремонт деревянной катальной горки (Прим) | B25: 0.029 | C25: 100 м досок | D25: =E25/B25 -> 26868.276 | E25: 779.18
A26: Уборка придомовой территории и лестничных клеток | B26: По тарифу | C26: м2 | D26: =E26 -> 195530.11 | E26: 195530.11
A27: Уборка чердаков и подвалов | B27: По тарифу | C27: м2 | D27: =E27 -> 3168.2 | E27: 3168.2
A28: Услуги спец.техники по благоустройству (очистка наледи, снега) | B28: По факту | C28: руб. | D28: =E28 -> 3850 | E28: 3850
A29: Вознаграждение председателю совета дома
A30: Вознаграждение председателю совета дома | B30: По факту | C30: руб. | D30: =E30 -> 17035.73 | E30: 17035.73
A31: Дезинсекция и дератизация
A32: Санитарная обработка деревьев | B32: По договору | C32: шт | D32: =E32 -> 250 | E32: 250
A33: Коммунальные ресурсы на содержание общ. имущества МКД
A34: Коммунальные ресурсы на содержание общего имущества МКД | B34: По факту | C34: руб. | D34: =E34 -> 33292.76 | E34: 33292.76
A35: Обслуживание газового оборудования
A36: Техобслуживание газового оборудования | B36: По договору | C36: 16 стояков | D36: =E36 -> 15550 | E36: 15550
A37: Обслуживание и текущий ремонт инженерного оборудования
A38: Замена сборки Д-20 без спускника | B38: 1 | C38: шт | D38: =E38/B38 -> 1977.55 | E38: 1977.55
A39: Замена шарового крана Д-40 под приварку | B39: 1 | C39: шт | D39: =E39/B39 -> 4558.15 | E39: 4558.15
A40: Консервация системы отопления | B40: 1 | C40: 100 м | D40: =E40/B40 -> 724.61 | E40: 724.61
A41: Осмотр кровли,чердака,подъездов,подвала,фасада-после землетр-ия, в т.ч. рем-т выявленных повреждений | B41: По факту | C41: 1000 м2 | D41: =E41 -> 7644.37 | E41: 7644.37
A42: Регулировка температуры отопления в ИТП вентилями | B42: 3 | C42: шт | D42: =E42/B42 -> 380.99 | E42: 1142.97
A43: Смена отдельных участков трубопроводов диаметром: 32 мм | B43: 1 | C43: 1 участок | D43: =E43/B43 -> 1449.14 | E43: 1449.14
...

Sheet 2021
A1: Отчет по бюджету № 76/8-2021
A3: Период: с 01.01.2021 по 31.12.2021 года.
A5: ОБЩИЕ СВЕДЕНИЯ ОБ ОБЪЕКТЕ
A6: Этажность | B6: 4 | C6: Общая жилая площадь, м2 | D6: 3524.5 | E6: Площадь кровли, м2 | F6: 1728
A7: Количество подъездов | B7: 4 | C7: Площадь нежилых помещений, м2 | D7: 247.3 | E7: Площадь чердаков, м2 | F7: 1152
A8: Количество квартир | B8: 61 | C8: Площадь л/ клеток, тамбуров, лифтов, м/камер, м2 | D8: 420.5 | E8: Площадь подвалов, м2 | F8: 621.4
A11: Наименование | F11: Значение
A12: Переходящие остатки денежных средств за выполненые работы (на начало периода; + резерв, - долг) | F12: 166503.77
A13: Задолженность по оплате за содержание и текущий ремонт общего имущества МКД (на начало периода) | F13: 166810.3
A14: Начислено за работы (услуги) по содержанию и текущему ремонту и аренду общего имущества МКД, в том числе: | F14: =SUM(F15:F17) -> 605921.86
A15: - за жилые помещения | F15: 563817.11
A16: - за нежилые помещения | F16: 39404.75
A17: - за рекламу и аренду общего имущества МКД | F17: 2700
A18: Получено денежных средств, в т. ч: | F18: =SUM(F19:F21) -> 580166.62
A19: - за жилые помещения | F19: 538634.52
A20: - за нежилые помещения | F20: 38832.1
A21: - за рекламу и аренду общего имущества МКД | F21: 2700
A22: Всего денежных средств с учетом остатков | F22: =F12+F18 -> 746670.39
A23: Выполненные работы (оказанные услуги) по содержанию общего имущества и текущему ремонту в отчетном периоде | F23: =акт21!E98 -> 518072.15
A24: Переходящие остатки денежных средств за выполненные работы (на конец периода; + резерв, - долг) | F24: =F22-F23 -> 228598.24
A25: Задолженность по оплате за содержание и текущий ремонт общего имущества МКД (на конец периода) | F25: =F13+F14-F18 -> 192565.54
A27: Директор ООО "ТРЭК" Плотников А.А. __________________
A28: Отчет составил: экономист _______________
A29: Отчет получил: ________________________________________________________
A30: Дата __________________

Sheet акт21
A1: АКТ № 76/8
A2: приемки оказанных услуг и (или) выполненных работ по содержанию
A3: и текущему ремонту общего имущества в многоквартирном доме
A4: г. Ангарск | E4: 31 марта 2022 г.
A6: Собственники помещений в многоквартином доме, расположенном по адресу: ________________________ , именуемые в дальнейшем "Заказчик", в лице ___________________________________________________________________________________,
A7: являющегося собственником квартиры № _____, находящейся в данном многоквартирном доме, действующего на основании протокола общего собрания собственников, с одной стороны, и управляющая компания ООО "ТРЭК", именуемая в дальнейшем
A8: "Исполнитель", в лице директора Плотникова А.А., действующего на основании Устава, с другой стороны, совместно именуемые "Стороны", составили настоящий акт о нижеследующем:
A9: 1. Исполнителем предъявлены к приемке следующие оказанные на основании договора управления многоквартирным домом или договора оказания услуг по содержанию и (или) выполнению работ по ремонту общего имущества в многоквартирном
A10: доме, либо договора подряда по выполнению работ по ремонту общего имущества в многоквартирном доме (указать нужное) № _______ от "____" ___________________ ______ г. (далее - "Договор") услуги и (или) выполненные работы по содержанию
A11: и текущему ремонту общего имущества в многоквартирном доме № _____, расположенном по адресу: ______________________:
A13: Наименование вида работы (услуги) | B13: Периодичность / количественный показатель выполненной работы (оказанной услуги) | C13: Единица измерения работы (услуги) | D13: Стоимость / сметная стоимость выполненной работы (оказанной услуги) за единицу | E13: Цена выполненной работы (оказанной услуги), в рублях
A14: Аварийное обслуживание
A15: Аварийное обслуживание | B15: Ежедневно | C15: руб. | D15: 0.14 | E15: 5921.16
A16: Благоустройство и обеспечение санитарного состояния МКД и придомовой територии
A17: Завоз песка, ПГС, щебня, земли | B17: По факту | D17: =E17 -> 513.04 | E17: 513.04
A18: Окраска известковыми составами: по кирпичу и бетону (бордюр. столбики, столбы) | B18: По факту | C18: 100 м2 | D18: =E18 -> 1193.05 | E18: 1193.05
A19: Ремонт штакетного забора | B19: 0.05 | C19: 100 м2 | D19: =E19/B19 -> 30311.2 | E19: 1515.56
A20: Устройство скамейки без спинки с окраской | B20: 1 | C20: шт | D20: =E20/B20 -> 3805.56 | E20: 3805.56
A21: Услуги спец.техники по благоустройству (очистка наледи, снега) | B21: По факту | C21: руб. | D21: =E21 -> 4623.48 | E21: =2838.85+500+1284.63 -> 4623.48
A22: Услуги по вывозу и утилизации листвы, веток, деревьев, скошенной травы , смета и др. | B22: По факту | C22: руб. | D22: =E22 -> 3626.99 | E22: =3237.99+389 -> 3626.99
A23: Уборка придомовой территории и лестничных клеток | B23: По тарифу | C23: м2 | D23: =E23 -> 195530.16 | E23: 195530.16
A24: Дезинсекция и дератизация
A25: Дезинсекция и дератизация | B25: По факту | C25: руб. | D25: =E25 -> 820.25 | E25: 820.25
A26: Коммунальные ресурсы на содержание общ. имущества МКД
A27: Коммунальные ресурсы на содержание общего имущества МКД | B27: По факту | C27: руб. | D27: =E27 -> 49621.28 | E27: 49621.28
A28: Обслуживание и текущий ремонт инженерного оборудования
A29: Монтаж решеток на подвальные окна, приямки, загрузочные люки | B29: 0.033 | C29: т | D29: =E29/B29 -> 40984.242 | E29: 1352.48
A30: Прокладка трубопроводов канализационных из полиэтиленовых труб высокой плотности: 50 мм | B30: 0.054 | C30: 100 м | D30: =E30/B30 -> 74741.296 | E30: 4036.03
A31: Разборка трубопровода из чугунных канализационных труб. диаметром 50мм | B31: 0.054 | C31: 100 м | D31: =E31/B31 -> 34488.519 | E31: 1862.38
A32: Смена отдельных участков трубопроводов канализации из полиет. труб высокой пл-ти: вертик. д 50 мм | B32: 1 | C32: 1 участок | D32: =E32/B32 -> 623.9 | E32: 623.9
A33: Смена отдельных участков трубопроводов канализации из полиетиленовых труб высокой плотности:д 100 мм | B33: 1 | C33: 1 участок | D33: =E33/B33 -> 1521.29 | E33: 1521.29
A34: Установка заглушек на трубопроводах д. до 50мм | B34: 0.01 | C34: 100 шт. | D34: =E34/B34 -> 62794 | E34: 627.94
A35: Установка крышки люка | B35: 1 | C35: шт | D35: =E35/B35 -> 1245.78 | E35: 1245.78
A36: Запуск потока воды: отопление, ГВС, ХВС | B36: 3 | C36: 1 узел | D36: =E36/B36 -> 96.963333 | E36: 290.89
A37: Запуск системы отопления. | B37: 1 | C37: 1 здание | D37: =E37/B37 -> 1005.22 | E37: 1005.22
A38: Ликвидация воздушных пробок в системе отопления, в стояке | B38: 1 | C38: 1 стояк | D38: =E38/B38 -> 739.4 | E38: 739.4
A39: Опрессовка ТУ диаметром: до 100 мм | B39: 1 | C39: 100 м | D39: =E39/B39 -> 961.8 | E39: 961.8
A40: Осмотр и устранение мелких неисправностей на РХВ | B40: 1 | C40: шт | D40: =E40/B40 -> 149.54 | E40: 149.54
... A43: Осмотр СТО | B43: 0.08 | C43: 100 квартир | D43: =E43/B43 -> 30190.5 | E43: 2415.24
A44: Осмотр СТО в чердачных и подвальных помещениях (весенний и осенний) | B44: =2.19*2 -> 4.38 | C44: 1000 м2 | D44: =E44/B44 -> 2020.6872 | E44: =4458.47+4392.14 -> 8850.61
...
