Workbook

Sheet Акт
A1: АКТ № 75/20-2017
A2: приемки оказанных услуг и (или) выполненных работ по содержанию и текущему ремонту общего имущества в многоквартирном доме № 20 квартала 75.
A3: г. Ангарск | D3: "31" марта 2018 г.
A5: Наименование вида работы (услуги) | B5: Периодичность/ количественный показатель выполненной работы (оказанной услуги) | C5: Единица измерения работы (услуги) | D5: Стоимость /сметная стоимость выполненной работы (оказанной услуги) за единицу | E5: Цена выполненной работы (оказанной услуги), в рублях
A6: Аварийное обслуживание
A7: Аварийное обслуживание | B7: Ежедневно | C7: руб. | D7: =E7 -> 1609.92 | E7: 1609.92
A8: Благоустройство
A9: Валка деревьев в городских условиях: (дуб, бук, граб, клен, ясень) д. до 300мм | B9: 1 | C9: 1 м3 | D9: =E9/B9 -> 1818.05 | E9: 1818.05
A10: Валка деревьев в городских условиях: (липа, сосна, кедр, тополь) д. более 300мм | B10: 1 | C10: 1 м3 | D10: =E10/B10 -> 2144.03 | E10: 2144.03
A11: Валка деревьев с прим. автогидроподъемника без корчевки пня м-лиственных, тв-лиственных при д. до 36 | B11: 1.15 | C11: 1 м3 | D11: =E11/B11 -> 3689.8174 | E11: 4243.29
A12: Валка деревьев с прим. автогидроподъемника без корчевки пня породы тополь при д. ствола до 100 см | B12: 9.42 | C12: 1 м3 | D12: =E12/B12 -> 751.88641 | E12: 7082.77
A13: Выкашивание газонов | B13: 3000 | C13: м2 | D13: =E13/B13 -> 3.9500033 | E13: 11850.01
A14: Разделка древесины мягких пород, полученной от валки леса, диам. стволов:более 32 см | B14: 0.04 | C14: 100 шт. | D14: =E14/B14 -> 36876.25 | E14: 1475.05
A15: Вывоз и утилизация ТКО, в т.ч. крупногабаритного мусора
A16: Услуги по вывозу и утилизации ТБО, в т.ч. крупногабаритного мусора | B16: Ежедневно | C16: руб. | D16: =E16 -> 24768 | E16: 24768
A17: Обслуживание и текущий ремонт электрооборудования жилых домов
A18: Замена перегоревшей электролампы | B18: 2 | C18: 1 электролампа | D18: =E18/B18 -> 54.66 | E18: 109.32
A19: Обслуживание и текущий ремонт электрооборудования жилых домов | B19: По плану | C19: руб. | D19: =E19 -> 3890.25 | E19: 3890.25
A20: Обслуживание инженерного оборудования
A21: Вскрытие элеваторов со снятием с места и замером сопла (прим) | B21: 0.01 | C21: 100 шт. | D21: =E21/B21 -> 185373 | E21: 1853.73
A22: Запуск потока воды: отопление, ГВС | B22: 2 | C22: 1 узел | D22: =E22/B22 -> 74.12 | E22: 148.24
A23: Запуск системы отопления. | B23: 1 | C23: 1 здание | D23: =E23/B23 -> 796.94 | E23: 796.94
A24: Опрессовка ТУ диаметром: до 50 мм | B24: 0.07 | C24: 100 м | D24: =E24/B24 -> 3731 | E24: 261.17
A25: Осмотр подвальных помещений (засоры, подпоры) прим. | B25: 0.27 | C25: 1000 м2 | D25: =E25/B25 -> 1551.8519 | E25: 419
A26: Осмотр системы центрального отопления, устройств в чердачных и подвальных помещениях. | B26: 0.851 | C26: 1000 м2 | D26: =E26/B26 -> 1590.0823 | E26: 1353.16
A27: Осмотр СТО | B27: 0.06 | C27: 100 квартир | D27: =E27/B27 -> 22259.667 | E27: 1335.58
A28: Осмотр СТО в чердачных и подвальных помещениях (весенний и осенний) | B28: 0.63 | C28: 1000 м2 | D28: =E28/B28 -> 1559.0952 | E28: 982.23
A29: Осмотр, РХВ замеры | B29: 0.05 | C29: 100 шт. | D29: =E29/B29 -> 23046.2 | E29: 1152.31
A30: Отключение системы отопления (консервация) - прим. | B30: 1 | C30: 1 здание | D30: =E30/B30 -> 384.58 | E30: 384.58
A31: Очистка канализационной сети: внутренней | B31: 0.06 | C31: 100 м | D31: =E31/B31 -> 13612.667 | E31: 816.76
A32: Переборка сборки диаметром: 20 мм | B32: 2 | C32: 1 участок | D32: =E32/B32 -> 899.47 | E32: 1798.94
... A39: Уплотнение сгонов с применением льняной пряди или асбестового шнура (без разборки сгонов) | B39: 2 | C39: 1 соединение | D39: =E39/B39 -> 58.34 | E39: 116.68
A40: Обслуживание конструктивных элементов
A41: Осмотр кровли, чердака | B41: 0.64 | C41: 1000 м2 | D41: =E41/B41 -> 1621.5156 | E41: 1037.77
A42: Осмотр кровли, чердака, подъездов, подвального помещения - весенний осмотр | B42: 0.689 | C42: 1000 м2 | D42: =E42/B42 -> 1641.6981 | E42: 1131.13
A43: Осмотр СТО в чердачных и подвальных помещениях (весенний и осенний) | B43: 0.68 | C43: 1000 м2 | D43: =E43/B43 -> 1613.3971 | E43: 1097.11
A44: Очистка желобов от мусора: вручную (при расчете 1 кг. мусора = 3 м 1 желоба) | B44: 110 | C44: м | D44: =E44/B44 -> 55.236636 | E44: 6076.03
A45: Очистка кровли от снега, сбивание сосулей | B45: 38 | C45: 1 м 2 основания | D45: =E45/B45 -> 43.177105 | E45: 1640.73
A46: Расходы на истребование задолженности по оплате жилых помещений
A47: Истребование дебиторской задолженности | B47: По факту | C47: руб. | D47: =E47 -> 2000 | E47: 2000
...

Sheet Бюджет
A1: Отчет по бюджету № 75/20-2017
A3: Период: с 01.01.2017 по 31.12.2017 года.
A5: Строение / По типу работ | B5: Расходы | C5: Начисления | D5: Поступления
A6: Долг за выполненные работы на 01.01.2017 г. | D6: 189320.23
A7: Cодержание жилья | C7: 132308.04 | D7: 125109.73
A8: Вывоз и утилизация ТКО | C8: 24753.6 | D8: 23875.84
A9: Обслуживание ВДГО | C9: 1732.8 | D9: 3942.5
A10: Аварийное обслуживание | B10: =Акт!E7 -> 1609.92
A11: Благоустройство | B11: =SUM(Акт!E9:E14) -> 28613.2
A12: Вывоз и утилизация ТКО, в т.ч. крупногабаритного мусора | B12: =Акт!E16 -> 24768
A13: Обслуживание и текущий ремонт электрооборудования жилых домов | B13: =SUM(Акт!E18:E19) -> 3999.57
A14: Обслуживание инженерного оборудования | B14: =SUM(Акт!E21:E39) -> 23857.36
A15: Обслуживание конструктивных элементов | B15: =SUM(Акт!E41:E45) -> 10982.77
A16: Расходы на истребование задолженности по оплате жилых помещений | B16: =Акт!E47 -> 2000
A17: Текущий ремонт инженерного оборудования | B17: =SUM(Акт!E49:E52) -> 8326.62
A18: Текущий ремонт конструктивных элементов жилых зданий | B18: =SUM(Акт!E54:E61) -> 6315.32
A19: Транспортные расходы | B19: =SUM(Акт!E63:E64) -> 9224.07
A20: Уборка лестничных клеток | B20: =Акт!E66 -> 12074.4
A21: Уборка придомовой территории | B21: =Акт!E68 -> 36161.28
A22: Уборка чердаков и подвалов | B22: =Акт!E70 -> 1171.71
A23: Услуги по управлению МКД | B23: =Акт!E72 -> 15879.44
A24: Итого: | B24: =SUM(B7:B23) -> 184983.66 | C24: =SUM(C7:C23) -> 158794.44 | D24: =SUM(D7:D23) -> 152928.07
A25: Долг за выполненные работы (доходы за минусом расходов) на 01.01.2018 г. - 227 101,42 руб. | E25: =D24-D6-B24 -> -221375.82
A26: Задолженность по оплате за содержание и текущий ремонт на 01.01.2018 г. - 38 048,53 руб.
A28: Директор ООО "ЖЭУ №6" Плотников А.А. __________________
A29: Отчет составил: экономист Сундукова Ю.А. _______________
A30: Отчет получил: ________________________________________________________
A31: Дата __________________

Sheet 2018
A1: Отчет по бюджету № 75/20-2018
A3: Период: с 01.01.2018 по 31.12.2018 года.
A5: ОБЩИЕ СВЕДЕНИЯ ОБ ОБЪЕКТЕ
A6: Этажность | B6: 3 | C6: Общая жилая площадь, м2 | D6: 1032 | E6: Площадь кровли, м2 | F6: 643.4
A7: Количество подъездов | B7: 2 | C7: Площадь нежилых помещений, м2 | D7: 0 | E7: Площадь чердаков, м2 | F7: 415.1
A8: Количество квартир | B8: 18 | C8: Площадь л/ клеток, тамбуров, лифтов, м/камер, м2 | D8: 108.2 | E8: Площадь подвалов, м2 | F8: 166.2
A11: Наименование | F11: Значение
A12: Списание долга за выполненые работы на 01.01.2015 | F12: 133262.54
A13: Корректировка бюджета за 2017 год | F13: 5837.32
A14: Переходящие остатки денежных средств за выполненые работы (на начало периода; + резерв, - долг) | F14: =-227101.42+F12+F13 -> -88001.56
A15: Задолженность по оплате за содержание и текущий ремонт общего имущества МКД (на начало периода) | F15: 35612.8
A16: Начислено за работы (услуги) по содержанию и текущему ремонту и аренду общего имущества МКД, в том числе: | F16: =SUM(F17:F19) -> 173376
A17: - за жилые помещения | F17: 173376
A18: - за нежилые помещения
A19: - за рекламу и аренду общего имущества МКД
A20: Получено денежных средств, в т. ч: | F20: =SUM(F21:F23) -> 205869.73
A21: - за жилые помещения | F21: 205869.73
A22: - за нежилые помещения
A23: - за рекламу и аренду общего имущества МКД
A24: Всего денежных средств с учетом остатков | F24: =F14+F20 -> 117868.17
A25: Выполненные работы (оказанные услуги) по содержанию общего имущества и текущему ремонту в отчетном периоде | F25: ='Акт (2)'!E74 -> 154006.42
A26: Переходящие остатки денежных средств за выполненые работы (на конец периода; + резерв, - долг) | F26: =F24-F25 -> -36138.254
A27: Задолженность по оплате за содержание и текущий ремонт общего имущества МКД (на конец периода) | F27: =F15+F16-F20 -> 3119.07
A29: Директор ООО "ТРЭК" Плотников А.А. __________________
A30: Отчет составил: экономист Осипова М.С. _______________
A31: Отчет получил: ________________________________________________________
A32: Дата __________________

Sheet Акт (2)
A1: АКТ № 75/20-2018
A2: приемки оказанных услуг и (или) выполненных работ по содержанию и текущему ремонту общего имущества в многоквартирном доме № 20 квартала 75.
A3: г. Ангарск | D3: "31" марта 2019 г.
A5: Наименование вида работы (услуги) | B5: Периодичность/ количественный показатель выполненной работы (оказанной услуги) | C5: Единица измерения работы (услуги) | D5: Стоимость /сметная стоимость выполненной работы (оказанной услуги) за единицу | E5: Цена выполненной работы (оказанной услуги), в рублях
A6: Аварийное обслуживание
A7: Аварийное обслуживание | B7: Ежедневно | C7: руб. | D7: =E7 -> 1609.92 | E7: 1609.92
A8: Благоустройство
A9: Валка деревьев в городских условиях: (дуб, бук, граб, клен, ясень) д. до 300мм | B9: 0.87 | C9: 1 м3 | D9: =E9/B9 -> 1540.5402 | E9: 1340.27
A10: Вывозка порубочных остатков на расстояние 22 км (класс груза 3) | B10: 0.82 | C10: т | D10: =E10/B10 -> 741.14634 | E10: 607.74
A11: Окраска известковыми составами: по кирпичу и бетону (бордюр. столбики, столбы) | B11: 0.223 | C11: 100 м2 | D11: =E11/B11 -> 4717.9372 | E11: 1052.1
A12: Погрузка порубочных остатков | B12: 0.82 | C12: т | D12: =E12/B12 -> 517.12195 | E12: 424.04
A13: Утилизация парубочных отходов | B13: 0.82 | C13: т | D13: =E13/B13 -> 1285.0488 | E13: 1053.74
A14: Вывоз и утилизация ТКО, в т.ч. крупногабаритного мусора
A15: Вывоз и утилизация ТКО, в т.ч. крупногабаритный мусор | B15: Ежедневно | C15: руб. | D15: =E15 -> 24768 | E15: 24768
A16: Дезинсекция и дератизация
A17: Дезинсекция и дератизация | B17: По договору | C17: руб. | D17: =E17 -> 299.16 | E17: 299.16
A18: Изготовление плана благоустройства
A19: Изготовление плана благоустройства | B19: По договору | C19: руб. | D19: =E19 -> 4026.6 | E19: 4026.6
A20: Обслуживание газового оборудования
A21: Техобслуживание газового оборудования | B21: По договору | C21: 1 стояк | D21: =E21 -> 3265.99 | E21: 3265.99
A22: Обслуживание и текущий ремонт электрооборудования жилых домов
A23: Облуж.и текущий ремонт э/установок дома | B23: По плану | C23: руб. | D23: =E23 -> 2537.08 | E23: 2537.08
A24: Обслуживание инженерного оборудования
A25: Запуск потока воды: отопление, ГВС | B25: 1 | C25: 1 узел | D25: =E25/B25 -> 83.75 | E25: 83.75
A26: Запуск системы отопления. | B26: 1 | C26: 1 здание | D26: =E26/B26 -> 839.52 | E26: 839.52
A27: Опрессовка ТУ диаметром: до 50 мм | B27: 0.07 | C27: 100 м | D27: =E27/B27 -> 6095.4286 | E27: 426.68
A28: Осмотр выпусков канализации (засоры, подпоры) прим. | B28: 1 | C28: 1 здание | D28: =E28/B28 -> 254.67 | E28: 254.67
A29: Осмотр СТО | B29: 0.01 | C29: 100 квартир | D29: =E29/B29 -> 24540 | E29: 245.4
A30: Осмотр СТО в чердачных и подвальных помещениях (весенний и осенний) | B30: 1.705 | C30: 1000 м2 | D30: =E30/B30 -> 1679.5484 | E30: 2863.63
A31: Осмотр, РХВ замеры | B31: 0.01 | C31: 100 шт. | D31: =E31/B31 -> 25840 | E31: 258.4
A32: Отключение системы отопления (консервация) - прим. | B32: 1 | C32: 1 здание | D32: =E32/B32 -> 503.4 | E32: 503.4
A33: Перевод отопления с подачи на обратку или с обратки на подачу | B33: 3 | C33: узел | D33: =E33/B33 -> 217.75667 | E33: 653.27
A34: Перекрытие потока воды: отопление, ГВС | B34: 1 | C34: 1 узел | D34: =E34/B34 -> 67.25 | E34: 67.25
A35: Подготовка элеваторного узла Д-50 к зиме | B35: 1 | C35: шт | D35: =E35/B35 -> 3485.03 | E35: 3485.03
A36: Регулировка системы отопления | B36: 1 | C36: шт | D36: =E36/B36 -> 1254.21 | E36: 1254.21
... A40: Снятие и запись замера в наряде (ИТП,РХВ) | B40: 29 | C40: 1 ИТП | D40: =E40/B40 -> 254.29931 | E40: 7374.68
A41: Обслуживание конструктивных элементов
A42: Закрытие подъездного окна | B42: 0.1 | C42: 10 шт. | D42: =E42/B42 -> 1888.9 | E42: 188.89
A43: Осмотр подвальных помещениях (засоры, подпоры) | B43: 0.27 | C43: 1000 м2 | D43: =E43/B43 -> 1698.5556 | E43: 458.61
A44: Осмотр кровли, чердака, подъездов, подвального помещения -подготовка к зиме | B44: 0.689 | C44: 1000 м2 | D44: =E44/B44 -> 1651.3353 | E44: 1137.77
...

Sheet 2019
A1: Отчет по бюджету № 75/20-2019
A3: Период: с 01.01.2019 по 31.12.2019 года.
A5: ОБЩИЕ СВЕДЕНИЯ ОБ ОБЪЕКТЕ
A6: Этажность | B6: 3 | C6: Общая жилая площадь, м2 | D6: 1032 | E6: Площадь кровли, м2 | F6: 643.4
A7: Количество подъездов | B7: 2 | C7: Площадь нежилых помещений, м2 | D7: 0 | E7: Площадь чердаков, м2 | F7: 415.1
A8: Количество квартир | B8: 18 | C8: Площадь л/ клеток, тамбуров, лифтов, м/камер, м2 | D8: 108.2 | E8: Площадь подвалов, м2 | F8: 166.2
A11: Наименование | F11: Значение
A12: Переходящие остатки денежных средств за выполненые работы (на начало периода; + резерв, - долг) | F12: -36138.254
A13: Задолженность по оплате за содержание и текущий ремонт общего имущества МКД (на начало периода) | F13: 3119.07
A14: Начислено за работы (услуги) по содержанию и текущему ремонту и аренду общего имущества МКД, в том числе: | F14: =SUM(F15:F17) -> 181476.24
A15: - за жилые помещения | F15: =173376.24+8100 -> 181476.24
A16: - за нежилые помещения
A17: - за рекламу и аренду общего имущества МКД
A18: Получено денежных средств, в т. ч: | F18: =SUM(F19:F21) -> 176588.77
A19: - за жилые помещения | F19: 176588.77
A20: - за нежилые помещения
A21: - за рекламу и аренду общего имущества МКД
A22: Всего денежных средств с учетом остатков | F22: =F12+F18 -> 140450.52
A23: Выполненные работы (оказанные услуги) по содержанию общего имущества и текущему ремонту в отчетном периоде | F23: =Лист3!E77 -> 165091.08
A24: Переходящие остатки денежных средств за выполненые работы (на конец периода; + резерв, - долг) | F24: =F22-F23 -> -24640.564
A25: Задолженность по оплате за содержание и текущий ремонт общего имущества МКД (на конец периода) | F25: =F13+F14-F18 -> 8006.54
A27: Директор ООО "ТРЭК" Плотников А.А. __________________
A28: Отчет составил: экономист Осипова М.С. _______________
A29: Отчет получил: ________________________________________________________
A30: Дата __________________

Sheet Лист3
A2: .
A3: АКТ № 75/20
A4: приемки оказанных услуг и (или) выполненных работ по содержанию
A5: и текущему ремонту общего имущества в многоквартирном доме
A6: г. Ангарск | E6: 31 марта 2020 г.
A8: Собственники помещений в многоквартином доме, расположенном по адресу: ________________________ , именуемые в дальнейшем "Заказчик", в лице ___________________________________________________________________________________,
A9: являющегося собственником квартиры № _____, находящейся в данном многоквартирном доме, действующего на основании протокола общего собрания собственников, с одной стороны, и управляющая компания ООО "ТРЭК", именуемая в дальнейшем
A10: "Исполнитель", в лице директора Плотникова А.А., действующего на основании Устава, с другой стороны, совместно именуемые "Стороны", составили настоящий акт о нижеследующем:
A11: 1. Исполнителем предъявлены к приемке следующие оказанные на основании договора управления многоквартирным домом или договора оказания услуг по содержанию и (или) выполнению работ по ремонту общего имущества в многоквартирном
A12: доме, либо договора подряда по выполнению работ по ремонту общего имущества в многоквартирном доме (указать нужное) № _______ от "____" ___________________ ______ г. (далее - "Договор") услуги и (или) выполненные работы по содержанию
A13: и текущему ремонту общего имущества в многоквартирном доме № _____, расположенном по адресу: ______________________:
A15: Наименование вида работы (услуги) | B15: Периодичность / количественный показатель выполненной работы (оказанной услуги) | C15: Единица измерения работы (услуги) | D15: Стоимость / сметная стоимость выполненной работы (оказанной услуги) за единицу | E15: Цена выполненной работы (оказанной услуги), в рублях
A16: Аварийное обслуживание
A17: Аварийное обслуживание | B17: Ежедневно | C17: руб. | D17: 0.13 | E17: 1609.92
A18: Благоустройство и обеспечение санитарного состояния МКД и придомовой територии
A19: Уборка придомовой территории и лестничных клеток | B19: По тарифу | C19: м2 | D19: =E19 -> 53862.37 | E19: 53862.37
A20: Уборка чердаков и подвалов | B20: По тарифу | C20: м2 | D20: =E20 -> 825.76 | E20: 825.76
A21: Услуги спец.техники по благоустройству (очистка наледи, снега) | B21: По факту | C21: руб. | D21: =E21 -> 568.17 | E21: 568.17
A22: Обслуживание газового оборудования
A23: Диагностирование газового оборудования | B23: По договору | C23: руб. | D23: =E23 -> 8100 | E23: 8100
A24: Техобслуживание газового оборудования | B24: По договору | C24: 16 стояков | D24: =E24 -> 1700 | E24: 1700
A25: Обслуживание и текущий ремонт инженерного оборудования
A26: Демонтаж- монтаж сгонов на подцепке радиатора: 20мм (перемотка) | B26: 1 | C26: 1 участок | D26: =E26/B26 -> 940.42 | E26: 940.42
A27: Демонтаж- монтаж сгонов у трубопроводов диаметром: 20мм (перемотка) | B27: 0.01 | C27: 100 шт. | D27: =E27/B27 -> 13124 | E27: 131.24
A28: Демонтаж- монтаж сгонов у трубопроводов диаметром: 25мм (перемотка) | B28: 0.01 | C28: 100 шт. | D28: =E28/B28 -> 19940 | E28: 199.4
A29: Приварка проушины | B29: 1 | C29: шт | D29: =E29/B29 -> 858.84 | E29: 858.84
A30: Регулировка температуры отопления в ИТП вентилями | B30: 1 | C30: шт | D30: =E30/B30 -> 303.61 | E30: 303.61
A31: Смена радиаторных пробок | B31: 4 | C31: шт | D31: =E31/B31 -> 166.475 | E31: 665.9
A32: Установка вентилей и клапанов обратных муфтовых д. до 15 мм (для предохр. клапана) | B32: 4 | C32: шт | D32: =E32/B32 -> 382.475 | E32: 1529.9
A33: Запуск потока воды: отопление, ГВС | B33: 5 | C33: 1 узел | D33: =E33/B33 -> 90.844 | E33: 454.22
A34: Запуск системы отопления. | B34: 1 | C34: 1 здание | D34: =E34/B34 -> 907.5 | E34: 907.5
A35: Осмотр и устранение мелких неисправностей на РХВ | B35: 1 | C35: шт | D35: =E35/B35 -> 150.94 | E35: 150.94
A36: Осмотр подъездов, подвального помещения - по жалобе | B36: 0.1 | C36: 1000 м2 | D36: =E36/B36 -> 3642.3 | E36: 364.23
A37: Осмотр системы центрального отопления, устройств в чердачных и подвальных помещениях. | B37: 0.1 | C37: 1000 м2 | D37: =E37/B37 -> 1791.3 | E37: 179.13
... A51: Установка промывочных вентилей диаметром: 32 мм | B51: 2 | C51: 1 участок | D51: =E51/B51 -> 2048.505 | E51: 4097.01
A52: Обслуживание и текущий ремонт конструктивных элементов
A53: Изготовление щита из доски б/у | B53: 0.008 | C53: 100 м2 | D53: =E53/B53 -> 19710 | E53: 157.68
A54: Ремонт отдельных частей металл. ограждения спорт. площадок | B54: 3.125 | C54: 1 м2 | D54: =E54/B54 -> 342.9792 | E54: 1071.81
A55: Устройство козырька над входом в подъезд | B55: 2 | C55: шт | D55: =E55/B55 -> 9517.605 | E55: 19035.21
A56: Закрытие слуховых окон и люков выхода на кровлю | B56: 0.2 | C56: 10 шт. | D56: =E56/B56 -> 2090.3 | E56: 418.06
...

Sheet 2020
A1: Отчет по бюджету № 75/20-2020,
A3: Период: с 01.01.2020 по 31.12.2020 года.
A5: ОБЩИЕ СВЕДЕНИЯ ОБ ОБЪЕКТЕ
A6: Этажность | B6: 3 | C6: Общая жилая площадь, м2 | D6: 1032 | E6: Площадь кровли, м2 | F6: 643.4
A7: Количество подъездов | B7: 2 | C7: Площадь нежилых помещений, м2 | D7: 0 | E7: Площадь чердаков, м2 | F7: 415.1
A8: Количество квартир | B8: 18 | C8: Площадь л/ клеток, тамбуров, лифтов, м/камер, м2 | D8: 108.2 | E8: Площадь подвалов, м2 | F8: 166.2
A11: Наименование | F11: Значение
A12: Переходящие остатки денежных средств за выполненые работы (на начало периода; + резерв, - долг) | F12: -24640.564
A13: Задолженность по оплате за содержание и текущий ремонт общего имущества МКД (на начало периода) | F13: 8006.54
A14: Начислено за работы (услуги) по содержанию и текущему ремонту и аренду общего имущества МКД, в том числе: | F14: =SUM(F15:F17) -> 173376.24
A15: - за жилые помещения | F15: 173376.24
A16: - за нежилые помещения
A17: - за рекламу и аренду общего имущества МКД
A18: Получено денежных средств, в т. ч: | F18: =SUM(F19:F21) -> 175030.39
A19: - за жилые помещения | F19: 175030.39
A20: - за нежилые помещения
A21: - за рекламу и аренду общего имущества МКД
A22: Всего денежных средств с учетом остатков | F22: =F12+F18 -> 150389.83
A23: Выполненные работы (оказанные услуги) по содержанию общего имущества и текущему ремонту в отчетном периоде | F23: =Лист1!E72 -> 297513.07
A24: Переходящие остатки денежных средств за выполненные работы (на конец периода; + резерв, - долг) | F24: =F22-F23 -> -147123.25
A25: Задолженность по оплате за содержание и текущий ремонт общего имущества МКД (на конец периода) | F25: =F13+F14-F18 -> 6352.39
A27: Директор ООО "ТРЭК" Плотников А.А. __________________
A28: Отчет составил: экономист Осипова М.С. _______________
A29: Отчет получил: ________________________________________________________
A30: Дата __________________

Sheet Лист1
A2: .
B3: АКТ № 75/20
A4: приемки оказанных услуг и (или) выполненных работ по содержанию
A5: и текущему ремонту общего имущества в многоквартирном доме
A6: г. Ангарск | E6: 31 марта 2021 г.
A8: Собственники помещений в многоквартином доме, расположенном по адресу: ________________________ , именуемые в дальнейшем "Заказчик", в лице ___________________________________________________________________________________,
A9: являющегося собственником квартиры № _____, находящейся в данном многоквартирном доме, действующего на основании протокола общего собрания собственников, с одной стороны, и управляющая компания ООО "ТРЭК", именуемая в дальнейшем
A10: "Исполнитель", в лице директора Плотникова А.А., действующего на основании Устава, с другой стороны, совместно именуемые "Стороны", составили настоящий акт о нижеследующем:
A11: 1. Исполнителем предъявлены к приемке следующие оказанные на основании договора управления многоквартирным домом или договора оказания услуг по содержанию и (или) выполнению работ по ремонту общего имущества в многоквартирном
A12: доме, либо договора подряда по выполнению работ по ремонту общего имущества в многоквартирном доме (указать нужное) № _______ от "____" ___________________ ______ г. (далее - "Договор") услуги и (или) выполненные работы по содержанию
A13: и текущему ремонту общего имущества в многоквартирном доме № _____, расположенном по адресу: ______________________:
A15: Наименование вида работы (услуги) | B15: Периодичность / количественный показатель выполненной работы (оказанной услуги) | C15: Единица измерения работы (услуги) | D15: Стоимость / сметная стоимость выполненной работы (оказанной услуги) за единицу | E15: Цена выполненной работы (оказанной услуги), в рублях
A16: Аварийное обслуживание
A17: Аварийное обслуживание | B17: Ежедневно | C17: руб. | D17: 0.13 | E17: 1609.92
A18: Благоустройство и обеспечение санитарного состояния МКД и придомовой територии
A19: Вывоз листвы и смета | B19: По факту | C19: м2 | D19: =E19 -> 153.36 | E19: 153.36
A20: Дезинфекция мест общего пользования МКД | B20: По факту | C20: м2 | D20: =E20 -> 2921.4 | E20: 2921.4
A21: Окраска известковыми составами: по кирпичу и бетону (бордюр. столбики, столбы) | B21: По факту | C21: 100 м2 | D21: =E21 -> 1243.47 | E21: 1243.47
A22: Уборка придомовой территории и лестничных клеток | B22: По тарифу | C22: м2 | D22: =E22 -> 56718.72 | E22: 56718.72
A23: Уборка чердаков и подвалов | B23: По тарифу | C23: м2 | D23: =E23 -> 164.96 | E23: 164.96
A24: Изготовление ключей
A25: Изготовление ключей | B25: По факту | C25: шт | D25: =E25 -> 270 | E25: 270
A26: Обслуживание газового оборудования
A27: Техобслуживание газового оборудования | B27: По договору | C27: 16 стояков | D27: =E27 -> 1910 | E27: 1910
A28: Обслуживание и текущий ремонт инженерного оборудования
A29: Демонтаж- монтаж сгонов на подцепке радиатора: 20мм (перемотка) | B29: 2 | C29: 1 участок | D29: =E29/B29 -> 1054.11 | E29: 2108.22
A30: Консервация системы отопления | B30: 1 | C30: 100 м | D30: =E30/B30 -> 724.61 | E30: 724.61
A31: Осмотр кровли,чердака,подъездов,подвала,фасада-после землетр-ия, в т.ч. рем-т выявленных повреждений | B31: По факту | C31: 1000 м2 | D31: =E31 -> 1381.81 | E31: 1381.81
A32: Проверка работ-ти запорной арматуры, устранение мелких неисправностей, проверка работы ПУ РХВ | B32: 0.01 | C32: 100 шт. | D32: =E32/B32 -> 30407 | E32: 304.07
A33: Запуск потока воды: отопление, ГВС, ХВС | B33: 4 | C33: 1 узел | D33: =E33/B33 -> 101.175 | E33: 404.7
A34: Запуск системы отопления. | B34: 1 | C34: 1 здание | D34: =E34/B34 -> 1012.36 | E34: 1012.36
A35: Осмотр подвальных помещений | B35: 0.17 | C35: 1000 м2 | D35: =E35/B35 -> 1813.7059 | E35: 308.33
A36: Осмотр подвальных помещений и выпуска при подпоре | B36: 1 | C36: 1 осмотр | D36: =E36/B36 -> 1107.17 | E36: 1107.17
A37: Осмотр СТО в чердачных и подвальных помещениях (весенний и осенний) | B37: 1.378 | C37: 1000 м2 | D37: =E37/B37 -> 2008.8752 | E37: 2768.23
A38: Очистка канализационной сети: внутренней | B38: 0.105 | C38: 100 м | D38: =E38/B38 -> 17460 | E38: 1833.3
A39: Перевод отопления с подачи на обратку или с обратки на подачу | B39: 6 | C39: узел | D39: =E39/B39 -> 252.445 | E39: 1514.67
A40: Перекрытие потока воды: отопление, ГВС, ХВС | B40: 4 | C40: 1 узел | D40: =E40/B40 -> 80.9 | E40: 323.6
A41: Перемотка сгона со сливом стояка | B41: 1 | C41: 1 соединение | D41: =E41/B41 -> 585.66 | E41: 585.66
A42: Подготовка элеваторного узла | B42: 1 | C42: шт | D42: =E42/B42 -> 4397.99 | E42: 4397.99
A43: Промывка трубопровода системы отопления | B43: 1 | C43: 1 здание | D43: =E43/B43 -> 8045.48 | E43: 8045.48
...

Sheet 2021
A1: Отчет по бюджету № 75/20-2021
A3: Период: с 01.01.2021 по 31.12.2021 года.
A5: ОБЩИЕ СВЕДЕНИЯ ОБ ОБЪЕКТЕ
A6: Этажность | B6: 3 | C6: Общая жилая площадь, м2 | D6: 1032 | E6: Площадь кровли, м2 | F6: 643.4
A7: Количество подъездов | B7: 2 | C7: Площадь нежилых помещений, м2 | D7: 0 | E7: Площадь чердаков, м2 | F7: 415.1
A8: Количество квартир | B8: 18 | C8: Площадь л/ клеток, тамбуров, лифтов, м/камер, м2 | D8: 108.2 | E8: Площадь подвалов, м2 | F8: 166.2
A11: Наименование | F11: Значение
A12: Переходящие остатки денежных средств за выполненые работы (на начало периода; + резерв, - долг) | F12: -147123.25
A13: Задолженность по оплате за содержание и текущий ремонт общего имущества МКД (на начало периода) | F13: 6352.39
A14: Начислено за работы (услуги) по содержанию и текущему ремонту и аренду общего имущества МКД, в том числе: | F14: =SUM(F15:F17) -> 189129.8
A15: - за жилые помещения | F15: 178329.8
A16: - за нежилые помещения
A17: - за рекламу и аренду общего имущества МКД | F17: 10800
A18: Получено денежных средств, в т. ч: | F18: =SUM(F19:F21) -> 180149.45
A19: - за жилые помещения | F19: 169349.45
A20: - за нежилые помещения
A21: - за рекламу и аренду общего имущества МКД | F21: 10800
A22: Всего денежных средств с учетом остатков | F22: =F12+F18 -> 33026.203
A23: Выполненные работы (оказанные услуги) по содержанию общего имущества и текущему ремонту в отчетном периоде | F23: 172590.29
A24: Переходящие остатки денежных средств за выполненные работы (на конец периода; + резерв, - долг) | F24: =F22-F23 -> -139564.09
A25: Задолженность по оплате за содержание и текущий ремонт общего имущества МКД (на конец периода) | F25: =F13+F14-F18 -> 15332.74
A27: Директор ООО "ТРЭК" Плотников А.А. __________________
A28: Отчет составил: экономист _______________
A29: Отчет получил: ________________________________________________________
A30: Дата __________________

Sheet акт21
A2: .
A3: АКТ № 75/20
A4: приемки оказанных услуг и (или) выполненных работ по содержанию
A5: и текущему ремонту общего имущества в многоквартирном доме
A6: г. Ангарск | E6: 31 марта 2022 г.
A8: Собственники помещений в многоквартином доме, расположенном по адресу: ________________________ , именуемые в дальнейшем "Заказчик", в лице ___________________________________________________________________________________,
A9: являющегося собственником квартиры № _____, находящейся в данном многоквартирном доме, действующего на основании протокола общего собрания собственников, с одной стороны, и управляющая компания ООО "ТРЭК", именуемая в дальнейшем
A10: "Исполнитель", в лице директора Плотникова А.А., действующего на основании Устава, с другой стороны, совместно именуемые "Стороны", составили настоящий акт о нижеследующем:
A11: 1. Исполнителем предъявлены к приемке следующие оказанные на основании договора управления многоквартирным домом или договора оказания услуг по содержанию и (или) выполнению работ по ремонту общего имущества в многоквартирном
A12: доме, либо договора подряда по выполнению работ по ремонту общего имущества в многоквартирном доме (указать нужное) № _______ от "____" ___________________ ______ г. (далее - "Договор") услуги и (или) выполненные работы по содержанию
A13: и текущему ремонту общего имущества в многоквартирном доме № _____, расположенном по адресу: ______________________:
A15: Наименование вида работы (услуги) | B15: Периодичность / количественный показатель выполненной работы (оказанной услуги) | C15: Единица измерения работы (услуги) | D15: Стоимость / сметная стоимость выполненной работы (оказанной услуги) за единицу | E15: Цена выполненной работы (оказанной услуги), в рублях
A16: Аварийное обслуживание
A17: Аварийное обслуживание | B17: Ежедневно | C17: руб. | D17: 0.14 | E17: 1733.76
A18: Благоустройство и обеспечение санитарного состояния МКД и придомовой територии
A19: Услуги по вывозу и утилизации листвы, веток, деревьев, скошенной травы , смета и др. | B19: По факту | C19: руб. | D19: =E19 -> 277.18 | E19: 277.18
A20: Услуги спец.техники по благоустройству (очистка наледи, снега) | B20: По факту | C20: руб. | D20: =E20 -> 1345.9 | E20: 1345.9
A21: Ручная односторонняя сварка деталей контейнера из листовой стали | B21: По факту | C21: 10 м | D21: =E21 -> 126.09 | E21: 126.09
A22: Уборка придомовой территории и лестничных клеток | B22: По тарифу | C22: м2 | D22: =E22 -> 56718.72 | E22: 56718.72
A23: Уборка чердаков и подвалов | B23: По тарифу | C23: м2 | D23: =E23 -> 990.72 | E23: 990.72
A24: Обслуживание и текущий ремонт инженерного оборудования
A25: Установка манометров | B25: 2 | C25: шт | D25: =E25/B25 -> 750.135 | E25: 1500.27
A26: Установка термометра | B26: 2 | C26: комплект | D26: =E26/B26 -> 301.125 | E26: 602.25
A27: Вскрытие элеваторов со снятием с места и замером сопла (прим) | B27: 0.01 | C27: 100 шт. | D27: =E27/B27 -> 77585 | E27: 775.85
A28: Запуск потока воды: отопление, ГВС, ХВС | B28: 2 | C28: 1 узел | D28: =E28/B28 -> 97.48 | E28: 194.96
A29: Запуск системы отопления. | B29: 1 | C29: 1 здание | D29: =E29/B29 -> 1005.22 | E29: 1005.22
A30: Опрессовка ТУ диаметром: до 100 мм | B30: 1 | C30: 100 м | D30: =E30/B30 -> 725.48 | E30: 725.48
A31: Осмотр и устранение мелких неисправностей на РХВ | B31: 1 | C31: шт | D31: =E31/B31 -> 149.54 | E31: 149.54
A32: Осмотр СТО | B32: 0.02 | C32: 100 квартир | D32: =E32/B32 -> 30163.5 | E32: 603.27
A33: Осмотр СТО в чердачных и подвальных помещениях (весенний и осенний) | B33: =0.689*2 -> 1.378 | C33: 1000 м2 | D33: =E33/B33 -> 2020.6241 | E33: =1402.77+1381.65 -> 2784.42
A34: Осмотр, замеры, опломбировка ПУ Т/У с представителем | B34: 0.01 | C34: 100 шт. | D34: =E34/B34 -> 28709 | E34: 287.09
A35: Осмотр, проверка работы приборов ИТП, РХВ | B35: 2 | C35: шт | D35: =E35/B35 -> 426.21 | E35: 852.42
A36: Отключение системы отопления | B36: 1 | C36: 1 здание | D36: =E36/B36 -> 611.75 | E36: 611.75
A37: Перевод отопления с подачи на обратку или с обратки на подачу | B37: 3 | C37: узел | D37: =E37/B37 -> 253.75667 | E37: 761.27
A38: Перекрытие потока воды: отопление, ГВС, ХВС | B38: 2 | C38: 1 узел | D38: =E38/B38 -> 78.12 | E38: 156.24
A39: Подготовка элеваторного узла Д-50 к зиме | B39: 1 | C39: шт | D39: =E39/B39 -> 4474.11 | E39: 4474.11
A40: Промывка трубопровода системы отопления | B40: 1 | C40: 1 здание | D40: =E40/B40 -> 7332.6 | E40: 7332.6
A41: Сдача ИТП представителю энергоснабжающей организации | B41: 1 | C41: 1 ИТП | D41: =E41/B41 -> 825.55 | E41: 825.55
A42: Сдача РХВ представителю водоканала, составление акта | B42: 1 | C42: 1 ИТП | D42: =E42/B42 -> 598.84 | E42: 598.84
A43: Снятие и запись замера в наряде (ИТП,РХВ) | B43: 35 | C43: 1 ИТП | D43: =E43/B43 -> 302.28914 | E43: 10580.12
...
