Workbook

Sheet Акт
A1: АКТ № 75/3-2017
A2: приемки оказанных услуг и (или) выполненных работ по содержанию и текущему ремонту общего имущества в многоквартирном доме № 3 квартала 75.
A3: г. Ангарск | D3: "31" марта 2018 г.
A5: Наименование вида работы (услуги) | B5: Периодичность/ количественный показатель выполненной работы (оказанной услуги) | C5: Единица измерения работы (услуги) | D5: Стоимость /сметная стоимость выполненной работы (оказанной услуги) за единицу | E5: Цена выполненной работы (оказанной услуги), в рублях
A6: Аварийное обслуживание
A7: Аварийное обслуживание | B7: Ежедневно | C7: руб. | D7: =E7 -> 3262.74 | E7: 3262.74
A8: Благоустройство
A9: Выкашивание газонов | B9: 2200 | C9: м2 | D9: =E9/B9 -> 3.9500045 | E9: 8690.01
A10: Демонтаж МАФ (деревянные) | B10: 1 | C10: шт | D10: =E10/B10 -> 265.94 | E10: 265.94
A11: Открытие подъездного окна (для мытья) | B11: 0.4 | C11: 10 шт. | D11: =E11/B11 -> 2591.975 | E11: 1036.79
A12: Вывоз и утилизация ТКО, в т.ч. крупногабаритного мусора
A13: Услуги по вывозу и утилизации ТБО, в т.ч. крупногабаритного мусора | B13: Ежедневно | C13: руб. | D13: =E13 -> 50196 | E13: 50196
A14: Обслуживание и текущий ремонт электрооборудования жилых домов
A15: Обслуживание и текущий ремонт электрооборудования жилых домов | B15: По плану | C15: руб. | D15: =E15 -> 11384.6 | E15: 11384.6
A16: Обслуживание инженерного оборудования
A17: Запуск потока воды: отопление, ГВС | B17: 2 | C17: 1 узел | D17: =E17/B17 -> 73.69 | E17: 147.38
A18: Запуск системы отопления. | B18: 1 | C18: 1 здание | D18: =E18/B18 -> 796.94 | E18: 796.94
A19: Ликвидация воздушных пробок в системе отопления, в стояке | B19: 4 | C19: 1 стояк | D19: =E19/B19 -> 395.6675 | E19: 1582.67
A20: Опрессовка ТУ диаметром: до 100 мм | B20: 0.09 | C20: 100 м | D20: =E20/B20 -> 3725.8889 | E20: 335.33
A21: Осмотр подвальных помещений (засоры, подпоры) прим. | B21: 0.54 | C21: 1000 м2 | D21: =E21/B21 -> 1416.8889 | E21: 765.12
A22: Осмотр системы центрального отопления, устройств в чердачных и подвальных помещениях. | B22: 1.49 | C22: 1000 м2 | D22: =E22/B22 -> 1584.8121 | E22: 2361.37
A23: Осмотр СТО | B23: 0.11 | C23: 100 квартир | D23: =E23/B23 -> 23395.182 | E23: 2573.47
A24: Осмотр СТО в чердачных и подвальных помещениях (весенний и осенний) | B24: 1.1 | C24: 1000 м2 | D24: =E24/B24 -> 1559.1 | E24: 1715.01
A25: Осмотр, РХВ замеры | B25: 0.02 | C25: 100 шт. | D25: =E25/B25 -> 21940.5 | E25: 438.81
A26: Отключение системы отопления (консервация) - прим. | B26: 1 | C26: 1 здание | D26: =E26/B26 -> 384.58 | E26: 384.58
A27: Отогрев трубопровода Д-20 | B27: 1 | C27: м | D27: =E27/B27 -> 161.74 | E27: 161.74
A28: Очистка канализационной сети: внутренней | B28: 0.18 | C28: 100 м | D28: =E28/B28 -> 12553.889 | E28: 2259.7
... A36: Снятие и запись замера в наряде (ИТП,РХВ) | B36: 31 | C36: 1 ИТП | D36: =E36/B36 -> 228.35839 | E36: 7079.11
A37: Обслуживание конструктивных элементов
A38: Осмотр кровли, чердака, подъездов, подвального помещения - весенний осмотр | B38: 1.054 | C38: 1000 м2 | D38: =E38/B38 -> 1557.2391 | E38: 1641.33
A39: Осмотр кровли, чердака, подъездов, подвального помещения -подготовка к зиме | B39: 1.614 | C39: 1000 м2 | D39: =E39/B39 -> 1568.8104 | E39: 2532.06
A40: Проверка исправности вент. каналов, правильного расположения оголовков относ. крыши и наличия тяги | B40: 1.114 | C40: 1000 м2 | D40: =E40/B40 -> 2058.8959 | E40: 2293.61
A41: Проверка наличия тяги в ДВ и вент. каналах | B41: 0.05 | C41: 1000 м2 | D41: =E41/B41 -> 1775.2 | E41: 88.76
A42: Обслуживание ОДПУ
A43: Техническое обслуживание ОДПУ | B43: Ежемесячно | C43: руб. | D43: =E43/12 -> 1800 | E43: 21600
A44: Расходы на истребование задолженности по оплате жилых помещений
A45: Истребование дебиторской задолженности | B45: По факту | C45: руб. | D45: =E45 -> 5982.17 | E45: 5982.17
A46: Ремонт конструктивных элементов жилых зданий
A47: Смена: колена водосточных труб | B47: 0.05 | C47: 100 шт. | D47: =E47/B47 -> 57348.6 | E47: 2867.43
A48: Текущий ремонт инженерного оборудования
...

Sheet Бюджет
A1: Отчет по бюджету № 75/3-2017
A3: Период: с 01.01.2017 по 31.12.2017 года.
A5: Строение / По типу работ | B5: Расходы | C5: Начисления | D5: Поступления
A6: Резерв на 01.01.2017 г. | D6: 96869.12
A7: Cодержание жилья | C7: 163451.76 | D7: 176433.17
A8: Вывоз и утилизация ТКО | C8: 34629.6 | D8: 38166.86
A9: Обслуживание ВДГО | C9: 2424.12 | D9: 2572.88
A10: Обслуживание ОДПУ | C10: 21643.56 | D10: 16052.68
A11: Техническое обслуживание нежилых помещений | C11: 99843.12 | D11: 50221.8
A12: Аварийное обслуживание | B12: =Акт!E7 -> 3262.74
A13: Благоустройство | B13: =SUM(Акт!E9:E11) -> 9992.74
A14: Вывоз и утилизация ТКО, в т.ч. крупногабаритного мусора | B14: =Акт!E13 -> 50196
A15: Обслуживание и текущий ремонт электрооборудования жилых домов | B15: =Акт!E15 -> 11384.6
A16: Обслуживание инженерного оборудования | B16: =SUM(Акт!E17:E36) -> 38408.83
A17: Обслуживание конструктивных элементов | B17: =SUM(Акт!E38:E41) -> 6555.76
A18: Обслуживание ОДПУ | B18: =Акт!E43 -> 21600
A19: Расходы на истребование задолженности по оплате жилых помещений | B19: =Акт!E45 -> 5982.17
A20: Ремонт конструктивных элементов жилых зданий | B20: =Акт!E47 -> 2867.43
A21: Текущий ремонт инженерного оборудования | B21: =SUM(Акт!E49:E53) -> 6389.58
A22: Текущий ремонт конструктивных элементов жилых зданий | B22: =SUM(Акт!E55:E66) -> 16079
A23: Транспортные расходы | B23: =Акт!E68 -> 4566.67
A24: Уборка лестничных клеток | B24: =Акт!E70 -> 27942.44
A25: Уборка придомовой территории | B25: =Акт!E72 -> 77552.82
A26: Уборка чердаков и подвалов | B26: =Акт!E74 -> 2365.98
A27: Услуги по управлению МКД | B27: =Акт!E76 -> 32199.22
A28: Итого: | B28: =SUM(B7:B27) -> 317345.98 | C28: =SUM(C7:C27) -> 321992.16 | D28: =SUM(D7:D27) -> 283447.39
A29: Резерв (доходы за минусом расходов) на 01.01.2018 г. - 62 970,53 руб. | E29: =D6+D28-B28 -> 62970.53
A30: Задолженность по оплате за содержание и текущий ремонт на 01.01.2018 г. - 190 922,41 руб.
A32: Директор ООО "ЖЭУ №6" Плотников А.А. __________________
A33: Отчет составил: экономист Сундукова Ю.А. _______________
A34: Отчет получил: ________________________________________________________
A35: Дата __________________

Sheet 2018
A1: Отчет по бюджету № 75/3-2018
A3: Период: с 01.01.2018 по 31.12.2018 года.
A5: ОБЩИЕ СВЕДЕНИЯ ОБ ОБЪЕКТЕ
A6: Этажность | B6: 3 | C6: Общая жилая площадь, м2 | D6: 1443 | E6: Площадь кровли, м2 | F6: 1114.1
A7: Количество подъездов | B7: 3 | C7: Площадь нежилых помещений, м2 | D7: 648.5 | E7: Площадь чердаков, м2 | F7: 718.8
A8: Количество квартир | B8: 20 | C8: Площадь л/ клеток, тамбуров, лифтов, м/камер, м2 | D8: 165.8 | E8: Площадь подвалов, м2 | F8: 335.6
A11: Наименование | F11: Значение
A12: Переходящие остатки денежных средств за выполненые работы (на начало периода; + резерв, - долг) | F12: 62970.53
A13: Задолженность по оплате за содержание и текущий ремонт общего имущества МКД (на начало периода) | F13: =62193.19+115091.82 -> 177285.01
A14: Начислено за работы (услуги) по содержанию и текущему ремонту и аренду общего имущества МКД, в том числе: | F14: =SUM(F15:F17) -> 319820.04
A15: - за жилые помещения | F15: =200506.04+21644.28 -> 222150.32
A16: - за нежилые помещения | F16: 97264.72
A17: - за рекламу и аренду общего имущества МКД | F17: 405
A18: Получено денежных средств, в т. ч: | F18: =SUM(F19:F21) -> 452765.28
A19: - за жилые помещения | F19: 252612.61
A20: - за нежилые помещения | F20: 200017.67
A21: - за рекламу и аренду общего имущества МКД | F21: 135
A22: Всего денежных средств с учетом остатков | F22: =F12+F18 -> 515735.81
A23: Выполненные работы (оказанные услуги) по содержанию общего имущества и текущему ремонту в отчетном периоде | F23: ='Акт (2)'!E88 -> 390944.35
A24: Переходящие остатки денежных средств за выполненые работы (на конец периода; + резерв, - долг) | F24: =F22-F23 -> 124791.46
A25: Задолженность по оплате за содержание и текущий ремонт общего имущества МКД (на конец периода) | F25: =F13+F14-F18 -> 44339.77
A27: Директор ООО "ТРЭК" Плотников А.А. __________________
A28: Отчет составил: экономист Осипова М.С. _______________
A29: Отчет получил: ________________________________________________________
A30: Дата __________________

Sheet Акт (2)
A1: АКТ № 75/3-2018
A2: приемки оказанных услуг и (или) выполненных работ по содержанию и текущему ремонту общего имущества в многоквартирном доме № 3 квартала 75.
A3: г. Ангарск | D3: "31" марта 2019 г.
A5: Наименование вида работы (услуги) | B5: Периодичность/ количественный показатель выполненной работы (оказанной услуги) | C5: Единица измерения работы (услуги) | D5: Стоимость /сметная стоимость выполненной работы (оказанной услуги) за единицу | E5: Цена выполненной работы (оказанной услуги), в рублях
A6: Аварийное обслуживание
A7: Аварийное обслуживание | B7: Ежедневно | C7: руб. | D7: =E7 -> 3262.74 | E7: 3262.74
A8: Благоустройство
A9: Завоз песка, ПГС, щебня, земли | B9: По факту | C9: руб. | D9: =E9 -> 375 | E9: 375
A10: Окраска известковыми составами: по кирпичу и бетону (бордюр. столбики, столбы) | B10: 0.313 | C10: 100 м2 | D10: =E10/B10 -> 4714.0256 | E10: 1475.49
A11: Вывоз и утилизация ТКО, в т.ч. крупногабаритного мусора
A12: Вывоз и утилизация ТКО, в т.ч. крупногабаритный мусор | B12: Ежедневно | C12: руб. | D12: =E12 -> 50196 | E12: 50196
A13: Изготовление ключей
A14: Изготовление ключей | B14: По факту | C14: шт | D14: =E14 -> 350 | E14: 350
A15: Обслуживание газового оборудования
A16: Техобслуживание газового оборудования | B16: По договору | C16: 1 стояк | D16: =E16 -> 4797.01 | E16: 4797.01
A17: Обслуживание и текущий ремонт электрооборудования жилых домов
A18: Обслуживание и текущий ремонт электрооборудования жилых домов | B18: По плану | C18: руб. | D18: =E18 -> 5732.42 | E18: =590.66+5141.76 -> 5732.42
A19: Обслуживание инженерного оборудования
A20: Запуск потока воды: отопление, ГВС | B20: 1 | C20: 1 узел | D20: =E20/B20 -> 83.75 | E20: 83.75
A21: Запуск системы отопления. | B21: 1 | C21: 1 здание | D21: =E21/B21 -> 839.52 | E21: 839.52
A22: Ликвидация воздушных пробок в системе отопления, в стояке | B22: 1 | C22: 1 стояк | D22: =E22/B22 -> 468.24 | E22: 468.24
A23: Опрессовка ТУ диаметром: до 50 мм | B23: 0.07 | C23: 100 м | D23: =E23/B23 -> 6095.4286 | E23: 426.68
A24: Осмотр выпусков канализации (засоры, подпоры) прим. | B24: 1 | C24: 1 здание | D24: =E24/B24 -> 254.67 | E24: 254.67
A25: Осмотр подвальных помещений (засоры, подпоры) прим. | B25: 0.54 | C25: 1000 м2 | D25: =E25/B25 -> 1729.3704 | E25: 933.86
A26: Осмотр подвальных помещений и выпуска при подпоре | B26: 1 | C26: 1 осмотр | D26: =E26/B26 -> 535.02 | E26: 535.02
A27: Осмотр подъездов, подвального помещения - по жалобе | B27: 0.1 | C27: 1000 м2 | D27: =E27/B27 -> 3345.1 | E27: 334.51
A28: Осмотр системы центрального отопления, устройств в чердачных и подвальных помещениях. | B28: 0.54 | C28: 1000 м2 | D28: =E28/B28 -> 1726.1296 | E28: 932.11
A29: Осмотр СТО | B29: 0.09 | C29: 100 квартир | D29: =E29/B29 -> 24738.667 | E29: 2226.48
A30: Осмотр СТО в чердачных и подвальных помещениях (весенний и осенний) | B30: 3.383 | C30: 1000 м2 | D30: =E30/B30 -> 1679.7517 | E30: 5682.6
A31: Осмотр, замеры, опломбировка ПУ Т/У с представителем | B31: 0.01 | C31: 100 шт. | D31: =E31/B31 -> 25109 | E31: 251.09
... A45: Устранение течи из гибких подводок присоединения санитарных приборов | B45: 2 | C45: 1 соединение | D45: =E45/B45 -> 123.055 | E45: 246.11
A46: Обслуживание конструктивных элементов
A47: М. Ремонт слухового окна (пристрожка, укрепление) | B47: 2 | C47: 1 створка | D47: =E47/B47 -> 375.88 | E47: 751.76
A48: Осмотр кровли, чердака, люков | B48: 0.34 | C48: 1000 м2 | D48: =E48/B48 -> 1685.3824 | E48: 573.03
A49: Осмотр кровли, чердака, подъездов, подвального помещения -подготовка к зиме | B49: 1.218 | C49: 1000 м2 | D49: =E49/B49 -> 1651.1987 | E49: 2011.16
A50: Открытие подвальных окон | B50: 0.16 | C50: 10 м2 | D50: =E50/B50 -> 623.25 | E50: 99.72
A51: Очистка кровли от снега, сбивание сосулей вышка | B51: 10 | C51: 1 м 1 основания | D51: =E51/B51 -> 84.174 | E51: 841.74
A52: Очистка чердака от снега | B52: 5.5 | C52: 1 м 2 основания | D52: =E52/B52 -> 36.096364 | E52: 198.53
A53: Плановые проверки вентиляционных каналов и оголовков | C53: м2 | D53: =E53 -> 12766.92 | E53: 12766.92
A54: Смена дверных приборов: навесного замка | B54: 0.03 | C54: 100 приборов | D54: =E54/B54 -> 24716.333 | E54: 741.49
...

Sheet 2019
A1: Отчет по бюджету № 75/3-2019
A3: Период: с 01.01.2019 по 31.12.2019 года.
A5: ОБЩИЕ СВЕДЕНИЯ ОБ ОБЪЕКТЕ
A6: Этажность | B6: 3 | C6: Общая жилая площадь, м2 | D6: 1443 | E6: Площадь кровли, м2 | F6: 1114.1
A7: Количество подъездов | B7: 3 | C7: Площадь нежилых помещений, м2 | D7: 648.5 | E7: Площадь чердаков, м2 | F7: 718.8
A8: Количество квартир | B8: 20 | C8: Площадь л/ клеток, тамбуров, лифтов, м/камер, м2 | D8: 165.8 | E8: Площадь подвалов, м2 | F8: 335.6
A11: Наименование | F11: Значение
A12: Переходящие остатки денежных средств за выполненые работы (на начало периода; + резерв, - долг) | F12: 124791.46
A13: Задолженность по оплате за содержание и текущий ремонт общего имущества МКД (на начало периода) | F13: =16509.36+44339.77 -> 60849.13
A14: Начислено за работы (услуги) по содержанию и текущему ремонту и аренду общего имущества МКД, в том числе: | F14: =SUM(F15:F17) -> 328446.58
A15: - за жилые помещения | F15: =1300.81+205571.07+16579.08 -> 223450.96
A16: - за нежилые помещения | F16: 99843.12
A17: - за рекламу и аренду общего имущества МКД | F17: 5152.5
A18: Получено денежных средств, в т. ч: | F18: =SUM(F19:F21) -> 339778.3
A19: - за жилые помещения | F19: =1300.81+212594.71 -> 213895.52
A20: - за нежилые помещения | F20: 120986.53
A21: - за рекламу и аренду общего имущества МКД | F21: 4896.25
A22: Всего денежных средств с учетом остатков | F22: =F12+F18 -> 464569.76
A23: Выполненные работы (оказанные услуги) по содержанию общего имущества и текущему ремонту в отчетном периоде | F23: =Лист1!E91 -> 396425.05
A24: Переходящие остатки денежных средств за выполненые работы (на конец периода; + резерв, - долг) | F24: =F22-F23 -> 68144.714
A25: Задолженность по оплате за содержание и текущий ремонт общего имущества МКД (на конец периода) | F25: =F13+F14-F18 -> 49517.41
A27: Директор ООО "ТРЭК" Плотников А.А. __________________
A28: Отчет составил: экономист Осипова М.С. _______________
A29: Отчет получил: ________________________________________________________
A30: Дата __________________

Sheet Лист1
A2: .
A3: АКТ № 75/3
A4: приемки оказанных услуг и (или) выполненных работ по содержанию
A5: и текущему ремонту общего имущества в многоквартирном доме
A6: г. Ангарск | E6: 31 марта 2020 г.
A8: Собственники помещений в многоквартином доме, расположенном по адресу: ________________________ , именуемые в дальнейшем "Заказчик", в лице ___________________________________________________________________________________,
A9: являющегося собственником квартиры № _____, находящейся в данном многоквартирном доме, действующего на основании протокола общего собрания собственников, с одной стороны, и управляющая компания ООО "ТРЭК", именуемая в дальнейшем
A10: "Исполнитель", в лице директора Плотникова А.А., действующего на основании Устава, с другой стороны, совместно именуемые "Стороны", составили настоящий акт о нижеследующем:
A11: 1. Исполнителем предъявлены к приемке следующие оказанные на основании договора управления многоквартирным домом или договора оказания услуг по содержанию и (или) выполнению работ по ремонту общего имущества в многоквартирном
A12: доме, либо договора подряда по выполнению работ по ремонту общего имущества в многоквартирном доме (указать нужное) № _______ от "____" ___________________ ______ г. (далее - "Договор") услуги и (или) выполненные работы по содержанию
A13: и текущему ремонту общего имущества в многоквартирном доме № _____, расположенном по адресу: ______________________:
A15: Наименование вида работы (услуги) | B15: Периодичность / количественный показатель выполненной работы (оказанной услуги) | C15: Единица измерения работы (услуги) | D15: Стоимость / сметная стоимость выполненной работы (оказанной услуги) за единицу | E15: Цена выполненной работы (оказанной услуги), в рублях
A16: Аварийное обслуживание
A17: Аварийное обслуживание | B17: Ежедневно | C17: руб. | D17: 0.13 | E17: 3262.74
A18: Благоустройство и обеспечение санитарного состояния МКД и придомовой територии
A19: Завоз песка, ПГС, щебня, земли | B19: По факту | D19: =E19 -> 750 | E19: 750
A20: Обрезка деревьев высотой: до 5 м | B20: 1 | C20: 1 дерево | D20: =E20 -> 467.35 | E20: 467.35
A21: Устройство скамейки со спинки и с окраской | B21: 1 | C21: шт | D21: =E21 -> 3555.85 | E21: 3555.85
A22: Уборка придомовой территории и лестничных клеток | B22: По тарифу | C22: м2 | D22: =E22 -> 161129.16 | E22: 161129.16
A23: Уборка чердаков и подвалов | B23: По тарифу | C23: м2 | D23: =E23 -> 1882.53 | E23: 1882.53
A24: Услуги спец.техники по благоустройству (очистка наледи, снега) | B24: По факту | C24: руб. | D24: =E24 -> 1151.48 | E24: 1151.48
A25: Изготовление ключей
A26: Изготовление ключей | B26: По факту | C26: шт | D26: =E26 -> 400 | E26: 400
A27: Обслуживание газового оборудования
A28: Диагностирование газового оборудования | B28: По договору | C28: руб. | D28: =E28 -> 9900 | E28: 9900
A29: Техобслуживание газового оборудования | B29: По договору | C29: 16 стояков | D29: =E29 -> 2550 | E29: 2550
A30: Обслуживание и текущий ремонт инженерного оборудования
A31: Регулировка температуры отопления в ИТП вентилями | B31: 2 | C31: шт | D31: =E31/B31 -> 375.715 | E31: 751.43
A32: Смена сгонов у трубопроводов диаметром: 15 мм | B32: 0.01 | C32: 100 шт. | D32: =E32/B32 -> 15489 | E32: 154.89
A33: Запуск потока воды: отопление, ГВС | B33: 1 | C33: 1 узел | D33: =E33/B33 -> 91.38 | E33: 91.38
A34: Запуск системы отопления. | B34: 1 | C34: 1 здание | D34: =E34/B34 -> 907.5 | E34: 907.5
A35: Ликвидация воздушных пробок в системе отопления, в стояке | B35: 1 | C35: 1 стояк | D35: =E35/B35 -> 666.22 | E35: 666.22
A36: Осмотр и устранение мелких неисправностей на РХВ | B36: 1 | C36: шт | D36: =E36/B36 -> 150.94 | E36: 150.94
A37: Осмотр подвальных помещений (засоры, подпоры) прим. | B37: 0.27 | C37: 1000 м2 | D37: =E37/B37 -> 1814.6667 | E37: 489.96
A38: Осмотр подвальных помещений и выпуска при подпоре | B38: 3 | C38: 1 осмотр | D38: =E38/B38 -> 548.78 | E38: 1646.34
A39: Осмотр системы центрального отопления, устройств в чердачных и подвальных помещениях. | B39: 0.1 | C39: 1000 м2 | D39: =E39/B39 -> 1791.3 | E39: 179.13
A40: Осмотр СТО | B40: 0.11 | C40: 100 квартир | D40: =E40/B40 -> 27242 | E40: 2996.62
A41: Осмотр СТО в чердачных и подвальных помещениях (весенний и осенний) | B41: 2.438 | C41: 1000 м2 | D41: =E41/B41 -> 1822.0714 | E41: 4442.21
A42: Отключение системы отопления (консервация) - прим. | B42: 1 | C42: 1 здание | D42: =E42/B42 -> 549.39 | E42: 549.39
... A51: Снятие и запись замера в наряде (ИТП,РХВ) | B51: 32 | C51: 1 ИТП | D51: =E51/B51 -> 271.35219 | E51: 8683.27
...

Sheet 2020
A1: Отчет по бюджету № 75/3-2020
A3: Период: с 01.01.2020 по 31.12.2020 года.
A5: ОБЩИЕ СВЕДЕНИЯ ОБ ОБЪЕКТЕ
A6: Этажность | B6: 3 | C6: Общая жилая площадь, м2 | D6: 1443 | E6: Площадь кровли, м2 | F6: 1114.1
A7: Количество подъездов | B7: 3 | C7: Площадь нежилых помещений, м2 | D7: 648.5 | E7: Площадь чердаков, м2 | F7: 718.8
A8: Количество квартир | B8: 20 | C8: Площадь л/ клеток, тамбуров, лифтов, м/камер, м2 | D8: 165.8 | E8: Площадь подвалов, м2 | F8: 335.6
A11: Наименование | F11: Значение
A12: Переходящие остатки денежных средств за выполненые работы (на начало периода; + резерв, - долг) | F12: 68144.714
A13: Задолженность по оплате за содержание и текущий ремонт общего имущества МКД (на начало периода) | F13: 49517.41
A14: Начислено за работы (услуги) по содержанию и текущему ремонту и аренду общего имущества МКД, в том числе: | F14: =SUM(F15:F17) -> 323747.47
A15: - за жилые помещения | F15: =267636.32+383.19-45486.32 -> 222533.19
A16: - за нежилые помещения | F16: 99843.23
A17: - за рекламу и аренду общего имущества МКД | F17: 1371.05
A18: Получено денежных средств, в т. ч: | F18: =SUM(F19:F21) -> 303983.37
A19: - за жилые помещения | F19: =239954.7+383.19-45500 -> 194837.89
A20: - за нежилые помещения | F20: 107561.73
A21: - за рекламу и аренду общего имущества МКД | F21: 1583.75
A22: Всего денежных средств с учетом остатков | F22: =F12+F18 -> 372128.08
A23: Выполненные работы (оказанные услуги) по содержанию общего имущества и текущему ремонту в отчетном периоде | F23: =Лист2!E87 -> 403111.85
A24: Переходящие остатки денежных средств за выполненные работы (на конец периода; + резерв, - долг) | F24: =F22-F23 -> -30983.768
A25: Задолженность по оплате за содержание и текущий ремонт общего имущества МКД (на конец периода) | F25: =F13+F14-F18 -> 69281.51 | H25: =68967.96+299.87+13.68 -> 69281.51
A27: Директор ООО "ТРЭК" Плотников А.А. __________________
A28: Отчет составил: экономист Осипова М.С. _______________
A29: Отчет получил: ________________________________________________________
A30: Дата __________________

Sheet Лист2
A2: .
B3: АКТ № 75/3
A4: приемки оказанных услуг и (или) выполненных работ по содержанию
A5: и текущему ремонту общего имущества в многоквартирном доме
A6: г. Ангарск | E6: 31 марта 2021 г.
A8: Собственники помещений в многоквартином доме, расположенном по адресу: ________________________ , именуемые в дальнейшем "Заказчик", в лице ___________________________________________________________________________________,
A9: являющегося собственником квартиры № _____, находящейся в данном многоквартирном доме, действующего на основании протокола общего собрания собственников, с одной стороны, и управляющая компания ООО "ТРЭК", именуемая в дальнейшем
A10: "Исполнитель", в лице директора Плотникова А.А., действующего на основании Устава, с другой стороны, совместно именуемые "Стороны", составили настоящий акт о нижеследующем:
A11: 1. Исполнителем предъявлены к приемке следующие оказанные на основании договора управления многоквартирным домом или договора оказания услуг по содержанию и (или) выполнению работ по ремонту общего имущества в многоквартирном
A12: доме, либо договора подряда по выполнению работ по ремонту общего имущества в многоквартирном доме (указать нужное) № _______ от "____" ___________________ ______ г. (далее - "Договор") услуги и (или) выполненные работы по содержанию
A13: и текущему ремонту общего имущества в многоквартирном доме № _____, расположенном по адресу: ______________________:
A15: Наименование вида работы (услуги) | B15: Периодичность / количественный показатель выполненной работы (оказанной услуги) | C15: Единица измерения работы (услуги) | D15: Стоимость / сметная стоимость выполненной работы (оказанной услуги) за единицу | E15: Цена выполненной работы (оказанной услуги), в рублях
A16: Аварийное обслуживание
A17: Аварийное обслуживание | B17: Ежедневно | C17: руб. | D17: 0.13 | E17: 3262.74
A18: Благоустройство и обеспечение санитарного состояния МКД и придомовой територии
A19: Вывоз листвы и смета | B19: По факту | C19: м2 | D19: =E19 -> 310.81 | E19: 310.81
A20: Дезинфекция мест общего пользования МКД | B20: По факту | C20: м2 | D20: =E20 -> 6797.8 | E20: 6797.8
A21: Окраска известковыми составами: по кирпичу и бетону (бордюр. столбики, столбы) | B21: По факту | C21: 100 м2 | D21: =E21 -> 1740.57 | E21: 1740.57
A22: Окраска известковыми составами: по кирпичу и бетону (бордюр. столбики, столбы) за 2019 год | B22: По факту | C22: 100 м2 | D22: =E22 -> 1550.74 | E22: 1550.74
A23: Ремонт песочницы | B23: 1 | C23: шт | D23: =E23 -> 944.72 | E23: 944.72
A24: Устройство скамейки со спинкой и с окраской | B24: 1 | C24: шт | D24: =E24 -> 4737.45 | E24: 4737.45
A25: Уборка придомовой территории и лестничных клеток | B25: По тарифу | C25: м2 | D25: =E25 -> 162635.04 | E25: 162635.04
A26: Уборка чердаков и подвалов | B26: По тарифу | C26: м2 | D26: =E26 -> 2635.11 | E26: 2635.11
A27: Обслуживание газового оборудования
A28: Техобслуживание газового оборудования | B28: По договору | C28: 16 стояков | D28: =E28 -> 2760 | E28: 2760
A29: Обслуживание и текущий ремонт инженерного оборудования
A30: Замена сборки Д-20 со спускником | B30: 2 | C30: шт | D30: =E30/B30 -> 2679.47 | E30: 5358.94
A31: Замена сборки Д-25 со спускником | B31: 1 | C31: шт | D31: =E31/B31 -> 2907.21 | E31: 2907.21
A32: Изоляция трубопровода матами с совмещенным покрывным слоем | B32: 0.192 | C32: 1 м3 | D32: =E32/B32 -> 22652.448 | E32: 4349.27
A33: Консервация системы отопления | B33: 1 | C33: 100 м | D33: =E33/B33 -> 724.61 | E33: 724.61
A34: Осмотр кровли,чердака,подъездов,подвала,фасада-после землетр-ия, в т.ч. рем-т выявленных повреждений | B34: По факту | C34: 1000 м2 | D34: =E34 -> 2446.74 | E34: 2446.74
A35: Проверка работ-ти запорной арматуры, устранение мелких неисправностей, проверка работы ПУ РХВ | B35: 0.01 | C35: 100 шт. | D35: =E35/B35 -> 30407 | E35: 304.07
A36: Разборка тепловой изоляции. | B36: 0.003 | C36: 100 м2 | D36: =E36/B36 -> 9743.3333 | E36: 29.23
A37: Регулировка температуры отопления в ИТП вентилями | B37: 3 | C37: шт | D37: =E37/B37 -> 381.16667 | E37: 1143.5
A38: Ручная газовая резка круглой стали диаметром до 24 мм срез урны | B38: 0.1 | C38: 10 шт. | D38: =E38/B38 -> 5608.8 | E38: 560.88
A39: Смена вентилей Д-15 | B39: 1 | C39: шт | D39: =E39/B39 -> 981.29 | E39: 981.29
A40: Установка заглушек на трубопроводах д. до 50мм | B40: 0.02 | C40: 100 шт. | D40: =E40/B40 -> 62865 | E40: 1257.3
A41: Запуск потока воды: отопление, ГВС, ХВС | B41: 4 | C41: 1 узел | D41: =E41/B41 -> 100.8275 | E41: 403.31
A42: Запуск системы отопления. | B42: 1 | C42: 1 здание | D42: =E42/B42 -> 1012.36 | E42: 1012.36
A43: Осмотр подвальных помещений | B43: 0.17 | C43: 1000 м2 | D43: =E43/B43 -> 1813.7059 | E43: 308.33
...

Sheet 2021
A1: Отчет по бюджету № 75/3-2021
A3: Период: с 01.01.2021 по 31.12.2021 года.
A5: ОБЩИЕ СВЕДЕНИЯ ОБ ОБЪЕКТЕ
A6: Этажность | B6: 3 | C6: Общая жилая площадь, м2 | D6: 1443 | E6: Площадь кровли, м2 | F6: 1114.1
A7: Количество подъездов | B7: 3 | C7: Площадь нежилых помещений, м2 | D7: 648.5 | E7: Площадь чердаков, м2 | F7: 718.8
A8: Количество квартир | B8: 20 | C8: Площадь л/ клеток, тамбуров, лифтов, м/камер, м2 | D8: 165.8 | E8: Площадь подвалов, м2 | F8: 335.6
A11: Наименование | F11: Значение
A12: Переходящие остатки денежных средств за выполненые работы (на начало периода; + резерв, - долг) | F12: -30983.768
A13: Задолженность по оплате за содержание и текущий ремонт общего имущества МКД (на начало периода) | F13: 69281.51
A14: Начислено за работы (услуги) по содержанию и текущему ремонту и аренду общего имущества МКД, в том числе: | F14: =SUM(F15:F17) -> 340009.03
A15: - за жилые помещения | F15: 231412.55
A16: - за нежилые помещения | F16: 104006.48
A17: - за рекламу и аренду общего имущества МКД | F17: 4590
A18: Получено денежных средств, в т. ч: | F18: =SUM(F19:F21) -> 332556.62
A19: - за жилые помещения | F19: 223003.5
A20: - за нежилые помещения | F20: 104615.99
A21: - за рекламу и аренду общего имущества МКД | F21: 4937.13
A22: Всего денежных средств с учетом остатков | F22: =F12+F18 -> 301572.85
A23: Выполненные работы (оказанные услуги) по содержанию общего имущества и текущему ремонту в отчетном периоде | F23: =акт21!E98 -> 334987.32
A24: Переходящие остатки денежных средств за выполненные работы (на конец периода; + резерв, - долг) | F24: =F22-F23 -> -33414.47
A25: Задолженность по оплате за содержание и текущий ремонт общего имущества МКД (на конец периода) | F25: =F13+F14-F18 -> 76733.92
A27: Директор ООО "ТРЭК" Плотников А.А. __________________
A28: Отчет составил: экономист _______________
A29: Отчет получил: ________________________________________________________
A30: Дата __________________

Sheet акт21
A2: .
A3: АКТ № 75/3
A4: приемки оказанных услуг и (или) выполненных работ по содержанию
A5: и текущему ремонту общего имущества в многоквартирном доме
A6: г. Ангарск | E6: 31 марта 2022 г.
A8: Собственники помещений в многоквартином доме, расположенном по адресу: ________________________ , именуемые в дальнейшем "Заказчик", в лице ___________________________________________________________________________________,
A9: являющегося собственником квартиры № _____, находящейся в данном многоквартирном доме, действующего на основании протокола общего собрания собственников, с одной стороны, и управляющая компания ООО "ТРЭК", именуемая в дальнейшем
A10: "Исполнитель", в лице директора Плотникова А.А., действующего на основании Устава, с другой стороны, совместно именуемые "Стороны", составили настоящий акт о нижеследующем:
A11: 1. Исполнителем предъявлены к приемке следующие оказанные на основании договора управления многоквартирным домом или договора оказания услуг по содержанию и (или) выполнению работ по ремонту общего имущества в многоквартирном
A12: доме, либо договора подряда по выполнению работ по ремонту общего имущества в многоквартирном доме (указать нужное) № _______ от "____" ___________________ ______ г. (далее - "Договор") услуги и (или) выполненные работы по содержанию
A13: и текущему ремонту общего имущества в многоквартирном доме № _____, расположенном по адресу: ______________________:
A15: Наименование вида работы (услуги) | B15: Периодичность / количественный показатель выполненной работы (оказанной услуги) | C15: Единица измерения работы (услуги) | D15: Стоимость / сметная стоимость выполненной работы (оказанной услуги) за единицу | E15: Цена выполненной работы (оказанной услуги), в рублях
A16: Аварийное обслуживание
A17: Аварийное обслуживание | B17: Ежедневно | C17: руб. | D17: =E17 -> 2424.24 | E17: 2424.24
A18: Благоустройство и обеспечение санитарного состояния МКД и придомовой територии
A19: Обрезкка поросли кустарников | B19: 0.1 | C19: шт | E19: 287.85
A20: Услуги по вывозу и утилизации листвы, веток, деревьев, скошенной травы , смета и др. | B20: По факту | C20: руб. | D20: =E20 -> 561.75 | E20: 561.75
A21: Очистка вручную поверхности фасадов от перхлорвиниловых и масляных красок: с люлей | B21: 0.038 | C21: 100 м2 | D21: =E21/B21 -> 43356.579 | E21: 1647.55
A22: Ремонт песочницы | B22: 1 | C22: шт | D22: =E22/B22 -> 779.04 | E22: 779.04
A23: Ремонт скамейки без спинки | B23: 1 | C23: шт | D23: =E23/B23 -> 890.69 | E23: 890.69
A24: Ручная односторонняя сварка деталей контейнера из листовой стали | B24: По факту | C24: 10 м | D24: =E24 -> 255.54 | E24: 255.54
A25: Уборка придомовой территории и лестничных клеток | B25: По тарифу | C25: м2 | D25: =E25 -> 154792.02 | E25: 154792.02
A26: Услуги спец.техники по благоустройству (очистка наледи, снега) | B26: По факту | C26: руб. | D26: =E26 -> 2250 | E26: =2250 -> 2250
A27: Изготовление ключей
A28: Изготовление ключей | B28: По факту | C28: шт | D28: =E28 -> 100 | E28: 100
A29: Обслуживание и текущий ремонт инженерного оборудования
A30: Демонтаж регулятора температуры воды | B30: 1 | C30: шт | D30: =E30/B30 -> 298.67 | E30: 298.67
A31: Замена сборки Д-32 со спускником | B31: 1 | C31: шт | D31: =E31/B31 -> 2936.34 | E31: 2936.34
A32: Регулировка РТВЖ | B32: 1 | C32: шт | D32: =E32/B32 -> 502.81 | E32: 502.81
A33: Регулировка температуры отопления в ИТП вентилями | B33: 2 | C33: шт | D33: =E33/B33 -> 381.435 | E33: 762.87
A34: Установка манометров | B34: 2 | C34: шт | D34: =E34/B34 -> 750.135 | E34: 1500.27
A35: Установка регулятора температуры "КОРАЛЛ" | B35: 1 | C35: шт | D35: =E35/B35 -> 980.34 | E35: 980.34
A36: Установка термометра | B36: 2 | C36: комплект | D36: =E36/B36 -> 301.125 | E36: 602.25
A37: Установка фланцевых соединений на стальных трубопроводах д.50 мм | B37: 2 | C37: 1 соединение | D37: =E37/B37 -> 1087.82 | E37: 2175.64
A38: Устройство катушки с изготовлением | B38: 1 | C38: шт | D38: =E38/B38 -> 1774.32 | E38: 1774.32
A39: Вскрытие элеваторов со снятием с места и замером сопла (прим) | B39: 0.01 | C39: 100 шт. | D39: =E39/B39 -> 77585 | E39: 775.85
A40: Запуск потока воды: отопление, ГВС, ХВС | B40: 3 | C40: 1 узел | D40: =E40/B40 -> 96.963333 | E40: 290.89
A41: Запуск системы отопления. | B41: 1 | C41: 1 здание | D41: =E41/B41 -> 1005.22 | E41: 1005.22
... A57: Снятие и запись замера в наряде (ИТП,РХВ) | B57: 41 | C57: 1 ИТП | D57: =E57/B57 -> 301.79927 | E57: 12373.77
A58: Обслуживание и текущий ремонт конструктивных элементов
...
