Workbook

Sheet Акт
A1: АКТ № 55/6-2017
A2: приемки оказанных услуг и (или) выполненных работ по содержанию и текущему ремонту общего имущества в многоквартирном доме № 6 квартала 55.
A3: г. Ангарск | D3: "31" марта 2018 г.
A5: Наименование вида работы (услуги) | B5: Периодичность/ количественный показатель выполненной работы (оказанной услуги) | C5: Единица измерения работы (услуги) | D5: Стоимость /сметная стоимость выполненной работы (оказанной услуги) за единицу | E5: Цена выполненной работы (оказанной услуги), в рублях
A6: Аварийное обслуживание
A7: Аварийное обслуживание | B7: Ежедневно | C7: руб. | D7: =E7 -> 3337 | E7: 3337
A8: Благоустройство
A9: Выкашивание газонов | B9: 100 | C9: м2 | D9: =E9/B9 -> 3.95 | E9: 395
A10: Вывоз и утилизация ТКО, в т.ч. крупногабаритного мусора
A11: Услуги по вывозу и утилизации ТБО, в т.ч. крупногабаритного мусора | B11: Ежедневно | C11: руб. | D11: =E11 -> 64686.38 | E11: 64686.38
A12: Обслуживание и текущий ремонт электрооборудования жилых домов
A13: Обслуживание и текущий ремонт электрооборудования жилых домов | B13: По плану | C13: руб. | D13: =E13 -> 7049.27 | E13: 7049.27
A14: Обслуживание инженерного оборудования
A15: Временная заделка свищей и трещин на внутренних трубопроводах и стояках. | B15: 1 | C15: 1 место | D15: =E15/B15 -> 199.58 | E15: 199.58
A16: Запуск потока воды: отопление, ГВС | B16: 1 | C16: 1 узел | D16: =E16/B16 -> 79.55 | E16: 79.55
A17: Запуск системы отопления. | B17: 1 | C17: 1 здание | D17: =E17/B17 -> 796.94 | E17: 796.94
A18: Опрессовка ТУ диаметром: до 100 мм | B18: 0.09 | C18: 100 м | D18: =E18/B18 -> 3725.8889 | E18: 335.33
A19: Осмотр системы центрального отопления, устройств в чердачных и подвальных помещениях. | B19: 0.146 | C19: 1000 м2 | D19: =E19/B19 -> 1551.5068 | E19: 226.52
A20: Осмотр СТО | B20: 0.01 | C20: 100 квартир | D20: =E20/B20 -> 23728 | E20: 237.28
A21: Осмотр СТО в чердачных и подвальных помещениях (весенний и осенний) | B21: 0.96 | C21: 1000 м2 | D21: =E21/B21 -> 1559.0938 | E21: 1496.73
A22: Осмотр, РХВ замеры | B22: 0.02 | C22: 100 шт. | D22: =E22/B22 -> 22494.5 | E22: 449.89
A23: Отключение системы отопления (консервация) - прим. | B23: 1 | C23: 1 здание | D23: =E23/B23 -> 384.58 | E23: 384.58
A24: Очистка канализационной сети: дворовой | B24: 0.025 | C24: 100 м | D24: =E24/B24 -> 41912 | E24: 1047.8
A25: Перевод отопления с подачи на обратку или с обратки на подачу | B25: 5 | C25: узел | D25: =E25/B25 -> 167.9 | E25: 839.5
A26: Перекрытие потока воды: отопление, ГВС | B26: 1 | C26: 1 узел | D26: =E26/B26 -> 64.18 | E26: 64.18
... A35: Устранение засоров санитарных приборов | B35: 3 | C35: 1 прибор | D35: =E35/B35 -> 237.99 | E35: 713.97
A36: Обслуживание конструктивных элементов
A37: Заделка отверстий, гнезд, и борозд: в перекрытиях железобетонных площадью до 0,1 м2 | B37: 0.013 | C37: м3 | D37: =E37/B37 -> 39721.538 | E37: 516.38
A38: Осмотр кровли, чердака, подъездов, подвального помещения - весенний осмотр | B38: 0.836 | C38: 1000 м2 | D38: =E38/B38 -> 1556.9976 | E38: 1301.65
A39: Осмотр стен фасадов (по заявкам) | B39: 0.1 | C39: 1000 м2 | D39: =E39/B39 -> 1280.4 | E39: 128.04
A40: Осмотр СТО в чердачных и подвальных помещениях (весенний и осенний) | B40: 1.01 | C40: 1000 м2 | D40: =E40/B40 -> 1613.5149 | E40: 1629.65
A41: Очистка желобов от мусора: вручную (при расчете 1 кг. мусора = 3 м 1 желоба) | B41: 130 | C41: м | D41: =E41/B41 -> 43.962923 | E41: 5715.18
A42: Очистка кровли от снега толщ. 10 см, сбивание сосулей (в) | B42: 90 | C42: 1 м 2 основания | D42: =E42/B42 -> 94.444111 | E42: 8499.97
A43: Обслуживание ОДПУ
A44: Техническое обслуживание ОДПУ | B44: Ежемесячно | C44: руб. | D44: =E44 -> 21600 | E44: 21600
A45: Расходы на истребование задолженности по оплате жилых помещений
A46: Истребование дебиторской задолженности | B46: По факту | C46: руб. | D46: =E46 -> 200 | E46: 200
A47: Текущий ремонт инженерного оборудования
A48: Врезка диаметром: 15 мм | B48: 1 | C48: шт | D48: =E48/B48 -> 1429.53 | E48: 1429.53
A49: Очистка фильтра от накипи (отложений) | B49: 2 | C49: шт | D49: =E49/B49 -> 936.9 | E49: 1873.8
...

Sheet Бюджет
A1: Отчет по бюджету № 55/6-2017
A3: Период: с 01.01.2017 по 31.12.2017 года.
A5: Строение / По типу работ | B5: Расходы | C5: Начисления | D5: Поступления
A6: Долг за выполненные работы на 01.01.2017 г. | D6: 166070.63
A7: Cодержание жилья | C7: 118323.48 | D7: 123062.03
A8: Вывоз и утилизация ТКО | C8: 41528.64 | D8: 39500.31
A9: Обслуживание ОДПУ | C9: 21588.24 | D9: 17701.84
A10: Техническое обслуживание нежилых помещений | C10: 106497.48 | D10: 236135.65
A11: Аварийное обслуживание | B11: =Акт!E7 -> 3337
A12: Благоустройство | B12: =Акт!E9 -> 395
A13: Вывоз и утилизация ТКО, в т.ч. крупногабаритного мусора | B13: =Акт!E11 -> 64686.38
A14: Обслуживание и текущий ремонт электрооборудования жилых домов | B14: =Акт!E13 -> 7049.27
A15: Обслуживание инженерного оборудования | B15: =SUM(Акт!E15:E35) -> 28781.42
A16: Обслуживание конструктивных элементов | B16: =SUM(Акт!E37:E42) -> 17790.87
A17: Обслуживание ОДПУ | B17: =Акт!E44 -> 21600
A18: Расходы на истребование задолженности по оплате жилых помещений | B18: =Акт!E46 -> 200
A19: Текущий ремонт инженерного оборудования | B19: =SUM(Акт!E48:E52) -> 8806.27
A20: Текущий ремонт конструктивных элементов жилых зданий | B20: =SUM(Акт!E54:E68) -> 13057.24
A21: Транспортные расходы | B21: =SUM(Акт!E70:E71) -> 10425.66
A22: Уборка лестничных клеток | B22: =Акт!E73 -> 19508.59
A23: Уборка придомовой территории | B23: =Акт!E75 -> 40300.64
A24: Услуги по управлению МКД | B24: =Акт!E77 -> 28793.784
A25: Итого: | B25: =SUM(B7:B24) -> 264732.12 | C25: =SUM(C7:C24) -> 287937.84 | D25: =SUM(D7:D24) -> 416399.83 | E25: =D25-D6-B25 -> -14402.924
A26: Долг (доходы за минусом расходов) на 01.01.2018 г. - 14 402,92 руб.
A27: Задолженность по оплате за содержание и текущий ремонт на 01.01.2018 г. - 61 277,58 руб.
A29: Директор ООО "ЖЭУ №6" Плотников А.А. __________________
A30: Отчет составил: экономист Сундукова Ю.А. _______________
A31: Отчет получил: ________________________________________________________
A32: Дата __________________

Sheet 2018
A1: Отчет по бюджету № 55/6-2018
A3: Период: с 01.01.2018 по 31.12.2018 года.
A5: ОБЩИЕ СВЕДЕНИЯ ОБ ОБЪЕКТЕ
A6: Этажность | B6: 4/3 | C6: Общая жилая площадь, м2 | D6: 1373.3 | E6: Площадь кровли, м2 | F6: 1069.3
A7: Количество подъездов | B7: 3 | C7: Площадь нежилых помещений, м2 | D7: 765.8 | E7: Площадь чердаков, м2 | F7: 744.2
A8: Количество квартир | B8: 16 | C8: Площадь л/ клеток, тамбуров, лифтов, м/камер, м2 | D8: 175.9 | E8: Площадь подвалов, м2 | F8: 146.7
A11: Наименование | F11: Значение
A12: Переходящие остатки денежных средств за выполненые работы (на начало периода; + резерв, - долг) | F12: -14402.92
A13: Задолженность по оплате за содержание и текущий ремонт общего имущества МКД (на начало периода) | F13: =46224.8+5780.32 -> 52005.12
A14: Начислено за работы (услуги) по содержанию и текущему ремонту и аренду общего имущества МКД, в том числе: | F14: =SUM(F15:F17) -> 295513.5
A15: - за жилые помещения | F15: =159852.12+26862 -> 186714.12
A16: - за нежилые помещения | F16: 108799.38
A17: - за рекламу и аренду общего имущества МКД
A18: Получено денежных средств, в т. ч: | F18: =SUM(F19:F21) -> 324542.95
A19: - за жилые помещения | F19: 221407.68
A20: - за нежилые помещения | F20: 103135.27
A21: - за рекламу и аренду общего имущества МКД
A22: Всего денежных средств с учетом остатков | F22: =F12+F18 -> 310140.03
A23: Выполненные работы (оказанные услуги) по содержанию общего имущества и текущему ремонту в отчетном периоде | F23: ='Акт (2)'!E92 -> 285866.12
A24: Переходящие остатки денежных средств за выполненные работы (на конец периода; + резерв, - долг) | F24: =F22-F23 -> 24273.911
A25: Задолженность по оплате за содержание и текущий ремонт общего имущества МКД (на конец периода) | F25: =F13+F14-F18 -> 22975.67
A27: Директор ООО "ТРЭК" Плотников А.А. __________________
A28: Отчет составил: экономист Осипова М.С. _______________
A29: Отчет получил: ________________________________________________________
A30: Дата __________________

Sheet Акт (2)
A1: АКТ № 55/6-2018
A2: приемки оказанных услуг и (или) выполненных работ по содержанию и текущему ремонту общего имущества в многоквартирном доме № 6 квартала 55.
A3: г. Ангарск | D3: "31" марта 2019 г.
A5: Наименование вида работы (услуги) | B5: Периодичность/ количественный показатель выполненной работы (оказанной услуги) | C5: Единица измерения работы (услуги) | D5: Стоимость /сметная стоимость выполненной работы (оказанной услуги) за единицу | E5: Цена выполненной работы (оказанной услуги), в рублях
A6: Аварийное обслуживание
A7: Аварийное обслуживание | B7: Ежедневно | C7: руб. | D7: =E7 -> 3337 | E7: 3337
A8: Благоустройство
A9: Выкашивание газонов | B9: 100 | C9: м2 | D9: =E9/B9 -> 3.95 | E9: 395
A10: Окраска известковыми составами: по кирпичу и бетону (бордюр. столбики, столбы) | B10: 0.118 | C10: 100 м2 | D10: =E10/B10 -> 4695.8475 | E10: 554.11
A11: Очистка вручную поверхности фасадов от перхлорвиниловых и масляных красок: с люлей | B11: 0.07 | C11: 100 м2 | D11: =E11/B11 -> 41460 | E11: 2902.2
A12: Очистка помещений от мусора и хлама | B12: 0.001 | C12: т | D12: =E12/B12 -> 99730 | E12: 99.73
A13: Установка урны | B13: 1 | C13: 1 стойка | D13: =E13/B13 -> 3530.05 | E13: 3530.05
A14: Вывоз и утилизация ТКО, в т.ч. крупногабаритного мусора
A15: Вывоз и утилизация ТКО, в т.ч. крупногабаритный мусор | B15: Ежедневно | C15: руб. | D15: =E15 -> 64686.38 | E15: 64686.38
A16: Обслуживание и текущий ремонт электрооборудования жилых домов
A17: Обслуживание и текущий ремонт электрооборудования жилых домов | B17: По плану | C17: руб. | D17: =E17 -> 5969.28 | E17: =710.5+5258.78 -> 5969.28
A18: Обслуживание инженерного оборудования
A19: Запуск потока воды: отопление, ГВС | B19: 1 | C19: 1 узел | D19: =E19/B19 -> 83.75 | E19: 83.75
A20: Запуск системы отопления. | B20: 1 | C20: 1 здание | D20: =E20/B20 -> 839.52 | E20: 839.52
A21: Опрессовка ТУ диаметром: до 100 мм | B21: 0.09 | C21: 100 м | D21: =E21/B21 -> 4535.6667 | E21: 408.21
A22: Осмотр выпусков канализации (засоры, подпоры) прим. | B22: 1 | C22: 1 здание | D22: =E22/B22 -> 254.67 | E22: 254.67
A23: Осмотр СТО | B23: 0.05 | C23: 100 квартир | D23: =E23/B23 -> 24978 | E23: 1248.9
A24: Осмотр СТО в чердачных и подвальных помещениях (весенний и осенний) | B24: 3.015 | C24: 1000 м2 | D24: =E24/B24 -> 1678.7496 | E24: 5061.43
A25: Отключение системы отопления (консервация) - прим. | B25: 1 | C25: 1 здание | D25: =E25/B25 -> 503.4 | E25: 503.4
A26: Очистка канализационной сети: внутренней | B26: 0.73 | C26: 100 м | D26: =E26/B26 -> 13818.849 | E26: 10087.76
A27: Перевод отопления с подачи на обратку или с обратки на подачу | B27: 4 | C27: узел | D27: =E27/B27 -> 215.8725 | E27: 863.49
A28: Перекрытие потока воды: отопление, ГВС | B28: 1 | C28: 1 узел | D28: =E28/B28 -> 67.25 | E28: 67.25
A29: Подготовка элеваторного узла Д-80 к зиме | B29: 1 | C29: шт | D29: =E29/B29 -> 5968.55 | E29: 5968.55
A30: Промывка трубопровода системы отопления | B30: 6314 | C30: м3 | D30: =E30/B30 -> 1.3064856 | E30: 8249.15
... A34: Устранение засоров санитарных приборов | B34: 1 | C34: 1 прибор | D34: =E34/B34 -> 298.44 | E34: 298.44
A35: Обслуживание конструктивных элементов
A36: Закрытие слуховых окон и люков выхода на кровлю | B36: 0.3 | C36: 10 шт. | D36: =E36/B36 -> 1923.4667 | E36: 577.04
A37: Осмотр квартир | B37: 0.01 | C37: 100 квартир | D37: =E37/B37 -> 21916 | E37: 219.16
A38: Осмотр кровли, чердака, люков | B38: 0.37 | C38: 1000 м2 | D38: =E38/B38 -> 1684.8108 | E38: 623.38
A39: Осмотр кровли, чердака, подъездов, подвального помещения -подготовка к зиме | B39: 1.065 | C39: 1000 м2 | D39: =E39/B39 -> 1651.3052 | E39: 1758.64
A40: Очистка кровли от снега, сбивание сосулей (вышка) | B40: 60 | C40: 1 м 2 основания | D40: =E40/B40 -> 68.6285 | E40: 4117.71
A41: Очистка чердака от снега | B41: 4 | C41: 1 м 2 основания | D41: =E41/B41 -> 33.6825 | E41: 134.73
A42: Плановые проверки вентиляционных каналов и оголовков | C42: м2 | D42: =E42 -> 3267.57 | E42: 3267.57
A43: Проверка исправности канализационных вытяжек (по жалобе) | B43: 0.2 | C43: 1000 м2 | D43: =E43/B43 -> 1535.35 | E43: 307.07
A44: Проверка наличия тяги в ДВ и вент. каналах | B44: 0.05 | C44: 1000 м2 | D44: =E44/B44 -> 1536.6 | E44: 76.83
...

Sheet 2019
A1: Отчет по бюджету № 55/6-2019
A3: Период: с 01.01.2019 по 31.12.2019 года.
A5: ОБЩИЕ СВЕДЕНИЯ ОБ ОБЪЕКТЕ
A6: Этажность | B6: 4/3 | C6: Общая жилая площадь, м2 | D6: 1374.1 | E6: Площадь кровли, м2 | F6: 1069.3
A7: Количество подъездов | B7: 3 | C7: Площадь нежилых помещений, м2 | D7: 783.8 | E7: Площадь чердаков, м2 | F7: 744.2
A8: Количество квартир | B8: 16 | C8: Площадь л/ клеток, тамбуров, лифтов, м/камер, м2 | D8: 175.9 | E8: Площадь подвалов, м2 | F8: 146.7
A11: Наименование | F11: Значение
A12: Переходящие остатки денежных средств за выполненные работы (на начало периода; + резерв, - долг) | F12: 24273.911
A13: Задолженность по оплате за содержание и текущий ремонт общего имущества МКД (на начало периода) | F13: 22975.67
A14: Начислено за работы (услуги) по содержанию и текущему ремонту и аренду общего имущества МКД, в том числе: | F14: =SUM(F15:F17) -> 294220.98
A15: - за жилые помещения | F15: =200+171878.64+15183.27 -> 187261.91
A16: - за нежилые помещения | F16: 106959.07
A17: - за рекламу и аренду общего имущества МКД
A18: Получено денежных средств, в т. ч: | F18: =SUM(F19:F21) -> 246640.04
A19: - за жилые помещения | F19: =168968.43+200 -> 169168.43
A20: - за нежилые помещения | F20: 77471.61
A21: - за рекламу и аренду общего имущества МКД
A22: Всего денежных средств с учетом остатков | F22: =F12+F18 -> 270913.95
A23: Выполненные работы (оказанные услуги) по содержанию общего имущества и текущему ремонту в отчетном периоде | F23: =Лист3!E81 -> 306111.31
A24: Переходящие остатки денежных средств за выполненные работы (на конец периода; + резерв, - долг) | F24: =F22-F23 -> -35197.36 | I24: =F14*10% -> 29422.098
A25: Задолженность по оплате за содержание и текущий ремонт общего имущества МКД (на конец периода) | F25: =F13+F14-F18 -> 70556.61 | I25: =I24-Лист3!E80 -> 1593.797
A27: Директор ООО "ТРЭК" Плотников А.А. __________________
A28: Отчет составил: экономист Осипова М.С. _______________
A29: Отчет получил: ________________________________________________________
A30: Дата __________________

Sheet Лист3
A2: .
B3: АКТ № 55/6
B4: приемки оказанных услуг и (или) выполненных работ по содержанию
B5: и текущему ремонту общего имущества в многоквартирном доме
A6: г. Ангарск | E6: 31 марта 2020 г.
A8: Собственники помещений в многоквартином доме, расположенном по адресу: ________________________ , именуемые в дальнейшем "Заказчик", в лице ___________________________________________________________________________________,
A9: являющегося собственником квартиры № _____, находящейся в данном многоквартирном доме, действующего на основании протокола общего собрания собственников, с одной стороны, и управляющая компания ООО "ТРЭК", именуемая в дальнейшем
A10: "Исполнитель", в лице директора Плотникова А.А., действующего на основании Устава, с другой стороны, совместно именуемые "Стороны", составили настоящий акт о нижеследующем:
A11: 1. Исполнителем предъявлены к приемке следующие оказанные на основании договора управления многоквартирным домом или договора оказания услуг по содержанию и (или) выполнению работ по ремонту общего имущества в многоквартирном
A12: доме, либо договора подряда по выполнению работ по ремонту общего имущества в многоквартирном доме (указать нужное) № _______ от "____" ___________________ ______ г. (далее - "Договор") услуги и (или) выполненные работы по содержанию
A13: и текущему ремонту общего имущества в многоквартирном доме № _____, расположенном по адресу: ______________________:
A15: Наименование вида работы (услуги) | B15: Периодичность / количественный показатель выполненной работы (оказанной услуги) | C15: Единица измерения работы (услуги) | D15: Стоимость / сметная стоимость выполненной работы (оказанной услуги) за единицу | E15: Цена выполненной работы (оказанной услуги), в рублях
A16: Аварийное обслуживание
A17: Аварийное обслуживание | B17: Ежедневно | C17: руб. | D17: 0.13 | E17: 3337
A18: Благоустройство и обеспечение санитарного состояния МКД и придомовой територии
A19: Обрезка деревьев высотой: более 5 м без формовки | B19: 1 | C19: 1 дерево | D19: =E19/B19 -> 602.05 | E19: 602.05
A20: Уборка придомовой территории и лестничных клеток | B20: По тарифу | C20: м2 | D20: =E20 -> 96654.5 | E20: 96654.5
A21: Уборка чердаков и подвалов | B21: По тарифу | C21: м2 | D21: =E21 -> 855.72 | E21: 855.72
A22: Услуги спец.техники по благоустройству (очистка наледи, снега) | B22: По факту | C22: руб. | D22: =E22 -> 561.13 | E22: 561.13
A23: Обслуживание и текущий ремонт инженерного оборудования
A24: Регулировка температуры отопления в ИТП вентилями | B24: 2 | C24: шт | D24: =E24/B24 -> 303.33 | E24: 606.66
A25: Запуск потока воды: отопление, ГВС | B25: 2 | C25: 1 узел | D25: =E25/B25 -> 91.07 | E25: 182.14
A26: Ликвидация воздушных пробок в системе отопления, в стояке | B26: 1 | C26: 1 стояк | D26: =E26/B26 -> 666.22 | E26: 666.22
A27: Осмотр и устранение мелких неисправностей на РХВ | B27: 1 | C27: шт | D27: =E27/B27 -> 150.94 | E27: 150.94
A28: Осмотр системы центрального отопления, устройств в чердачных и подвальных помещениях. | B28: 0.1 | C28: 1000 м2 | D28: =E28/B28 -> 1791.3 | E28: 179.13
A29: Осмотр СТО | B29: 0.06 | C29: 100 квартир | D29: =E29/B29 -> 27196.333 | E29: 1631.78
A30: Осмотр СТО в чердачных и подвальных помещениях (весенний и осенний) | B30: 2.12 | C30: 1000 м2 | D30: =E30/B30 -> 1804.4057 | E30: 3825.34
A31: Осмотр СТО в чердачных и подвальных помещениях ФКР | B31: 1.066 | C31: 1000 м2 | D31: =E31/B31 -> 1815.394 | E31: 1935.21
A32: Отключение системы отопления (консервация) - прим. | B32: 1 | C32: 1 здание | D32: =E32/B32 -> 549.39 | E32: 549.39
A33: Отогрев трубопровода Д-32-50 | B33: 1 | C33: м | D33: =E33/B33 -> 644.12 | E33: 644.12
A34: Очистка канализационной сети: внутренней | B34: 0.3 | C34: 100 м | D34: =E34/B34 -> 15646.167 | E34: 4693.85
A35: Перевод отопления с подачи на обратку или с обратки на подачу | B35: 4 | C35: узел | D35: =E35/B35 -> 225.345 | E35: 901.38
... A43: Устранение засоров санитарных приборов | B43: 1 | C43: 1 прибор | D43: =E43/B43 -> 316.17 | E43: 316.17
A44: Обслуживание и текущий ремонт конструктивных элементов
A45: Демонтаж-монтаж частей фановых труб | B45: 0.025 | C45: 100 м | D45: =E45/B45 -> 16839.2 | E45: 420.98
A46: Окраска масляными составами по дереву: доски объявления | B46: 0.005 | C46: 100 м2 | D46: =E46/B46 -> 30102 | E46: 150.51
A47: Постановка заклепок в местах соединения труб | B47: 0.6 | C47: 100 шт. | D47: =E47/B47 -> 4793.8833 | E47: 2876.33
A48: Ремонт обделок из листовой стали (парапета, карниза, отливов, т.д)-(укрепление, промазка свищ.) | B48: 1 | C48: м | D48: =E48/B48 -> 98.97 | E48: 98.97
A49: Ремонт отдельных мест покрытия из асбоцементных листов: обыкновенного профиля (мат. БУ) | B49: 2.52 | C49: м2 | D49: =E49/B49 -> 293.00397 | E49: 738.37
A50: Ремонт отдельных мест скатной кровли (материалом Ризолит) | B50: 10.4 | C50: м2 | D50: =E50/B50 -> 605.72692 | E50: 6299.56
...

Sheet 2020
A1: Отчет по бюджету № 55/6-2020
A3: Период: с 01.01.2020 по 31.12.2020 года.
A5: ОБЩИЕ СВЕДЕНИЯ ОБ ОБЪЕКТЕ
A6: Этажность | B6: 4/3 | C6: Общая жилая площадь, м2 | D6: 1374.1 | E6: Площадь кровли, м2 | F6: 1069.3
A7: Количество подъездов | B7: 3 | C7: Площадь нежилых помещений, м2 | D7: =600.5+182.8 -> 783.3 | E7: Площадь чердаков, м2 | F7: 744.2
A8: Количество квартир | B8: 16 | C8: Площадь л/ клеток, тамбуров, лифтов, м/камер, м2 | D8: 175.9 | E8: Площадь подвалов, м2 | F8: 146.7
A11: Наименование | F11: Значение | J11: =D6+D7 -> 2157.4
A12: Переходящие остатки денежных средств за выполненные работы (на начало периода; + резерв, - долг) | F12: -35197.36 | J12: =J11*11.33*12 -> 293320.1
A13: Задолженность по оплате за содержание и текущий ремонт общего имущества МКД (на начало периода) | F13: 70556.61 | J13: =2000+942.62 -> 2942.62
A14: Начислено за работы (услуги) по содержанию и текущему ремонту и аренду общего имущества МКД, в том числе: | F14: =SUM(F15:F17) -> 296262.94 | J14: =SUM(J12:J13) -> 296262.72
A15: - за жилые помещения | F15: 186822.84
A16: - за нежилые помещения | F16: 109440.1
A17: - за рекламу и аренду общего имущества МКД
A18: Получено денежных средств, в т. ч: | F18: =SUM(F19:F21) -> 268587.33
A19: - за жилые помещения | F19: 167704.78
A20: - за нежилые помещения | F20: 100882.55
A21: - за рекламу и аренду общего имущества МКД
A22: Всего денежных средств с учетом остатков | F22: =F12+F18+F23 -> 234508.97
A23: Корректировка за 2018 год | F23: 1119
A24: Выполненные работы (оказанные услуги) по содержанию общего имущества и текущему ремонту в отчетном периоде | F24: =Лист1!E95 -> 366762.46
A25: Переходящие остатки денежных средств за выполненные работы (на конец периода; + резерв, - долг) | F25: =F22-F24 -> -132253.49
A26: Задолженность по оплате за содержание и текущий ремонт общего имущества МКД (на конец периода) | F26: =F13+F14-F18 -> 98232.22 | H26: =48742.78+49489.44 -> 98232.22
A28: Директор ООО "ТРЭК" Плотников А.А. __________________
A29: Отчет составил: экономист Осипова М.С. _______________
A30: Отчет получил: ________________________________________________________
A31: Дата __________________

Sheet Лист1
A2: .
B3: АКТ № 55/6
A4: приемки оказанных услуг и (или) выполненных работ по содержанию
A5: и текущему ремонту общего имущества в многоквартирном доме
A6: г. Ангарск | E6: 31 марта 2021 г.
A8: Собственники помещений в многоквартином доме, расположенном по адресу: ________________________ , именуемые в дальнейшем "Заказчик", в лице ___________________________________________________________________________________,
A9: являющегося собственником квартиры № _____, находящейся в данном многоквартирном доме, действующего на основании протокола общего собрания собственников, с одной стороны, и управляющая компания ООО "ТРЭК", именуемая в дальнейшем
A10: "Исполнитель", в лице директора Плотникова А.А., действующего на основании Устава, с другой стороны, совместно именуемые "Стороны", составили настоящий акт о нижеследующем:
A11: 1. Исполнителем предъявлены к приемке следующие оказанные на основании договора управления многоквартирным домом или договора оказания услуг по содержанию и (или) выполнению работ по ремонту общего имущества в многоквартирном
A12: доме, либо договора подряда по выполнению работ по ремонту общего имущества в многоквартирном доме (указать нужное) № _______ от "____" ___________________ ______ г. (далее - "Договор") услуги и (или) выполненные работы по содержанию
A13: и текущему ремонту общего имущества в многоквартирном доме № _____, расположенном по адресу: ______________________:
A15: Наименование вида работы (услуги) | B15: Периодичность / количественный показатель выполненной работы (оказанной услуги) | C15: Единица измерения работы (услуги) | D15: Стоимость / сметная стоимость выполненной работы (оказанной услуги) за единицу | E15: Цена выполненной работы (оказанной услуги), в рублях
A16: Аварийное обслуживание
A17: Аварийное обслуживание | B17: Ежедневно | C17: руб. | D17: 0.13 | E17: 3365.54
A18: Благоустройство и обеспечение санитарного состояния МКД и придомовой територии
A19: Дезинфекция мест общего пользования МКД | B19: По факту | C19: м2 | D19: =E19 -> 3166.2 | E19: 3166.2
A20: Окраска известковыми составами: по кирпичу и бетону (бордюр. столбики, столбы) | B20: По факту | C20: 100 м2 | D20: =E20 -> 657.24 | E20: 657.24
A21: Уборка придомовой территории и лестничных клеток | B21: По тарифу | C21: м2 | D21: =E21 -> 98118.55 | E21: 98118.55
A22: Уборка чердаков и подвалов | B22: По тарифу | C22: м2 | D22: =E22 -> 171.05 | E22: 171.05
A23: Обслуживание и текущий ремонт инженерного оборудования
A24: Демонтаж- монтаж сгонов на подцепке радиатора: 20мм (перемотка) | B24: 1 | C24: 1 участок | D24: =E24/B24 -> 1054.1 | E24: 1054.1
A25: Демонтаж: радиаторов весом до 80 кг | B25: 0.01 | C25: 100 шт. | D25: =E25/B25 -> 49902 | E25: 499.02
A26: Заделка свища сваркой при длине стыка до 6 мм | B26: 1 | C26: шт | D26: =E26/B26 -> 711.33 | E26: 711.33
A27: Консервация системы отопления | B27: 1 | C27: 100 м | D27: =E27/B27 -> 724.61 | E27: 724.61
A28: Осмотр кровли,чердака,подъездов,подвала,фасада-после землетр-ия, в т.ч. рем-т выявленных повреждений | B28: По факту | C28: 1000 м2 | D28: =E28 -> 2125.87 | E28: 2125.87
A29: Проверка работ-ти запорной арматуры, устранение мелких неисправностей, проверка работы ПУ РХВ | B29: 0.01 | C29: 100 шт. | D29: =E29/B29 -> 30407 | E29: 304.07
A30: Регулировка температуры отопления в ИТП вентилями | B30: 1 | C30: шт | D30: =E30/B30 -> 381.16 | E30: 381.16
A31: Смена отдельных участков трубопроводов диаметром: 20 мм | B31: 1 | C31: 1 участок | D31: =E31/B31 -> 1151.4 | E31: 1151.4
A32: Установка регистра с изготовлением | B32: 1 | C32: шт | D32: =E32/B32 -> 5956.27 | E32: 5956.27
A33: Запуск потока воды: отопление, ГВС, ХВС | B33: 4 | C33: 1 узел | D33: =E33/B33 -> 98.335 | E33: 393.34
A34: Запуск системы отопления. | B34: 1 | C34: 1 здание | D34: =E34/B34 -> 1012.36 | E34: 1012.36
A35: Осмотр подвальных помещений | B35: 0.17 | C35: 1000 м2 | D35: =E35/B35 -> 1813.7059 | E35: 308.33
A36: Осмотр системы центрального отопления, устройства в чердачных и подвальных помещениях | B36: 0.17 | C36: 1000 м2 | D36: =E36/B36 -> 2032.3529 | E36: 345.5
A37: Осмотр СТО | B37: 0.06 | C37: 100 квартир | D37: =E37/B37 -> 30321.167 | E37: 1819.27
A38: Осмотр СТО в чердачных и подвальных помещениях (весенний и осенний) | B38: 2.126 | C38: 1000 м2 | D38: =E38/B38 -> 1919.3744 | E38: 4080.59
A39: Осмотр СТО в чердачных и подвальных помещениях ФКР | B39: 0.3 | C39: 1000 м2 | D39: =E39/B39 -> 2003.5333 | E39: 601.06
A40: Откачка воды из ливневки, приямка. дренажного колодца | B40: 0.018 | C40: 100 м3 | D40: =E40/B40 -> 77786.667 | E40: 1400.16
... A45: Подготовка элеваторного узла | B45: 1 | C45: шт | D45: =E45/B45 -> 4397.99 | E45: 4397.99
A46: Промывка трубопровода системы отопления | B46: 1 | C46: 1 здание | D46: =E46 -> 8168.99 | E46: 8168.99
A47: Сдача ИТП представителю энергоснабжающей организации | B47: 1 | C47: 1 ИТП | D47: =E47/B47 -> 868.12 | E47: 868.12
...

Sheet 2021
A1: Отчет по бюджету № 55/6-2021
A3: Период: с 01.01.2021 по 31.12.2021 года.
A5: ОБЩИЕ СВЕДЕНИЯ ОБ ОБЪЕКТЕ
A6: Этажность | B6: 4/3 | C6: Общая жилая площадь, м2 | D6: 1374.1 | E6: Площадь кровли, м2 | F6: 1069.3
A7: Количество подъездов | B7: 3 | C7: Площадь нежилых помещений, м2 | D7: =600.5+182.8 -> 783.3 | E7: Площадь чердаков, м2 | F7: 744.2
A8: Количество квартир | B8: 16 | C8: Площадь л/ клеток, тамбуров, лифтов, м/камер, м2 | D8: 175.9 | E8: Площадь подвалов, м2 | F8: 146.7
A11: Наименование | F11: Значение
A12: Переходящие остатки денежных средств за выполненные работы (на начало периода; + резерв, - долг) | F12: -132253.49
A13: Задолженность по оплате за содержание и текущий ремонт общего имущества МКД (на начало периода) | F13: 98232.22
A14: Начислено за работы (услуги) по содержанию и текущему ремонту и аренду общего имущества МКД, в том числе: | F14: =SUM(F15:F17) -> 294490.32
A15: - за жилые помещения | F15: 186822.84
A16: - за нежилые помещения | F16: 106497.48
A17: - за рекламу и аренду общего имущества МКД | F17: 1170
A18: Получено денежных средств, в т. ч: | F18: =SUM(F19:F21) -> 368050.91
A19: - за жилые помещения | F19: 211073.99
A20: - за нежилые помещения | F20: 155986.92
A21: - за рекламу и аренду общего имущества МКД | F21: 990
A22: Всего денежных средств с учетом остатков | F22: =F12+F18 -> 235797.42
A23: Выполненные работы (оказанные услуги) по содержанию общего имущества и текущему ремонту в отчетном периоде | F23: =акт21!E73 -> 215580.68
A24: Переходящие остатки денежных средств за выполненные работы (на конец периода; + резерв, - долг) | F24: =F22-F23+0.01 -> 20216.745
A25: Задолженность по оплате за содержание и текущий ремонт общего имущества МКД (на конец периода) | F25: =F13+F14-F18 -> 24671.63
A27: Директор ООО "ТРЭК" Плотников А.А. __________________
A28: Отчет составил: экономист _______________
A29: Отчет получил: ________________________________________________________
A30: Дата __________________

Sheet акт21
A2: .
A3: АКТ № 55/6
A4: приемки оказанных услуг и (или) выполненных работ по содержанию
A5: и текущему ремонту общего имущества в многоквартирном доме
A6: г. Ангарск | E6: 31 марта 2022 г.
A8: Собственники помещений в многоквартином доме, расположенном по адресу: ________________________ , именуемые в дальнейшем "Заказчик", в лице ___________________________________________________________________________________,
A9: являющегося собственником квартиры № _____, находящейся в данном многоквартирном доме, действующего на основании протокола общего собрания собственников, с одной стороны, и управляющая компания ООО "ТРЭК", именуемая в дальнейшем
A10: "Исполнитель", в лице директора Плотникова А.А., действующего на основании Устава, с другой стороны, совместно именуемые "Стороны", составили настоящий акт о нижеследующем:
A11: 1. Исполнителем предъявлены к приемке следующие оказанные на основании договора управления многоквартирным домом или договора оказания услуг по содержанию и (или) выполнению работ по ремонту общего имущества в многоквартирном
A12: доме, либо договора подряда по выполнению работ по ремонту общего имущества в многоквартирном доме (указать нужное) № _______ от "____" ___________________ ______ г. (далее - "Договор") услуги и (или) выполненные работы по содержанию
A13: и текущему ремонту общего имущества в многоквартирном доме № _____, расположенном по адресу: ______________________:
A15: Наименование вида работы (услуги) | B15: Периодичность / количественный показатель выполненной работы (оказанной услуги) | C15: Единица измерения работы (услуги) | D15: Стоимость / сметная стоимость выполненной работы (оказанной услуги) за единицу | E15: Цена выполненной работы (оказанной услуги), в рублях
A16: Аварийное обслуживание
A17: Аварийное обслуживание | B17: Ежедневно | C17: руб. | D17: 0.14 | E17: 2308.49
A18: Благоустройство и обеспечение санитарного состояния МКД и придомовой територии
A19: Валка деревьев в городских условиях: (дуб, бук, граб, клен, ясень) д. до 300мм | B19: 1.09 | C19: 1 м3 | E19: 2232.76
A20: Уборка придомовой территории и лестничных клеток | B20: По тарифу | C20: м2 | D20: =E20 -> 98118.6 | E20: 98118.6
A21: Уборка чердаков и подвалов | B21: По тарифу | C21: м2 | D21: =E21 -> 1035.48 | E21: 1035.48
A22: Обслуживание и текущий ремонт инженерного оборудования
A23: Регулировка температуры отопления в ИТП вентилями | B23: 2 | C23: шт | D23: =E23/B23 -> 381.865 | E23: 763.73
A24: Уплотнение сгонов без разборки. | B24: 2 | C24: 1 соединение | D24: =E24/B24 -> 86.86 | E24: 173.72
A25: Запуск потока воды: отопление, ГВС, ХВС | B25: 5 | C25: 1 узел | D25: =E25/B25 -> 98.842 | E25: 494.21
A26: Запуск системы отопления. | B26: 1 | C26: 1 здание | D26: =E26/B26 -> 1005.22 | E26: 1005.22
A27: Опрессовка ТУ диаметром: до 100 мм | B27: 1 | C27: 100 м | D27: =E27/B27 -> 961.8 | E27: 961.8
A28: Осмотр и устранение мелких неисправностей на РХВ | B28: 1 | C28: шт | D28: =E28/B28 -> 149.54 | E28: 149.54
A29: Осмотр квартир | B29: 0.01 | C29: 100 квартир | D29: =E29/B29 -> 30546 | E29: 305.46
A30: Осмотр подвальных помещений и выпуска при подпоре | B30: 3 | C30: 1 осмотр | D30: =E30/B30 -> 1107.0667 | E30: 3321.2
A31: Осмотр подъездов, подвального помещения, чердачного помещения - по жалобе | B31: 0.1 | C31: 1000 м2 | D31: =E31/B31 -> 3830.2 | E31: 383.02
A32: Осмотр СТО | B32: 0.02 | C32: 100 квартир | D32: =E32/B32 -> 30125 | E32: 602.5
A33: Осмотр СТО в чердачных и подвальных помещениях ФКР | B33: 1.066 | C33: 1000 м2 | D33: =E33/B33 -> 1915.0188 | E33: 2041.41
A34: Осмотр СТО в чердачных и подвальных помещениях (весенний и осенний) | B34: 1.06 | C34: 1000 м2 | D34: =E34/B34 -> 1811.6981 | E34: 1920.4
... A45: Уплотнение сгонов с применением льняной пряди или асбестового шнура (без разборки сгонов) | B45: 1 | C45: 1 соединение | D45: =E45/B45 -> 87.2 | E45: 87.2
A46: Обслуживание и текущий ремонт конструктивных элементов
A47: Изготовление щита из доски б/у | B47: 0.005 | C47: 100 м2 | D47: =E47/B47 -> 21542 | E47: 107.71
A48: Монтаж аншлагов, стенда, вывески, доски объявления и т.д. | B48: 0.03 | C48: 100 шт. | D48: =E48/B48 -> 40746.667 | E48: 1222.4
A49: Перенавеска в/сточ. отметов | B49: 0.03 | C49: 100 шт. | D49: =E49/B49 -> 26985 | E49: 809.55
A50: Ремонт отдельных мест покрытия из асбоцементных листов: обыкновенного профиля (мат. БУ) | B50: 5.62 | C50: м2 | D50: =E50/B50 -> 324.3879 | E50: 1823.06
A51: Ремонт отдельных мест покрытия из асбоцементных листов: обыкновенного профиля | B51: 1.26 | C51: м2 | D51: =E51/B51 -> 336.90476 | E51: 424.5
A52: Смена: прямых звеньев водосточных труб | B52: 0.033 | C52: 100 м | D52: =E52/B52 -> 18727.576 | E52: 618.01
A53: Установка доски объявлений - б/у | B53: 0.03 | C53: 100 шт. | D53: =E53/B53 -> 43347 | E53: 1300.41
...
