Workbook

Sheet Акт
A1: АКТ № 51/28-2017
A2: приемки оказанных услуг и (или) выполненных работ по содержанию и текущему ремонту общего имущества в многоквартирном доме № 28 квартала 51.
A3: г. Ангарск | D3: "31" марта 2018 г.
A5: Наименование вида работы (услуги) | B5: Периодичность/ количественный показатель выполненной работы (оказанной услуги) | C5: Единица измерения работы (услуги) | D5: Стоимость /сметная стоимость выполненной работы (оказанной услуги) за единицу | E5: Цена выполненной работы (оказанной услуги), в рублях
A6: Аварийное обслуживание
A7: Аварийное обслуживание | B7: Ежедневно | C7: руб. | D7: =E7 -> 1934.56 | E7: 1934.56
A8: Благоустройство
A9: Выкашивание газонов | B9: 560 | C9: м2 | D9: =E9/B9 -> 3.95 | E9: 2212
A10: Вывоз и утилизация ТКО, в т.ч. крупногабаритного мусора
A11: Услуги по вывозу и утилизации ТБО, в т.ч. крупногабаритного мусора | B11: Ежедневно | C11: руб. | D11: =E11 -> 29762.4 | E11: 29762.4
A12: Обслуживание и текущий ремонт электрооборудования жилых домов
A13: Обслуживание и текущий ремонт электрооборудования жилых домов | B13: По плану | C13: руб. | D13: =E13 -> 2107.94 | E13: 2107.94
A14: Обслуживание инженерного оборудования
A15: Запуск потока воды: отопление, ГВС | B15: 1 | C15: 1 узел | D15: =E15/B15 -> 67.83 | E15: 67.83
A16: Запуск системы отопления. | B16: 1 | C16: 1 здание | D16: =E16/B16 -> 796.94 | E16: 796.94
A17: Ликвидация воздушных пробок в системе отопления, в стояке | B17: 3 | C17: 1 стояк | D17: =E17/B17 -> 446.32333 | E17: 1338.97
A18: Опрессовка ТУ диаметром: до 50 мм | B18: 0.07 | C18: 100 м | D18: =E18/B18 -> 4273.2857 | E18: 299.13
A19: Осмотр подвальных помещений (засоры, подпоры) прим. | B19: 0.54 | C19: 1000 м2 | D19: =E19/B19 -> 1453.0556 | E19: 784.65
A20: Осмотр СТО | B20: 0.03 | C20: 100 квартир | D20: =E20/B20 -> 22348.333 | E20: 670.45
A21: Осмотр СТО в чердачных и подвальных помещениях (весенний и осенний) | B21: 0.83 | C21: 1000 м2 | D21: =E21/B21 -> 1559.0964 | E21: 1294.05
A22: Осмотр, РХВ замеры | B22: 0.03 | C22: 100 шт. | D22: =E22/B22 -> 21152.667 | E22: 634.58
A23: Отключение системы отопления (консервация) - прим. | B23: 1 | C23: 1 здание | D23: =E23/B23 -> 384.58 | E23: 384.58
A24: Перевод отопления с подачи на обратку или с обратки на подачу | B24: 7 | C24: узел | D24: =E24/B24 -> 183.53571 | E24: 1284.75
A25: Перекрытие потока воды: отопление, ГВС | B25: 2 | C25: 1 узел | D25: =E25/B25 -> 53.055 | E25: 106.11
A26: Подготовка элеваторного узла Д-50 к зиме | B26: 1 | C26: шт | D26: =E26/B26 -> 3369.27 | E26: 3369.27
... A30: Устранение засоров санитарных приборов | B30: 1 | C30: 1 прибор | D30: =E30/B30 -> 283.82 | E30: 283.82
A31: Обслуживание конструктивных элементов
A32: Осмотр квартир (вентиляция) | B32: 0.04 | C32: 100 квартир | D32: =E32/B32 -> 21655.25 | E32: 866.21
A33: Осмотр кровли, чердака, подъездов, подвального помещения - весенний осмотр | B33: 0.718 | C33: 1000 м2 | D33: =E33/B33 -> 1557.0613 | E33: 1117.97
A34: Очистка кровли от снега толщ. 10 см, сбивание сосулей (в) | B34: 30 | C34: 1 м 2 основания | D34: =E34/B34 -> 94.564667 | E34: 2836.94
A35: Очистка кровли от снега, сбивание сосулей | B35: 46 | C35: 1 м 2 основания | D35: =E35/B35 -> 39.858261 | E35: 1833.48
A36: Текущий ремонт инженерного оборудования
A37: Демонтаж-монтаж отдельных участков трубопроводов из стх водопроводных неоц-х труб д.20мм - переборка | B37: 1 | C37: 1 участок | D37: =E37/B37 -> 721.39 | E37: 721.39
A38: Подчеканка раструбов канализационных труб диаметром: 101-125 мм | B38: 1 | C38: шт | D38: =E38/B38 -> 366.25 | E38: 366.25
A39: Смена отдельных участков трубопроводов из стальных водогазопроводных неоцинкованных труб д-м: 25 мм | B39: 1 | C39: 1 участок | D39: =E39/B39 -> 792.38 | E39: 792.38
A40: Смена резиновых манжет на раструбе канализационной трубы | B40: 1 | C40: шт | D40: =E40/B40 -> 656.97 | E40: 656.97
A41: Текущий ремонт конструктивных элементов жилых зданий
A42: Постановка заклепок в местах соединения труб | B42: 0.04 | C42: 100 шт. | D42: =E42/B42 -> 4679.25 | E42: 187.17
A43: Смена частей водосточных труб: отливов (отметов) | B43: 0.01 | C43: 100 шт. | D43: =E43/B43 -> 20694 | E43: 206.94
A44: Укрепление мет. сетки на слуховом окне - (б/у) | B44: 0.048 | C44: 10 м2 | D44: =E44/B44 -> 2284.5833 | E44: 109.66
...

Sheet Бюджет
A1: Отчет по бюджету № 51/28-2017
A3: Период: с 01.01.2017 по 31.12.2017 года.
A5: Строение / По типу работ | B5: Расходы | C5: Начисления | D5: Поступления
A6: Долг за выполненные работы на 01.01.2017 г. | D6: 6295.63
A7: Cодержание жилья | C7: 105210.12 | D7: 109139.17
A8: Вывоз и утилизация ТКО | C8: 29762.4 | D8: 32882.68
A9: Аварийное обслуживание | B9: =Акт!E7 -> 1934.56
A10: Благоустройство | B10: =Акт!E9 -> 2212
A11: Вывоз и утилизация ТКО, в т.ч. крупногабаритного мусора | B11: =Акт!E11 -> 29762.4
A12: Обслуживание и текущий ремонт электрооборудования жилых домов | B12: =Акт!E13 -> 2107.94
A13: Обслуживание инженерного оборудования | B13: =SUM(Акт!E15:E30) -> 24824.27
A14: Обслуживание конструктивных элементов | B14: =SUM(Акт!E32:E35) -> 6654.6
A15: Текущий ремонт инженерного оборудования | B15: =SUM(Акт!E37:E40) -> 2536.99
A16: Текущий ремонт конструктивных элементов жилых зданий | B16: =SUM(Акт!E42:E44) -> 503.77
A17: Транспортные расходы | B17: =Акт!E46 -> 800
A18: Уборка придомовой территории | B18: =Акт!E48 -> 37500.62
A19: Уборка чердаков и подвалов | B19: =Акт!E50 -> 2365.27
A20: Услуги по управлению МКД | B20: =Акт!E52 -> 13497.25
A21: Итого: | B21: =SUM(B7:B20) -> 124699.67 | C21: =SUM(C7:C20) -> 134972.52 | D21: =SUM(D7:D20) -> 142021.85
A22: Резерв (доходы за минусом расходов) на 01.01.2018 г. - 11 026,55 руб. | E22: =D21-D6-B21 -> 11026.55
A23: Задолженность по оплате за содержание и текущий ремонт на 01.01.2018 г. - 1 737,64 руб.
A25: Директор ООО "ЖЭУ №6" Плотников А.А. __________________
A26: Отчет составил: экономист Сундукова Ю.А. _______________
A27: Отчет получил: ________________________________________________________
A28: Дата __________________

Sheet 2018
A1: Отчет по бюджету № 51/28-2018
A3: Период: с 01.01.2018 по 31.12.2018 года.
A5: ОБЩИЕ СВЕДЕНИЯ ОБ ОБЪЕКТЕ
A6: Этажность | B6: 4 | C6: Общая жилая площадь, м2 | D6: 1240.1 | E6: Площадь кровли, м2 | F6: 591.8
A7: Количество подъездов | B7: 2 | C7: Площадь нежилых помещений, м2 | D7: 0 | E7: Площадь чердаков, м2 | F7: 383
A8: Количество квартир | B8: 8 | C8: Площадь л/ клеток, тамбуров, лифтов, м/камер, м2 | D8: 136.2 | E8: Площадь подвалов, м2 | F8: 335.5
A11: Наименование | F11: Значение
A12: Переходящие остатки денежных средств за выполненные работы (на начало периода; + резерв, - долг) | F12: 11026.55
A13: Задолженность по оплате за содержание и текущий ремонт общего имущества МКД (на начало периода) | F13: 1489.44
A14: Начислено за работы (услуги) по содержанию и текущему ремонту и аренду общего имущества МКД, в том числе: | F14: =SUM(F15:F17) -> 134972.64
A15: - за жилые помещения | F15: 134972.64
A16: - за нежилые помещения
A17: - за рекламу и аренду общего имущества МКД
A18: Получено денежных средств, в т. ч: | F18: =SUM(F19:F21) -> 132057.27
A19: - за жилые помещения | F19: 132057.27
A20: - за нежилые помещения
A21: - за рекламу и аренду общего имущества МКД
A22: Всего денежных средств с учетом остатков | F22: =F12+F18 -> 143083.82
A23: Выполненные работы (оказанные услуги) по содержанию общего имущества и текущему ремонту в отчетном периоде | F23: ='Акт (2)'!E47 -> 117271.55
A24: Переходящие остатки денежных средств за выполненные работы (на конец периода; + резерв, - долг) | F24: =F22-F23 -> 25812.27
A25: Задолженность по оплате за содержание и текущий ремонт общего имущества МКД (на конец периода) | F25: =F13+F14-F18 -> 4404.81
A27: Директор ООО "ТРЭК" Плотников А.А. __________________
A28: Отчет составил: экономист Осипова М.С. _______________
A29: Отчет получил: ________________________________________________________
A30: Дата __________________

Sheet Акт (2)
A1: АКТ № 51/28-2018
A2: приемки оказанных услуг и (или) выполненных работ по содержанию и текущему ремонту общего имущества в многоквартирном доме № 28 квартала 51.
A3: г. Ангарск | D3: "31" марта 2019 г.
A5: Наименование вида работы (услуги) | B5: Периодичность/ количественный показатель выполненной работы (оказанной услуги) | C5: Единица измерения работы (услуги) | D5: Стоимость /сметная стоимость выполненной работы (оказанной услуги) за единицу | E5: Цена выполненной работы (оказанной услуги), в рублях
A6: Аварийное обслуживание
A7: Аварийное обслуживание | B7: Ежедневно | C7: руб. | D7: =E7 -> 1934.56 | E7: 1934.56
A8: Благоустройство
A9: Окраска известковыми составами: по кирпичу и бетону (бордюр. столбики, столбы) | B9: 0.18 | C9: 100 м2 | D9: =E9/B9 -> 4736.2222 | E9: 852.52
A10: Окраска колес колером (прим) | B10: 1.5 | C10: шт | D10: =E10/B10 -> 113.45333 | E10: 170.18
A11: Окраска урны | B11: 0.012 | C11: 100 м2 | D11: =E11/B11 -> 25050 | E11: 300.6
A12: Вывоз и утилизация ТКО, в т.ч. крупногабаритного мусора
A13: Вывоз и утилизация ТКО, в т.ч. крупногабаритный мусор | B13: Ежедневно | C13: руб. | D13: =E13 -> 29762.4 | E13: 29762.4
A14: Изготовление плана благоустройства
A15: Изготовление плана благоустройства | B15: По факту | C15: руб. | D15: =E15 -> 3254.4 | E15: 3254.4
A16: Обслуживание и текущий ремонт электрооборудования жилых домов
A17: Обслуживание и текущий ремонт электрооборудования жилых домов | B17: По плану | C17: руб. | D17: =E17 -> 4724.64 | E17: =1675.97+3048.67 -> 4724.64
A18: Обслуживание инженерного оборудования
A19: Запуск потока воды: отопление, ГВС | B19: 1 | C19: 1 узел | D19: =E19/B19 -> 83.75 | E19: 83.75
A20: Запуск системы отопления. | B20: 1 | C20: 1 здание | D20: =E20/B20 -> 839.52 | E20: 839.52
A21: Ликвидация воздушных пробок в системе отопления, в стояке | B21: 3 | C21: 100 приборов | D21: =E21/B21 -> 470.12667 | E21: 1410.38
A22: Опрессовка ТУ диаметром: до 50 мм | B22: 0.07 | C22: 100 м | D22: =E22/B22 -> 6095.4286 | E22: 426.68
A23: Осмотр выпусков канализации (засоры, подпоры) прим. | B23: 2 | C23: 1 здание | D23: =E23/B23 -> 256.515 | E23: 513.03
A24: Осмотр СТО | B24: 0.02 | C24: 100 квартир | D24: =E24/B24 -> 25573.5 | E24: 511.47
A25: Осмотр СТО в чердачных и подвальных помещениях (весенний и осенний) | B25: 2.423 | C25: 1000 м2 | D25: =E25/B25 -> 1679.7441 | E25: 4070.02
A26: Отключение системы отопления (консервация) | B26: 1 | C26: 1 здание | D26: =E26/B26 -> 503.4 | E26: 503.4
A27: Очистка канализационной сети: внутренней | B27: 0.04 | C27: 100 м | D27: =E27/B27 -> 14991.75 | E27: 599.67
A28: Перевод отопления с подачи на обратку или с обратки на подачу | B28: 2 | C28: узел | D28: =E28/B28 -> 218.605 | E28: 437.21
A29: Перекрытие потока воды: отопление, ГВС | B29: 1 | C29: 1 узел | D29: =E29/B29 -> 67.25 | E29: 67.25
A30: Подготовка элеваторного узла Д-50 к зиме | B30: 1 | C30: шт | D30: =E30/B30 -> 3731.3 | E30: 3731.3
... A32: Снятие и запись замера в наряде (ИТП,РХВ) | B32: 22 | C32: 1 ИТП | D32: =E32/B32 -> 253.15455 | E32: 5569.4
A33: Обслуживание конструктивных элементов
A34: Закрытие подвальных окон и люков (прим) | B34: 0.4 | C34: 10 шт. | D34: =E34/B34 -> 1888.875 | E34: 755.55
A35: Осмотр кровли, чердака, подъездов, подвального помещения -подготовка к зиме | B35: 0.849 | C35: 1000 м2 | D35: =E35/B35 -> 1651.1779 | E35: 1401.85
A36: Очистка кровли от снега, сбивание сосулей | B36: 2 | C36: 1 м 2 основания | D36: =E36/B36 -> 43.6 | E36: 87.2
A37: Очистка кровли от снега, сбивание сосулей вышка | B37: 18.75 | C37: 1 м 1 основания | D37: =E37/B37 -> 125.9392 | E37: 2361.36
A38: Транспортные расходы
A39: Услуги автотранспорта | B39: По факту | C39: руб. | D39: =E39 -> 1600 | E39: 1600
A40: Уборка придомовой территории
A41: Уборка придомовой территории | B41: По тарифу | C41: м2 | D41: =E41 -> 37350.66 | E41: 37350.66
A42: Услуги по вывозу и утилизации листвы, веток, деревьев, скошенной травы , смета и др. | B42: По факту | C42: руб. | D42: =E42 -> 207.15 | E42: 207.15
...

Sheet 2019
A1: Отчет по бюджету № 51/28-2019
A3: Период: с 01.01.2019 по 31.12.2019 года.
A5: ОБЩИЕ СВЕДЕНИЯ ОБ ОБЪЕКТЕ
A6: Этажность | B6: 4 | C6: Общая жилая площадь, м2 | D6: 1236.7 | E6: Площадь кровли, м2 | F6: 591.8
A7: Количество подъездов | B7: 2 | C7: Площадь нежилых помещений, м2 | D7: 0 | E7: Площадь чердаков, м2 | F7: 383
A8: Количество квартир | B8: 8 | C8: Площадь л/ клеток, тамбуров, лифтов, м/камер, м2 | D8: 136.2 | E8: Площадь подвалов, м2 | F8: 335.5
A11: Наименование | F11: Значение
A12: Переходящие остатки денежных средств за выполненные работы (на начало периода; + резерв, - долг) | F12: 25812.27
A13: Задолженность по оплате за содержание и текущий ремонт общего имущества МКД (на начало периода) | F13: 4404.81
A14: Начислено за работы (услуги) по содержанию и текущему ремонту и аренду общего имущества МКД, в том числе: | F14: =SUM(F15:F17) -> 144927.88
A15: - за жилые помещения | F15: =119129.28+25798.6 -> 144927.88
A16: - за нежилые помещения
A17: - за рекламу и аренду общего имущества МКД
A18: Получено денежных средств, в т. ч: | F18: =SUM(F19:F21) -> 113600.2
A19: - за жилые помещения | F19: 113600.2
A20: - за нежилые помещения
A21: - за рекламу и аренду общего имущества МКД
A22: Всего денежных средств с учетом остатков | F22: =F12+F18 -> 139412.47
A23: Выполненные работы (оказанные услуги) по содержанию общего имущества и текущему ремонту в отчетном периоде | F23: =акт19!E61 -> 126307.41
A24: Переходящие остатки денежных средств за выполненные работы (на конец периода; + резерв, - долг) | F24: =F22-F23 -> 13105.058
A25: Задолженность по оплате за содержание и текущий ремонт общего имущества МКД (на конец периода) | F25: =F13+F14-F18 -> 35732.49
A27: Директор ООО "ТРЭК" Плотников А.А. __________________
A28: Отчет составил: экономист Осипова М.С. _______________
A29: Отчет получил: ________________________________________________________
A30: Дата __________________

Sheet акт19
A2: .
B3: АКТ № 51/28
B4: приемки оказанных услуг и (или) выполненных работ по содержанию
B5: и текущему ремонту общего имущества в многоквартирном доме
A6: г. Ангарск | D6: 31 марта 2020 г.
A8: Собственники помещений в многоквартином доме, расположенном по адресу: ________________________ , именуемые в дальнейшем "Заказчик", в лице __________________________________________________________________________________,
A9: являющегося собственником квартиры № _____, находящейся в данном многоквартирном доме, действующего на основании протокола общего собрания собственников, с одной стороны, и управляющая компания ООО "ТРЭК", именуемая в дальнейшем
A10: "Исполнитель", в лице директора Плотникова А.А., действующего на основании Устава, с другой стороны, совместно именуемые "Стороны", составили настоящий акт о нижеследующем:
A12: 1. Исполнителем предъявлены к приемке следующие оказанные на основании договора управления многоквартирным домом или договора оказания услуг по содержанию и (или) выполнению работ по ремонту общего имущества в многоквартирном
A13: доме, либо договора подряда по выполнению работ по ремонту общего имущества в многоквартирном доме (указать нужное) № _______ от "____" ___________________ ______ г. (далее - "Договор") услуги и (или) выполненные работы по содержанию
A14: и текущему ремонту общего имущества в многоквартирном доме № _____, расположенном по адресу: _______________________:
A16: Наименование вида работы (услуги) | B16: Периодичность / количественный показатель выполненной работы (оказанной услуги) | C16: Единица измерения работы (услуги) | D16: Стоимость / сметная стоимость выполненной работы (оказанной услуги) за единицу | E16: Цена выполненной работы (оказанной услуги), в рублях
A17: Аварийное обслуживание
A18: Аварийное обслуживание | B18: Ежедневно | C18: руб. | D18: 0.13 | E18: 1934.56
A19: Благоустройство и обеспечение санитарного состояния МКД и придомовой територии
A20: Уборка придомовой территории и лестничных клеток | B20: По тарифу | C20: м2 | D20: =E20 -> 40326.9 | E20: 40326.9
A21: Уборка чердаков и подвалов | B21: По тарифу | C21: м2 | D21: =E21 -> 992.24 | E21: 992.24
A22: Обслуживание и текущий ремонт инженерного оборудования
A23: Замена сборки Д-20 без спускника | B23: 1 | C23: шт | D23: =E23/B23 -> 1636.84 | E23: 1636.84
A24: Замена сборки Д-20 со спускником | B24: 1 | C24: шт | D24: =E24/B24 -> 2231.97 | E24: 2231.97
A25: Изоляция трубопровода матами с совмещенным покрывным слоем | B25: 0.035 | C25: 1 м3 | D25: =E25/B25 -> 21868.571 | E25: 765.4
A26: Регулировка температуры отопления в ИТП вентилями | B26: 1 | C26: шт | D26: =E26/B26 -> 303.61 | E26: 303.61
A27: Смена вентилей Д-15 | B27: 6 | C27: шт | D27: =E27/B27 -> 911.275 | E27: 5467.65
A28: Установка заглушек на трубопроводах д. до 50мм | B28: 0.01 | C28: 100 шт. | D28: =E28/B28 -> 51145 | E28: 511.45
A29: Замена задвижки д-32 на НАВАЛ | B29: 2 | C29: шт | D29: =E29/B29 -> 3386.435 | E29: 6772.87
A30: Замена задвижки д-50 на шаровый кран | B30: 2 | C30: шт | D30: =E30/B30 -> 5558.245 | E30: 11116.49
A31: Запуск потока воды: отопление, ГВС | B31: 1 | C31: 1 узел | D31: =E31/B31 -> 91.38 | E31: 91.38
A32: Запуск системы отопления. | B32: 1 | C32: 1 здание | D32: =E32/B32 -> 907.5 | E32: 907.5
A33: Ликвидация воздушных пробок в системе отопления, в стояке | B33: 3 | C33: 1 стояк | D33: =E33/B33 -> 666.38 | E33: 1999.14
A34: Осмотр и устранение мелких неисправностей на РХВ | B34: 1 | C34: шт | D34: =E34/B34 -> 150.94 | E34: 150.94
... A50: Уплотнение сгонов с применением льняной пряди или асбестового шнура (без разборки сгонов) | B50: 1 | C50: 1 соединение | D50: =E50/B50 -> 76.13 | E50: 76.13
A51: Обслуживание и текущий ремонт конструктивных элементов
A52: Заделка подвальных окон: фанерой | B52: 0.22 | C52: 10 м2 | D52: =E52/B52 -> 1398.8636 | E52: 307.75
A53: Закрытие подвальных окон и люков (прим) | B53: 0.4 | C53: 10 шт. | D53: =E53/B53 -> 1571 | E53: 628.4
A54: Осмотр кровли, чердака, подъездов, подвального помещения - | B54: 0.1 | C54: 1000 м2 | D54: =E54/B54 -> 3668.7 | E54: 366.87
A55: Осмотр кровли, чердака, подъездов, подвального помещения - весенний осмотр | B55: 0.85 | C55: 1000 м2 | D55: =E55/B55 -> 1814.1176 | E55: 1542
A56: Осмотр кровли, чердака, подъездов, подвального помещения -подготовка к зиме | B56: 0.854 | C56: 1000 м2 | D56: =E56/B56 -> 1843.1733 | E56: 1574.07
A57: Обслуживание и текущий ремонт электрооборудования жилых домов
A58: Обслуживание и текущий ремонт электрооборудования жилых домов | B58: По договору | C58: руб. | D58: =E58 -> 3963.92 | E58: 3963.92
A59: Услуги по управлению МКД
...

Sheet 2020
A1: Отчет по бюджету № 51/28-2020
A3: Период: с 01.01.2020 по 31.12.2020 года.
A5: ОБЩИЕ СВЕДЕНИЯ ОБ ОБЪЕКТЕ
A6: Этажность | B6: 4 | C6: Общая жилая площадь, м2 | D6: 1236.7 | E6: Площадь кровли, м2 | F6: 591.8
A7: Количество подъездов | B7: 2 | C7: Площадь нежилых помещений, м2 | D7: 0 | E7: Площадь чердаков, м2 | F7: 383
A8: Количество квартир | B8: 8 | C8: Площадь л/ клеток, тамбуров, лифтов, м/камер, м2 | D8: 136.2 | E8: Площадь подвалов, м2 | F8: 335.5
A11: Наименование | F11: Значение
A12: Переходящие остатки денежных средств за выполненные работы (на начало периода; + резерв, - долг) | F12: 13105.058
A13: Задолженность по оплате за содержание и текущий ремонт общего имущества МКД (на начало периода) | F13: 35732.49
A14: Начислено за работы (услуги) по содержанию и текущему ремонту и аренду общего имущества МКД, в том числе: | F14: =SUM(F15:F17) -> 128671.22
A15: - за жилые помещения | F15: =128147.04+524.18 -> 128671.22
A16: - за нежилые помещения
A17: - за рекламу и аренду общего имущества МКД
A18: Получено денежных средств, в т. ч: | F18: =SUM(F19:F21) -> 149364.81
A19: - за жилые помещения | F19: =148840.63+524.18 -> 149364.81
A20: - за нежилые помещения
A21: - за рекламу и аренду общего имущества МКД
A22: Всего денежных средств с учетом остатков | F22: =F12+F18 -> 162469.87
A23: Выполненные работы (оказанные услуги) по содержанию общего имущества и текущему ремонту в отчетном периоде | F23: =Лист1!E61 -> 125734.89
A24: Переходящие остатки денежных средств за выполненные работы (на конец периода; + резерв, - долг) | F24: =F22-F23 -> 36734.974
A25: Задолженность по оплате за содержание и текущий ремонт общего имущества МКД (на конец периода) | F25: =F13+F14-F18 -> 15038.9
A27: Директор ООО "ТРЭК" Плотников А.А. __________________
A28: Отчет составил: экономист Осипова М.С. _______________
A29: Отчет получил: ________________________________________________________
A30: Дата __________________

Sheet Лист1
A2: .
B3: АКТ № 51/28
A4: приемки оказанных услуг и (или) выполненных работ по содержанию
A5: и текущему ремонту общего имущества в многоквартирном доме
A6: г. Ангарск | E6: 31 марта 2021 г.
A8: Собственники помещений в многоквартином доме, расположенном по адресу: ________________________ , именуемые в дальнейшем "Заказчик", в лице ___________________________________________________________________________________,
A9: являющегося собственником квартиры № _____, находящейся в данном многоквартирном доме, действующего на основании протокола общего собрания собственников, с одной стороны, и управляющая компания ООО "ТРЭК", именуемая в дальнейшем
A10: "Исполнитель", в лице директора Плотникова А.А., действующего на основании Устава, с другой стороны, совместно именуемые "Стороны", составили настоящий акт о нижеследующем:
A11: 1. Исполнителем предъявлены к приемке следующие оказанные на основании договора управления многоквартирным домом или договора оказания услуг по содержанию и (или) выполнению работ по ремонту общего имущества в многоквартирном
A12: доме, либо договора подряда по выполнению работ по ремонту общего имущества в многоквартирном доме (указать нужное) № _______ от "____" ___________________ ______ г. (далее - "Договор") услуги и (или) выполненные работы по содержанию
A13: и текущему ремонту общего имущества в многоквартирном доме № _____, расположенном по адресу: ______________________:
A15: Наименование вида работы (услуги) | B15: Периодичность / количественный показатель выполненной работы (оказанной услуги) | C15: Единица измерения работы (услуги) | D15: Стоимость / сметная стоимость выполненной работы (оказанной услуги) за единицу | E15: Цена выполненной работы (оказанной услуги), в рублях
A16: Аварийное обслуживание
A17: Аварийное обслуживание | B17: Ежедневно | C17: руб. | D17: 0.13 | E17: 1929.25
A18: Благоустройство и обеспечение санитарного состояния МКД и придомовой територии
A19: Дезинфекция мест общего пользования МКД | B19: По факту | C19: руб. | D19: =E19 -> 2996.4 | E19: 2996.4
A20: Окраска известковыми составами: по кирпичу и бетону (бордюр. столбики, столбы) | B20: По факту | C20: руб. | D20: =E20 -> 1005.26 | E20: 1005.26
A21: Окраска известковыми составами: по кирпичу и бетону (бордюр. столбики, столбы) за 2019 год | B21: По факту | C21: руб. | D21: =E21 -> 760.81 | E21: 760.81
A22: Уборка придомовой территории и лестничных клеток | B22: По тарифу | C22: руб. | D22: =E22 -> 44471.73 | E22: 44471.73
A23: Уборка чердаков и подвалов | B23: По тарифу | C23: руб. | D23: =E23 -> 198.26 | E23: 198.26
A24: Обслуживание и текущий ремонт инженерного оборудования
A25: Заделка свища сваркой при длине стыка до 6 мм | B25: 1 | C25: шт | D25: =E25/B25 -> 705.6 | E25: 705.6
A26: Консервация системы отопления | B26: 1 | C26: 100 м | D26: =E26/B26 -> 724.61 | E26: 724.61
A27: Осмотр кровли,чердака,подъездов,подвала,фасада-после землетр-ия, в т.ч. рем-т выявленных повреждений | B27: По факту | C27: руб. | D27: =E27 -> 1704.71 | E27: 1704.71
A28: Притирка запорной арматуры без снятия с места. | B28: 1 | C28: шт | D28: =E28/B28 -> 365.88 | E28: 365.88
A29: Проверка работ-ти запорной арматуры, устранение мелких неисправностей, проверка работы ПУ РХВ | B29: 0.01 | C29: 100 шт. | D29: =E29/B29 -> 30407 | E29: 304.07
A30: Установка заглушек на трубопроводах д. 100мм | B30: 0.01 | C30: 100 шт. | D30: =E30/B30 -> 67019 | E30: 670.19
A31: Запуск потока воды: отопление, ГВС, ХВС | B31: 4 | C31: 1 узел | D31: =E31/B31 -> 100.975 | E31: 403.9
A32: Запуск системы отопления. | B32: 1 | C32: 1 здание | D32: =E32/B32 -> 1012.36 | E32: 1012.36
A33: Осмотр подвальных помещений | B33: 0.17 | C33: 1000 м2 | D33: =E33/B33 -> 1813.7059 | E33: 308.33
A34: Осмотр подвальных помещений и выпуска при подпоре | B34: 2 | C34: 1 осмотр | D34: =E34/B34 -> 1112.47 | E34: 2224.94
A35: Осмотр СТО в ИТП | B35: 0.01 | C35: 100 шт. | D35: =E35/B35 -> 30189 | E35: 301.89
A36: Осмотр СТО в чердачных и подвальных помещениях (весенний и осенний) | B36: 1.704 | C36: 1000 м2 | D36: =E36/B36 -> 1919.3897 | E36: 3270.64
A37: Осмотр, проверка работы приборов ИТП, РХВ | B37: 1 | C37: шт | D37: =E37/B37 -> 315.79 | E37: 315.79
A38: Очистка канализационной сети: внутренней | B38: 0.2 | C38: 100 м | D38: =E38/B38 -> 17417.15 | E38: 3483.43
A39: Перевод отопления с подачи на обратку или с обратки на подачу | B39: 5 | C39: узел | D39: =E39/B39 -> 251.826 | E39: 1259.13
... A41: Подготовка элеваторного узла | B41: 1 | C41: шт | D41: =E41/B41 -> 4397.99 | E41: 4397.99
A42: Промывка трубопровода системы отопления | B42: 1 | C42: 1 здание | D42: =E42 -> 8045.48 | E42: 8045.48
A43: Сдача ИТП представителю энергоснабжающей организации | B43: 1 | C43: 1 ИТП | D43: =E43/B43 -> 868.12 | E43: 868.12
A44: Сдача РХВ представителю водоканала, составление акта | B44: 0.01 | C44: 1 ИТП | D44: =E44/B44 -> 30424 | E44: 304.24
...

Sheet 2021
A1: Отчет по бюджету № 51/28-2021
A3: Период: с 01.01.2021 по 31.12.2021 года.
A5: ОБЩИЕ СВЕДЕНИЯ ОБ ОБЪЕКТЕ
A6: Этажность | B6: 4 | C6: Общая жилая площадь, м2 | D6: 1236.7 | E6: Площадь кровли, м2 | F6: 591.8
A7: Количество подъездов | B7: 2 | C7: Площадь нежилых помещений, м2 | D7: 0 | E7: Площадь чердаков, м2 | F7: 383
A8: Количество квартир | B8: 8 | C8: Площадь л/ клеток, тамбуров, лифтов, м/камер, м2 | D8: 136.2 | E8: Площадь подвалов, м2 | F8: 335.5
A11: Наименование | F11: Значение
A12: Переходящие остатки денежных средств за выполненные работы (на начало периода; + резерв, - долг) | F12: 36734.974
A13: Задолженность по оплате за содержание и текущий ремонт общего имущества МКД (на начало периода) | F13: 15038.9
A14: Начислено за работы (услуги) по содержанию и текущему ремонту и аренду общего имущества МКД, в том числе: | F14: =SUM(F15:F17) -> 155031.56
A15: - за жилые помещения | F15: 155031.56
A16: - за нежилые помещения
A17: - за рекламу и аренду общего имущества МКД
A18: Получено денежных средств, в т. ч: | F18: =SUM(F19:F21) -> 145374.48
A19: - за жилые помещения | F19: 145374.48
A20: - за нежилые помещения
A21: - за рекламу и аренду общего имущества МКД
A22: Всего денежных средств с учетом остатков | F22: =F12+F18 -> 182109.45
A23: Выполненные работы (оказанные услуги) по содержанию общего имущества и текущему ремонту в отчетном периоде | F23: =акт21!E57 -> 142932.11
A24: Переходящие остатки денежных средств за выполненные работы (на конец периода; + резерв, - долг) | F24: =F22-F23-0.01 -> 39177.336
A25: Задолженность по оплате за содержание и текущий ремонт общего имущества МКД (на конец периода) | F25: =F13+F14-F18 -> 24695.98
A27: Директор ООО "ТРЭК" Плотников А.А. __________________
A28: Отчет составил: экономист _______________
A29: Отчет получил: ________________________________________________________
A30: Дата __________________

Sheet акт21
A2: .
A3: АКТ № 51/28
A4: приемки оказанных услуг и (или) выполненных работ по содержанию
A5: и текущему ремонту общего имущества в многоквартирном доме
A6: г. Ангарск | E6: 31 марта 2022 г.
A8: Собственники помещений в многоквартином доме, расположенном по адресу: ________________________ , именуемые в дальнейшем "Заказчик", в лице ___________________________________________________________________________________,
A9: являющегося собственником квартиры № _____, находящейся в данном многоквартирном доме, действующего на основании протокола общего собрания собственников, с одной стороны, и управляющая компания ООО "ТРЭК", именуемая в дальнейшем
A10: "Исполнитель", в лице директора Плотникова А.А., действующего на основании Устава, с другой стороны, совместно именуемые "Стороны", составили настоящий акт о нижеследующем:
A11: 1. Исполнителем предъявлены к приемке следующие оказанные на основании договора управления многоквартирным домом или договора оказания услуг по содержанию и (или) выполнению работ по ремонту общего имущества в многоквартирном
A12: доме, либо договора подряда по выполнению работ по ремонту общего имущества в многоквартирном доме (указать нужное) № _______ от "____" ___________________ ______ г. (далее - "Договор") услуги и (или) выполненные работы по содержанию
A13: и текущему ремонту общего имущества в многоквартирном доме № _____, расположенном по адресу: ______________________:
A15: Наименование вида работы (услуги) | B15: Периодичность / количественный показатель выполненной работы (оказанной услуги) | C15: Единица измерения работы (услуги) | D15: Стоимость / сметная стоимость выполненной работы (оказанной услуги) за единицу | E15: Цена выполненной работы (оказанной услуги), в рублях
A16: Аварийное обслуживание
A17: Аварийное обслуживание | B17: Ежедневно | C17: руб. | D17: 0.14 | E17: 2070.43
A18: Благоустройство и обеспечение санитарного состояния МКД и придомовой територии
A19: Уборка придомовой территории и лестничных клеток | B19: По тарифу | C19: м2 | D19: =E19 -> 51792.96 | E19: 51792.96
A20: Уборка чердаков и подвалов | B20: По тарифу | C20: м2 | D20: =E20 -> 445.2 | E20: 445.2
A21: Обслуживание и текущий ремонт инженерного оборудования
A22: Запуск потока воды: отопление, ГВС, ХВС | B22: 2 | C22: 1 узел | D22: =E22/B22 -> 97.48 | E22: 194.96
A23: Запуск системы отопления. | B23: 1 | C23: 1 здание | D23: =E23/B23 -> 1005.22 | E23: 1005.22
A24: Опрессовка ТУ диаметром: до 50 мм | B24: 1 | C24: 100 м | D24: =E24/B24 -> 828.19 | E24: 828.19
A25: Осмотр и устранение мелких неисправностей на РХВ | B25: 1 | C25: шт | D25: =E25/B25 -> 129.98 | E25: 129.98
A26: Осмотр подвальных помещений и выпуска при подпоре | B26: 1 | C26: 1 осмотр | D26: =E26/B26 -> 1052.89 | E26: 1052.89
A27: Осмотр СТО | B27: 0.01 | C27: 100 квартир | D27: =E27/B27 -> 30156 | E27: 301.56
A28: Осмотр СТО в чердачных и подвальных помещениях ФКР | B28: 0.85 | C28: 1000 м2 | D28: =E28/B28 -> 1914.8588 | E28: 1627.63
A29: Отключение системы отопления | B29: 1 | C29: 1 здание | D29: =E29/B29 -> 611.75 | E29: 611.75
A30: Перевод отопления с подачи на обратку или с обратки на подачу | B30: 3 | C30: узел | D30: =E30/B30 -> 242.84333 | E30: 728.53
A31: Перекрытие потока воды: отопление, ГВС, ХВС | B31: 2 | C31: 1 узел | D31: =E31/B31 -> 78.12 | E31: 156.24
A32: Подготовка элеваторного узла Д-50 к зиме | B32: 1 | C32: шт | D32: =E32/B32 -> 4474.11 | E32: 4474.11
A33: Промывка трубопровода системы отопления | B33: 1 | C33: 1 здание | D33: =E33/B33 -> 7332.6 | E33: 7332.6
... A36: Снятие и запись замера в наряде (ИТП,РХВ) | B36: 29 | C36: 1 ИТП | D36: =E36/B36 -> 295.74379 | E36: 8576.57
A37: Обслуживание и текущий ремонт конструктивных элементов
A38: Ремонт отдельных мест скатной кровли (материалом Ризолит) | B38: 1 | C38: м2 | D38: =E38/B38 -> 782.05 | E38: 782.05
A39: Установка решеток на окна, радиаторы, приямки | B39: 0.01 | C39: 100 шт. | D39: =E39/B39 -> 38847 | E39: 388.47
A40: Закрытие подвальных окон и люков (прим) | B40: 0.1 | C40: 10 шт. | D40: =E40/B40 -> 2448 | E40: 244.8
A41: Осмотр кровли, чердака, подъездов, подвального помещения - осенний осмотр | B41: 0.854 | C41: 1000 м2 | D41: =E41/B41 -> 2013.4778 | E41: 1719.51
A42: Осмотр СТО в чердачных и подвальных помещениях (весенний и осенний) | B42: 0.85 | C42: 1000 м2 | D42: =E42/B42 -> 1811.7176 | E42: 1539.96
A43: Очистка воронки и колен от мусора, снега | B43: 4 | C43: шт | D43: =E43/B43 -> 597.64 | E43: 2390.56
A44: Очистка желобов от мусора: вручную (при расчете 1 кг. мусора = 3 м 1 желоба) | B44: 95 | C44: м | D44: =E44/B44 -> 91.504632 | E44: 8692.94
A45: Обслуживание и текущий ремонт электрооборудования жилых домов
...
