Workbook

Sheet Акт
A1: АКТ № 30/9-2017
A2: приемки оказанных услуг и (или) выполненных работ по содержанию и текущему ремонту общего имущества в многоквартирном доме № 9 микрорайона 30.
A3: г. Ангарск | D3: "31" марта 2018 г.
A5: Наименование вида работы (услуги) | B5: Периодичность/ количественный показатель выполненной работы (оказанной услуги) | C5: Единица измерения работы (услуги) | D5: Стоимость /сметная стоимость выполненной работы (оказанной услуги) за единицу | E5: Цена выполненной работы (оказанной услуги), в рублях
A6: Аварийное обслуживание
A7: Аварийное обслуживание | B7: Ежедневно | C7: руб. | D7: =E7 -> 7889.39 | E7: 7889.39
A8: Благоустройство
A9: Выкашивание газонов | B9: 1000 | C9: м2 | D9: =E9/B9 -> 3.95 | E9: 3950
A10: Завоз песка и земли | B10: 1 | C10: руб. | D10: =E10/B10 -> 1200 | E10: 1200
A11: Изготовление: ключей для ковша м/провода | B11: 0.02 | C11: шт | D11: =E11/B11 -> 6059 | E11: 121.18
A12: Разборка горки деревянной высотой 3 м | B12: 8 | C12: м | D12: =E12/B12 -> 183.63375 | E12: 1469.07
A13: Сборка и установка детского городка с земляными работами | B13: 15 | C13: 1 стойка | D13: =E13/B13 -> 2015.722 | E13: 30235.83
A14: Устройство деревянной горки высотой 3 м | B14: 1 | C14: руб. | D14: =E14/B14 -> 5738.3 | E14: 5738.3
A15: Вывоз и утилизация ТКО, в т.ч. крупногабаритного мусора
A16: Услуги по вывозу и утилизации ТБО, в т.ч. крупногабаритного мусора | B16: Ежедневно | C16: руб. | D16: =E16 -> 52754 | E16: 52754
A17: Дезинсекция и дератизация
A18: Дезинсекция и дератизация | B18: 1 | C18: руб. | D18: =E18/B18 -> 601.2 | E18: 601.2
A19: Коммунальные ресурсы на содержание общ. имущества МКД
A20: ГВС на содержание общ. имущества | B20: По факту | C20: руб. | D20: =E20 -> 15990.23 | E20: 15990.23
A21: Отведение сточных вод на содержание общ. имущества | B21: По нормативу | C21: руб. | D21: =E21 -> 6156.21 | E21: 6156.21
A22: ХВС на содержание общ. имущества | B22: По нормативу | C22: руб. | D22: =E22 -> 5278.95 | E22: 5278.95
A23: Электрическая энергия на содержание общ. имущества | B23: По факту | C23: руб. | D23: =E23 -> 10048.11 | E23: 10048.11
A24: Обслуживание и ремонт лифтов
A25: Техническое обслуживание лифтов | B25: Ежемесячно | C25: руб. | D25: =E25/12 -> 6200 | E25: 74400
A26: Обслуживание и текущий ремонт электрооборудования жилых домов
A27: Обслуживание и текущий ремонт электрооборудования жилых домов | B27: По факту | C27: руб. | D27: =E27 -> 9275.99 | E27: 9275.99
A28: Обслуживание инженерного оборудования
A29: Визуальный осмотр инженерного обор-ния ИТП с представителем энергоснабжающей орг-и, составление акта | B29: 1 | C29: 1 ИТП | D29: =E29/B29 -> 179.3 | E29: 179.3
A30: Запуск потока воды: отопление, ГВС | B30: 7 | C30: 1 узел | D30: =E30/B30 -> 70.447143 | E30: 493.13
A31: Запуск системы отопления. | B31: 2 | C31: 1 здание | D31: =E31/B31 -> 796.93 | E31: 1593.86
A32: Ликвидация воздушных пробок в системе отопления, в стояке | B32: 16 | C32: 1 стояк | D32: =E32/B32 -> 435.38063 | E32: 6966.09
A33: Опрессовка ТУ диаметром: до 100 мм | B33: 0.18 | C33: 100 м | D33: =E33/B33 -> 4450.7778 | E33: 801.14
A34: Осмотр подвальных помещений (засоры, подпоры) прим. | B34: 0.27 | C34: 1000 м2 | D34: =E34/B34 -> 1582.4815 | E34: 427.27
A35: Осмотр СТО | B35: 0.16 | C35: 100 квартир | D35: =E35/B35 -> 23867.625 | E35: 3818.82
A36: Осмотр СТО в чердачных и подвальных помещениях (весенний и осенний) | B36: 3.57 | C36: 1000 м2 | D36: =E36/B36 -> 1586.042 | E36: 5662.17
A37: Осмотр, РХВ замеры | B37: 0.07 | C37: 100 шт. | D37: =E37/B37 -> 21444.857 | E37: 1501.14
A38: Отключение системы отопления (консервация) - прим. | B38: 2 | C38: 1 здание | D38: =E38/B38 -> 384.575 | E38: 769.15
A39: Очистка канализационной сети: внутренней | B39: 0.06 | C39: 100 м | D39: =E39/B39 -> 12020.5 | E39: 721.23
A40: Перевод отопления с подачи на обратку или с обратки на подачу | B40: 10 | C40: узел | D40: =E40/B40 -> 128.412 | E40: 1284.12
... A52: Устранение засоров санитарных приборов | B52: 1 | C52: 1 прибор | D52: =E52/B52 -> 275.08 | E52: 275.08
...

Sheet Бюджет
A1: Отчет по бюджету № 30/9-2017
A3: Период: с 01.01.2017 по 31.12.2017 года.
A5: Строение / По типу работ | B5: Расходы | C5: Начисления | D5: Поступления
A6: Долг за выполненные работы на 01.01.2017 г. | B6: 211027.34
A7: Cодержание жилья | C7: 452090.88 | D7: 512580.35
A8: Вывоз и утилизация ТКО | C8: 96125.8 | D8: 120397.47
A9: ГВС на содержание общ. имущества | C9: 20056.02 | D9: 4045.26
A10: Отведение сточных вод на содержание общ. им-ва | C10: 6156.21
A11: Техническое обслуживание нежилых помещений | C11: 118597.56 | D11: 43782
A12: ХВС на содержание общ. имущества | C12: 5278.95 | D12: 3179.23
A13: Электрическая энергия на содержание общ. имущества | C13: 40182.54 | D13: 4485.38
A14: Аварийное обслуживание | B14: =Акт!E7 -> 7889.39
A15: Благоустройство | B15: =SUM(Акт!E9:E14) -> 42714.38
A16: Вывоз и утилизация ТКО, в т.ч. крупногабаритного мусора | B16: =Акт!E16 -> 52754
A17: Дезинсекция и дератизация | B17: =Акт!E18 -> 601.2
A18: Коммунальные ресурсы на содержание общ. имущества МКД | B18: =SUM(Акт!E20:E23) -> 37473.5
A19: Обслуживание и ремонт лифтов | B19: =Акт!E25 -> 74400
A20: Обслуживание и текущий ремонт электрооборудования жилых домов | B20: =SUM(Акт!E27) -> 9275.99
A21: Обслуживание инженерного оборудования | B21: =SUM(Акт!E29:E52) -> 60013.61
A22: Обслуживание конструктивных элементов | B22: =SUM(Акт!E54:E61) -> 7747.35
A23: Обслуживание ОДПУ | B23: =Акт!E63 -> 43200
A24: Расходы на истребование задолженности по оплате жилых помещений | B24: =Акт!E65 -> 200
A25: Текущий ремонт инженерного оборудования | B25: =SUM(Акт!E67:E77) -> 17333.99
A26: Текущий ремонт конструктивных элементов жилых зданий | B26: =SUM(Акт!E79:E83) -> 3262.85
A27: Уборка лестничных клеток | B27: =Акт!E85 -> 121982.04
A28: Уборка придомовой территории | B28: =Акт!E87 -> 67970.16
A29: Услуги по управлению МКД | B29: =Акт!E89 -> 73848.796
A30: Итого: | B30: =SUM(B7:B29) -> 620667.26 | C30: =SUM(C7:C29) -> 738487.96 | D30: =SUM(D7:D29) -> 688469.69
A31: Долг за выполненные работы (доходы за минусом расходов) на 01.01.2018 г. - 143224,91 руб. | E31: =D30-B6-B30 -> -143224.91
A32: Задолженность по оплате за содержание и текущий ремонт на 01.01.2018 г. - 331 612,66 руб.
A34: Директор ООО "ЖЭУ №6" Плотников А.А. __________________
A35: Отчет составил: экономист Сундукова Ю.А. _______________
A36: Отчет получил: ________________________________________________________
A37: Дата __________________

Sheet 2018
A1: Отчет по бюджету № 30/9-2018
A3: Период: с 01.01.2018 по 31.12.2018 года.
A5: ОБЩИЕ СВЕДЕНИЯ ОБ ОБЪЕКТЕ
A6: Этажность | B6: 9 | C6: Общая жилая площадь, м2 | D6: 4162.9 | E6: Площадь кровли, м2 | F6: 1196
A7: Количество подъездов | B7: 2 | C7: Площадь нежилых помещений, м2 | D7: 894.4 | E7: Площадь чердаков, м2 | F7: 545
A8: Количество квартир | B8: 88 | C8: Площадь л/ клеток, тамбуров, лифтов, м/камер, м2 | D8: 743.9 | E8: Площадь подвалов, м2 | F8: 488.6
A11: Наименование | F11: Значение
A12: Переходящие остатки денежных средств за выполненные работы (на начало периода; + резерв, - долг) | F12: -143224.91
A13: Задолженность по оплате за содержание и текущий ремонт общего имущества МКД (на начало периода) | F13: =167134.64+155280.42 -> 322415.06
A14: Начислено за работы (услуги) по содержанию и текущему ремонту и аренду общего имущества МКД, в том числе: | F14: =SUM(F15:F17) -> 736128.65
A15: - за жилые помещения | F15: =621940.95-19191.06 -> 602749.89
A16: - за нежилые помещения | F16: 133378.76
A17: - за рекламу и аренду общего имущества МКД
A18: Получено денежных средств, в т. ч: | F18: =SUM(F19:F21) -> 928866.05
A19: - за жилые помещения | F19: 681026.35
A20: - за нежилые помещения | F20: 247839.7
A21: - за рекламу и аренду общего имущества МКД
A22: Всего денежных средств с учетом остатков | F22: =F12+F18 -> 785641.14
A23: Выполненные работы (оказанные услуги) по содержанию общего имущества и текущему ремонту в отчетном периоде | F23: ='Акт (2)'!E85 -> 698248.88
A24: Переходящие остатки денежных средств за выполненные работы (на конец периода; + резерв, - долг) | F24: =F22-F23 -> 87392.259
A25: Задолженность по оплате за содержание и текущий ремонт общего имущества МКД (на конец периода) | F25: =F13+F14-F18 -> 129677.66
A27: Директор ООО "ТРЭК" Плотников А.А. __________________
A28: Отчет составил: экономист Осипова М.С. _______________
A29: Отчет получил: ________________________________________________________
A30: Дата __________________

Sheet Акт (2)
A1: АКТ № 30/9-2018
A2: приемки оказанных услуг и (или) выполненных работ по содержанию и текущему ремонту общего имущества в многоквартирном доме № 9 микрорайона 30.
A3: г. Ангарск | D3: "31" марта 2019 г.
A5: Наименование вида работы (услуги) | B5: Периодичность/ количественный показатель выполненной работы (оказанной услуги) | C5: Единица измерения работы (услуги) | D5: Стоимость /сметная стоимость выполненной работы (оказанной услуги) за единицу | E5: Цена выполненной работы (оказанной услуги), в рублях
A6: Аварийное обслуживание
A7: Аварийное обслуживание | B7: Ежедневно | C7: руб. | D7: =E7 -> 7889.39 | E7: 7889.39
A8: Благоустройство
A9: Приварка шарнира, скобы, приварка швов на МАФ | B9: 2 | C9: шт | D9: =E9/B9 -> 865.59 | E9: 1731.18
A10: Ремонт деревянной капитальной горки (Прим) | B10: 0.27 | C10: 100 м досок | D10: =E10/B10 -> 29587.37 | E10: 7988.59
A11: Вывоз и утилизация ТКО, в т.ч. крупногабаритного мусора
A12: Вывоз и утилизация ТКО, в т.ч. крупногабаритный мусор | B12: Ежедневно | C12: руб. | D12: =E12 -> 121375.2 | E12: 121375.2
A13: Замена колеса на мусорном контейнере | B13: 1 | C13: шт | D13: =E13/B13 -> 1264.26 | E13: 1264.26
A14: Дезинсекция и дератизация
A15: Дезинсекция и дератизация | B15: По договору | C15: руб. | D15: =E15 -> 2254.92 | E15: 2254.92
A16: Изготовление ключей
A17: Изготовление ключей | B17: По факту | C17: шт | D17: =E17 -> 300 | E17: 300
A18: Коммунальные ресурсы на содержание общ. имущества МКД
A19: Коммунальные ресурсы на содержание общего имущества МКД | B19: По факту | C19: руб. | D19: =E19 -> 95741.34 | E19: 95741.34
A20: Обслуживание и ремонт лифтов
A21: Техническое обслуживание лифтов | B21: По договору | C21: руб. | D21: =E21 -> 74400 | E21: 74400
A22: Обслуживание и текущий ремонт электрооборудования жилых домов
A23: Обслуживание и текущий ремонт электрооборудования жилых домов | B23: По договору | C23: руб. | D23: =E23 -> 15877.96 | E23: =3445.06+12432.9 -> 15877.96
A24: Устройство прожектрора с фотореле | B24: 1 | C24: шт | D24: =E24/B24 -> 5714.46 | E24: 5714.46
A25: Обслуживание инженерного оборудования
A26: Запуск потока воды: отопление, ГВС | B26: 4 | C26: 1 узел | D26: =E26/B26 -> 85.0475 | E26: 340.19
A27: Запуск системы отопления. | B27: 2 | C27: 1 здание | D27: =E27/B27 -> 1259.27 | E27: 2518.54
A28: Ликвидация воздушных пробок в системе отопления, в стояке | B28: 6 | C28: 1 стояк | D28: =E28/B28 -> 474.73833 | E28: 2848.43
A29: Опрессовка ТУ диаметром: до 100 мм | B29: 0.18 | C29: 100 м | D29: =E29/B29 -> 6077.3333 | E29: 1093.92
A30: Осмотр подвальных помещений и выпуска при подпоре | B30: 1 | C30: 1 осмотр | D30: =E30/B30 -> 539.85 | E30: 539.85
A31: Осмотр системы центрального отопления, устройств в чердачных и подвальных помещениях. | B31: 0.27 | C31: 1000 м2 | D31: =E31/B31 -> 1687.2963 | E31: 455.57
A32: Осмотр СТО | B32: 0.06 | C32: 100 квартир | D32: =E32/B32 -> 25365.167 | E32: 1521.91
A33: Осмотр СТО в чердачных и подвальных помещениях (весенний и осенний) | B33: 1.871 | C33: 1000 м2 | D33: =E33/B33 -> 1685.6921 | E33: 3153.93
A34: Осмотр, замеры, опломбировка ПУ Т/У с представителем | B34: 0.02 | C34: 100 шт. | D34: =E34/B34 -> 25087 | E34: 501.74
A35: Отключение системы отопления (консервация) - прим. | B35: 2 | C35: 1 здание | D35: =E35/B35 -> 503.41 | E35: 1006.82
A36: Очистка канализационного стояка от наледи | B36: 1 | C36: 1 стояк | D36: =E36/B36 -> 201.03 | E36: 201.03
A37: Очистка канализационной сети: внутренней | B37: 0.06 | C37: 100 м | D37: =E37/B37 -> 14601.5 | E37: 876.09
... A45: Снятие и запись замера в наряде (ИТП,РХВ) | B45: 53 | C45: 1 ИТП | D45: =E45/B45 -> 254.48264 | E45: 13487.58
A46: Обслуживание конструктивных элементов
A47: Закрытие подъездного окна | B47: 0.3 | C47: 10 шт. | D47: =E47/B47 -> 1888.9 | E47: 566.67
A48: Осмотр подвальных помещениях (засоры, подпоры) | B48: 0.81 | C48: 1000 м2 | D48: =E48/B48 -> 1698.9506 | E48: 1376.15
...

Sheet 2019
A1: Отчет по бюджету № 30/9-2019
A3: Период: с 01.01.2019 по 31.12.2019 года.
A5: ОБЩИЕ СВЕДЕНИЯ ОБ ОБЪЕКТЕ
A6: Этажность | B6: 9 | C6: Общая жилая площадь, м2 | D6: 4162.9 | E6: Площадь кровли, м2 | F6: 1196
A7: Количество подъездов | B7: 2 | C7: Площадь нежилых помещений, м2 | D7: 894.4 | E7: Площадь чердаков, м2 | F7: 545
A8: Количество квартир | B8: 88 | C8: Площадь л/ клеток, тамбуров, лифтов, м/камер, м2 | D8: 743.9 | E8: Площадь подвалов, м2 | F8: 488.6
A11: Наименование | F11: Значение
A12: Переходящие остатки денежных средств за выполненные работы (на начало периода; + резерв, - долг) | F12: 87392.259
A13: Задолженность по оплате за содержание и текущий ремонт общего имущества МКД (на начало периода) | F13: 129263.54 | H13: кор
A14: Начислено за работы (услуги) по содержанию и текущему ремонту и аренду общего имущества МКД, в том числе: | F14: =SUM(F15:F17) -> 888991.15
A15: - за жилые помещения | F15: =686089.06+35467.8+3016.56 -> 724573.42
A16: - за нежилые помещения | F16: 158831.92
A17: - за рекламу и аренду общего имущества МКД | F17: 5585.81
A18: Получено денежных средств, в т. ч: | F18: =SUM(F19:F21) -> 774866.16
A19: - за жилые помещения | F19: =3016.56+673946.7 -> 676963.26
A20: - за нежилые помещения | F20: 95652.9
A21: - за рекламу и аренду общего имущества МКД | F21: 2250
A22: Всего денежных средств с учетом остатков | F22: =F12+F18 -> 862258.42
A23: Выполненные работы (оказанные услуги) по содержанию общего имущества и текущему ремонту в отчетном периоде | F23: =Лист3!E85 -> 855335.71
A24: Переходящие остатки денежных средств за выполненные работы (на конец периода; + резерв, - долг) | F24: =F22-F23 -> 6922.707
A25: Задолженность по оплате за содержание и текущий ремонт общего имущества МКД (на конец периода) | F25: =F13+F14-F18 -> 243388.53
A27: Директор ООО "ТРЭК" Плотников А.А. __________________
A28: Отчет составил: экономист Осипова М.С. _______________
A29: Отчет получил: ________________________________________________________
A30: Дата __________________

Sheet Лист3
A2: .
B3: АКТ № 30/9
B4: приемки оказанных услуг и (или) выполненных работ по содержанию
B5: и текущему ремонту общего имущества в многоквартирном доме
A6: г. Ангарск | E6: 31 марта 2020 г.
A8: Собственники помещений в многоквартином доме, расположенном по адресу: ________________________ , именуемые в дальнейшем "Заказчик", в лице ___________________________________________________________________________________,
A9: являющегося собственником квартиры № _____, находящейся в данном многоквартирном доме, действующего на основании протокола общего собрания собственников, с одной стороны, и управляющая компания ООО "ТРЭК", именуемая в дальнейшем
A10: "Исполнитель", в лице директора Плотникова А.А., действующего на основании Устава, с другой стороны, совместно именуемые "Стороны", составили настоящий акт о нижеследующем:
A11: 1. Исполнителем предъявлены к приемке следующие оказанные на основании договора управления многоквартирным домом или договора оказания услуг по содержанию и (или) выполнению работ по ремонту общего имущества в многоквартирном
A12: доме, либо договора подряда по выполнению работ по ремонту общего имущества в многоквартирном доме (указать нужное) № _______ от "____" ___________________ ______ г. (далее - "Договор") услуги и (или) выполненные работы по содержанию
A13: и текущему ремонту общего имущества в многоквартирном доме № _____, расположенном по адресу: ______________________:
A15: Наименование вида работы (услуги) | B15: Периодичность / количественный показатель выполненной работы (оказанной услуги) | C15: Единица измерения работы (услуги) | D15: Стоимость / сметная стоимость выполненной работы (оказанной услуги) за единицу | E15: Цена выполненной работы (оказанной услуги), в рублях
A16: Аварийное обслуживание
A17: Аварийное обслуживание | B17: Ежедневно | C17: руб. | D17: 0.13 | E17: 7889.39
A18: Благоустройство и обеспечение санитарного состояния МКД и придомовой територии
A19: Окраска горки деревянной | B19: 0.12 | C19: 100 м2 | D19: =E19/B19 -> 19398.833 | E19: 2327.86
A20: Ручная односторонняя сварка деталей контейнера из листовой стали | B20: 0.07 | C20: 10 м | D20: =E20/B20 -> 3360.8571 | E20: 235.26
A21: Уборка придомовой территории и лестничных клеток | B21: По тарифу | C21: м2 | D21: =E21 -> 403080.09 | E21: 403080.09
A22: Коммунальные ресурсы на содержание общ. имущества МКД
A23: Коммунальные ресурсы на содержание общего имущества МКД | B23: По факту | C23: руб. | D23: =E23 -> 44850.76 | E23: 44850.76
A24: Обслуживание и ремонт лифтов
A25: Замена контакторов на пассажирском лифте | B25: По договору | C25: руб. | D25: =E25 -> 9175.11 | E25: 9175.11
A26: Страхование лифтов | B26: По договору | C26: руб. | D26: =E26 -> 1500 | E26: 1500
A27: Техническое обслуживание лифтов | B27: По договору | C27: руб. | D27: =E27 -> 72000 | E27: 72000
A28: Обслуживание и текущий ремонт инженерного оборудования
A29: Врезка с установкой вентиля д. 32 | B29: 4 | C29: шт | D29: =E29/B29 -> 2847.555 | E29: 11390.22
A30: Демонтаж МАФ | B30: 1 | C30: шт | D30: =E30/B30 -> 1257.38 | E30: 1257.38
A31: Замена шарового крана Д-32 | B31: 2 | C31: шт | D31: =E31/B31 -> 3225.475 | E31: 6450.95
A32: Замена шарового крана Д-50 | B32: 2 | C32: шт | D32: =E32/B32 -> 7672.38 | E32: 15344.76
A33: Регулировка температуры отопления в ИТП вентилями | B33: 2 | C33: шт | D33: =E33/B33 -> 304.425 | E33: 608.85
A34: Ремонт ковша мусоропровода- укрепление, смазка и т.д. | B34: 1 | C34: шт | D34: =E34/B34 -> 487.88 | E34: 487.88
A35: Ремонт м/ковшей-укрепление, смазка | B35: 2 | C35: шт | D35: =E35/B35 -> 467.085 | E35: 934.17
A36: Смена отдельных участков трубопроводов диаметром: 32 мм | B36: 4 | C36: 1 участок | D36: =E36/B36 -> 1435.2225 | E36: 5740.89
A37: Запуск потока воды: отопление, ГВС | B37: 3 | C37: 1 узел | D37: =E37/B37 -> 90.956667 | E37: 272.87
A38: Ликвидация воздушных пробок в системе отопления, в стояке | B38: 7 | C38: 1 стояк | D38: =E38/B38 -> 666.09 | E38: 4662.63
A39: Осмотр подъездов, подвального помещения чердачного помещения | B39: 0.27 | C39: 1000 м2 | D39: =E39/B39 -> 3642.8148 | E39: 983.56
A40: Осмотр СТО | B40: 0.03 | C40: 100 квартир | D40: =E40/B40 -> 27259.333 | E40: 817.78
... A54: Снятие и запись замера в наряде (ИТП,РХВ) | B54: 62 | C54: 1 ИТП | D54: =E54/B54 -> 271.4371 | E54: 16829.1
A55: Обслуживание и текущий ремонт конструктивных элементов
A56: Демонтаж-монтаж частей фановых труб | B56: 0.045 | C56: 100 м | D56: =E56/B56 -> 17049.556 | E56: 767.23
...

Sheet 2020
A1: Отчет по бюджету № 30/9-2020
A3: Период: с 01.01.2020 по 31.12.2020 года.
A5: ОБЩИЕ СВЕДЕНИЯ ОБ ОБЪЕКТЕ
A6: Этажность | B6: 9 | C6: Общая жилая площадь, м2 | D6: 4162.9 | E6: Площадь кровли, м2 | F6: 1196
A7: Количество подъездов | B7: 2 | C7: Площадь нежилых помещений, м2 | D7: 894.4 | E7: Площадь чердаков, м2 | F7: 545
A8: Количество квартир | B8: 88 | C8: Площадь л/ клеток, тамбуров, лифтов, м/камер, м2 | D8: 743.9 | E8: Площадь подвалов, м2 | F8: 488.6
A11: Наименование | F11: Значение
A12: Переходящие остатки денежных средств за выполненные работы (на начало периода; + резерв, - долг) | F12: 6922.707
A13: Задолженность по оплате за содержание и текущий ремонт общего имущества МКД (на начало периода) | F13: 243388.53
A14: Начислено за работы (услуги) по содержанию и текущему ремонту и аренду общего имущества МКД, в том числе: | F14: =SUM(F15:F17) -> 776123.62
A15: - за жилые помещения | F15: =724595.4-42836.47+3049.63 -> 684808.56
A16: - за нежилые помещения | F16: 87027.87
A17: - за рекламу и аренду общего имущества МКД | F17: 4287.19
A18: Получено денежных средств, в т. ч: | F18: =SUM(F19:F21) -> 773028.01
A19: - за жилые помещения | F19: =684506.16+3049.63 -> 687555.79
A20: - за нежилые помещения | F20: 81422.22
A21: - за рекламу и аренду общего имущества МКД | F21: 4050
A22: Всего денежных средств с учетом остатков | F22: =F12+F18 -> 779950.72
A23: Выполненные работы (оказанные услуги) по содержанию общего имущества и текущему ремонту в отчетном периоде | F23: =Лист1!E82 -> 879531.15
A24: Переходящие остатки денежных средств за выполненные работы (на конец периода; + резерв, - долг) | F24: =F22-F23 -> -99580.43
A25: Задолженность по оплате за содержание и текущий ремонт общего имущества МКД (на конец периода) | F25: =F13+F14-F18 -> 246484.14 | H25: =112067.53+134416.61 -> 246484.14
A27: Директор ООО "ТРЭК" Плотников А.А. __________________
A28: Отчет составил: экономист Осипова М.С. _______________
A29: Отчет получил: ________________________________________________________
A30: Дата __________________

Sheet Лист1
A2: .
B3: АКТ № 30/9
A4: приемки оказанных услуг и (или) выполненных работ по содержанию
A5: и текущему ремонту общего имущества в многоквартирном доме
A6: г. Ангарск | E6: 31 марта 2021 г.
A8: Собственники помещений в многоквартином доме, расположенном по адресу: ________________________ , именуемые в дальнейшем "Заказчик", в лице ___________________________________________________________________________________,
A9: являющегося собственником квартиры № _____, находящейся в данном многоквартирном доме, действующего на основании протокола общего собрания собственников, с одной стороны, и управляющая компания ООО "ТРЭК", именуемая в дальнейшем
A10: "Исполнитель", в лице директора Плотникова А.А., действующего на основании Устава, с другой стороны, совместно именуемые "Стороны", составили настоящий акт о нижеследующем:
A11: 1. Исполнителем предъявлены к приемке следующие оказанные на основании договора управления многоквартирным домом или договора оказания услуг по содержанию и (или) выполнению работ по ремонту общего имущества в многоквартирном
A12: доме, либо договора подряда по выполнению работ по ремонту общего имущества в многоквартирном доме (указать нужное) № _______ от "____" ___________________ ______ г. (далее - "Договор") услуги и (или) выполненные работы по содержанию
A13: и текущему ремонту общего имущества в многоквартирном доме № _____, расположенном по адресу: ______________________:
A15: Наименование вида работы (услуги) | B15: Периодичность / количественный показатель выполненной работы (оказанной услуги) | C15: Единица измерения работы (услуги) | D15: Стоимость / сметная стоимость выполненной работы (оказанной услуги) за единицу | E15: Цена выполненной работы (оказанной услуги), в рублях
A16: Аварийное обслуживание
A17: Аварийное обслуживание | B17: Ежедневно | C17: руб. | D17: 0.13 | E17: 7889.39
A18: Благоустройство и обеспечение санитарного состояния МКД и придомовой територии
A19: Дезинфекция мест общего пользования МКД | B19: По факту | C19: м2 | D19: =E19 -> 31243.8 | E19: 31243.8
A20: Окраска известковыми составами: по кирпичу и бетону (бордюр. столбики, столбы) | B20: По факту | C20: 100 м2 | D20: =E20 -> 1758.38 | E20: 1758.38
A21: Окраска известковыми составами: по кирпичу и бетону (бордюр. столбики, столбы) за 2019 год | B21: По факту | C21: 100 м2 | D21: =E21 -> 1597.15 | E21: 1597.15
A22: Уборка придомовой территории и лестничных клеток | B22: По тарифу | C22: м2 | D22: =E22 -> 412481.36 | E22: 412481.36
A23: Изготовление ключей
A24: Изготовление ключей | B24: По факту | C24: шт | D24: =E24 -> 300 | E24: 300
A25: Коммунальные ресурсы на содержание общ. имущества МКД
A26: Коммунальные ресурсы на содержание общего имущества МКД | B26: По факту | C26: руб. | D26: =E26 -> 81110.06 | E26: 81110.06
A27: Обслуживание и ремонт лифтов
A28: Страхование лифтов | B28: По договору | C28: руб. | D28: =E28 -> 3000 | E28: 3000
A29: Техническое обслуживание лифтов | B29: По договору | C29: руб. | D29: =E29 -> 72000 | E29: 72000
A30: Обслуживание и текущий ремонт инженерного оборудования
A31: Консервация системы отопления | B31: 4 | C31: 100 м | D31: =E31/B31 -> 616.125 | E31: 2464.5
A32: Монтаж полотенцесушителя | B32: 1 | C32: шт | D32: =E32/B32 -> 620.13 | E32: 620.13
A33: Осмотр кровли,чердака,подъездов,подвала,фасада-после землетр-ия, в т.ч. рем-т выявленных повреждений | B33: По факту | C33: 1000 м2 | D33: =E33 -> 2470.8 | E33: 2470.8
A34: Проверка работ-ти запорной арматуры, устранение мелких неисправностей, проверка работы ПУ РХВ | B34: 0.02 | C34: 100 шт. | D34: =E34/B34 -> 30441.5 | E34: 608.83
A35: Регулировка температуры отопления в ИТП вентилями | B35: 1 | C35: шт | D35: =E35/B35 -> 381.15 | E35: 381.15
A36: Замена колеса на контейнере | B36: 4 | C36: шт | D36: =E36/B36 -> 2434.7675 | E36: 9739.07
A37: Запуск потока воды: отопление, ГВС, ХВС | B37: 5 | C37: 1 узел | D37: =E37/B37 -> 100.862 | E37: 504.31
A38: Запуск системы отопления. | B38: 2 | C38: 1 здание | D38: =E38/B38 -> 1012.36 | E38: 2024.72
A39: Ликвидация воздушных пробок в системе отопления, в стояке | B39: 2 | C39: 1 стояк | D39: =E39/B39 -> 670.84 | E39: 1341.68
A40: Осмотр подвальных помещений | B40: 0.34 | C40: 1000 м2 | D40: =E40/B40 -> 1814.7647 | E40: 617.02
A41: Осмотр СТО | B41: 0.06 | C41: 100 квартир | D41: =E41/B41 -> 29644.667 | E41: 1778.68
A42: Осмотр СТО в чердачных и подвальных помещениях (весенний и осенний) | B42: 3.196 | C42: 1000 м2 | D42: =E42/B42 -> 2020.4819 | E42: 6457.46
A43: Осмотр, замеры, опломбировка ПУ Т/У с представителем | B43: 0.04 | C43: 100 шт. | D43: =E43/B43 -> 30120 | E43: 1204.8
...

Sheet 2021
A1: Отчет по бюджету № 30/9-2021
A3: Период: с 01.01.2021 по 31.12.2021 года.
A5: ОБЩИЕ СВЕДЕНИЯ ОБ ОБЪЕКТЕ
A6: Этажность | B6: 9 | C6: Общая жилая площадь, м2 | D6: 4162.9 | E6: Площадь кровли, м2 | F6: 1196
A7: Количество подъездов | B7: 2 | C7: Площадь нежилых помещений, м2 | D7: 531.4 | E7: Площадь чердаков, м2 | F7: 545
A8: Количество квартир | B8: 88 | C8: Площадь л/ клеток, тамбуров, лифтов, м/камер, м2 | D8: 743.9 | E8: Площадь подвалов, м2 | F8: 488.6
A11: Наименование | F11: Значение
A12: Переходящие остатки денежных средств за выполненные работы (на начало периода; + резерв, - долг) | F12: -99580.43
A13: Задолженность по оплате за содержание и текущий ремонт общего имущества МКД (на начало периода) | F13: 246484.14
A14: Начислено за работы (услуги) по содержанию и текущему ремонту и аренду общего имущества МКД, в том числе: | F14: =SUM(F15:F17) -> 809678.09
A15: - за жилые помещения | F15: 712275.15
A16: - за нежилые помещения | F16: 90922.94
A17: - за рекламу и аренду общего имущества МКД | F17: 6480
A18: Получено денежных средств, в т. ч: | F18: =SUM(F19:F21) -> 820769.66
A19: - за жилые помещения | F19: 710893.43
A20: - за нежилые помещения | F20: 99823.23
A21: - за рекламу и аренду общего имущества МКД | F21: 10053
A22: Всего денежных средств с учетом остатков | F22: =F12+F18 -> 721189.23
A23: Выполненные работы (оказанные услуги) по содержанию общего имущества и текущему ремонту в отчетном периоде | F23: =акт21!E92 -> 939210.64
A24: Переходящие остатки денежных средств за выполненные работы (на конец периода; + резерв, - долг) | F24: =F22-F23 -> -218021.4
A25: Задолженность по оплате за содержание и текущий ремонт общего имущества МКД (на конец периода) | F25: =F13+F14-F18 -> 235392.57
A27: Директор ООО "ТРЭК" Плотников А.А. __________________
A28: Отчет составил: экономист _______________
A29: Отчет получил: ________________________________________________________
A30: Дата __________________

Sheet акт21
A1: АКТ № 30/9
A2: приемки оказанных услуг и (или) выполненных работ по содержанию
A3: и текущему ремонту общего имущества в многоквартирном доме
A4: г. Ангарск | E4: 31 марта 2022 г.
A6: Собственники помещений в многоквартином доме, расположенном по адресу: ________________________ , именуемые в дальнейшем "Заказчик", в лице ___________________________________________________________________________________,
A7: являющегося собственником квартиры № _____, находящейся в данном многоквартирном доме, действующего на основании протокола общего собрания собственников, с одной стороны, и управляющая компания ООО "ТРЭК", именуемая в дальнейшем
A8: "Исполнитель", в лице директора Плотникова А.А., действующего на основании Устава, с другой стороны, совместно именуемые "Стороны", составили настоящий акт о нижеследующем:
A9: 1. Исполнителем предъявлены к приемке следующие оказанные на основании договора управления многоквартирным домом или договора оказания услуг по содержанию и (или) выполнению работ по ремонту общего имущества в многоквартирном
A10: доме, либо договора подряда по выполнению работ по ремонту общего имущества в многоквартирном доме (указать нужное) № _______ от "____" ___________________ ______ г. (далее - "Договор") услуги и (или) выполненные работы по содержанию
A11: и текущему ремонту общего имущества в многоквартирном доме № _____, расположенном по адресу: ______________________:
A13: Наименование вида работы (услуги) | B13: Периодичность / количественный показатель выполненной работы (оказанной услуги) | C13: Единица измерения работы (услуги) | D13: Стоимость / сметная стоимость выполненной работы (оказанной услуги) за единицу | E13: Цена выполненной работы (оказанной услуги), в рублях
A14: Аварийное обслуживание
A15: Аварийное обслуживание | B15: Ежедневно | C15: руб. | D15: 0.14 | E15: 6993.67
A16: Благоустройство и обеспечение санитарного состояния МКД и придомовой територии
A17: Устройство скамейки со спинкой и с окраской | B17: 1 | C17: шт | D17: =E17/B17 -> 5191.09 | E17: 5191.09
A18: Уборка придомовой территории и лестничных клеток | B18: По тарифу | C18: м2 | D18: =E18 -> 448481.4 | E18: 448481.4
A19: Коммунальные ресурсы на содержание общ. имущества МКД
A20: Коммунальные ресурсы на содержание общего имущества МКД | B20: По факту | C20: руб. | D20: =E20 -> 100993.19 | E20: 100993.19
A21: Обслуживание и ремонт лифтов
A22: Страхование лифтов | B22: По тарифу | C22: руб. | D22: =E22 -> 1500 | E22: 1500
A23: Техническое обслуживание лифтов | B23: По тарифу | C23: руб. | D23: =E23 -> 72000 | E23: 72000
A24: Ремонт лифта | B24: По факту | D24: =E24 -> 6000.69 | E24: 6000.69
A25: Тех.освидетельствование лифтов | B25: По факту | C25: руб. | D25: =E25 -> 7000 | E25: 7000
A26: Тех.освидетельствование строительных конструкций (крыльца) | B26: По факту | C26: руб. | D26: =E26 -> 15000 | E26: 15000
A27: Обслуживание и текущий ремонт инженерного оборудования
A28: Врезка в действующие внутренние сети трубопроводов отопления и водоснобжения д. 15мм | B28: 2 | C28: шт | D28: =E28/B28 -> 1287.355 | E28: 2574.71
A29: Запуск потока воды: отопление, ГВС, ХВС | B29: 8 | C29: 1 узел | D29: =E29/B29 -> 98.5225 | E29: 788.18
A30: Запуск системы отопления. | B30: 2 | C30: 1 здание | D30: =E30/B30 -> 1005.21 | E30: 2010.42
A31: Ликвидация воздушных пробок в системе отопления, в стояке | B31: 10 | C31: 1 стояк | D31: =E31/B31 -> 729.724 | E31: 7297.24
A32: Опрессовка ТУ диаметром: до 100 мм | B32: 2 | C32: 100 м | D32: =E32/B32 -> 961.795 | E32: 1923.59
A33: Осмотр и устранение мелких неисправностей на РХВ | B33: 1 | C33: шт | D33: =E33/B33 -> 149.54 | E33: 149.54
A34: Осмотр квартир | B34: 0.01 | C34: 100 квартир | D34: =E34/B34 -> 30546 | E34: 305.46
A35: Осмотр подвальных помещений (засоры, подпоры) прим. | B35: 0.27 | C35: 1000 м2 | D35: =E35/B35 -> 2009.7037 | E35: 542.62
A36: Осмотр подвальных помещений и выпуска при подпоре | B36: 1 | C36: 1 осмотр | D36: =E36/B36 -> 1102.95 | E36: 1102.95
A37: Осмотр СТО | B37: 0.01 | C37: 100 квартир | D37: =E37/B37 -> 30134 | E37: 301.34
A38: Осмотр СТО в ИТП, РХВ | B38: 0.01 | C38: 100 шт. | D38: =E38/B38 -> 28709 | E38: 287.09
A39: Осмотр СТО в чердачных и подвальных помещениях (весенний и осенний) | B39: 1.233 | C39: 1000 м2 | D39: =E39/B39 -> 2039.3268 | E39: 2514.49
... A52: Снятие и запись замера в наряде (ИТП,РХВ) | B52: 67 | C52: 1 ИТП | D52: =E52/B52 -> 302.63 | E52: 20276.21
A53: Обслуживание и текущий ремонт конструктивных элементов
A54: Газовая резка ацетиленом фиксаторов, скоб, косынок и др. | B54: 0.1 | C54: 10 шт. | D54: =E54/B54 -> 325.1 | E54: 32.51
...
